BEGIN:VCALENDAR
VERSION:2.0
PRODID:-//Nicole Johnston - ECPv6.15.20//NONSGML v1.0//EN
CALSCALE:GREGORIAN
METHOD:PUBLISH
X-ORIGINAL-URL:https://nicolejohnston.com.au
X-WR-CALDESC:Events for Nicole Johnston
REFRESH-INTERVAL;VALUE=DURATION:PT1H
X-Robots-Tag:noindex
X-PUBLISHED-TTL:PT1H
BEGIN:VTIMEZONE
TZID:Australia/Brisbane
BEGIN:STANDARD
TZOFFSETFROM:+1000
TZOFFSETTO:+1000
TZNAME:AEST
DTSTART:20220101T000000
END:STANDARD
END:VTIMEZONE
BEGIN:VEVENT
DTSTART;TZID=Australia/Brisbane:20240920T100000
DTEND;TZID=Australia/Brisbane:20240920T120000
DTSTAMP:20260424T162210
CREATED:20240821T000103Z
LAST-MODIFIED:20240827T043724Z
UID:28003-1726826400-1726833600@nicolejohnston.com.au
SUMMARY:Yeronga | Annerley Yeronga QCWA Fashion Parade and Morning Tea
DESCRIPTION:
URL:https://nicolejohnston.com.au/event/yeronga-annerley-yeronga-qcwa-fashion-parade-and-morning-tea/
LOCATION:Club Yeronga\, 391 Fairfield Rd\, Yeronga\, QLD\, 4104\, Australia
CATEGORIES:Community Event
ATTACH;FMTTYPE=image/png:https://nicolejohnston.com.au/wp-content/uploads/2024/08/Annerley-Yeronga-QCWA-Frocks-and-Fun-Fashion-Parade-1.png
END:VEVENT
BEGIN:VEVENT
DTSTART;TZID=Australia/Brisbane:20240830T100000
DTEND;TZID=Australia/Brisbane:20240830T120000
DTSTAMP:20260424T162210
CREATED:20240805T014543Z
LAST-MODIFIED:20240805T014554Z
UID:27558-1725012000-1725019200@nicolejohnston.com.au
SUMMARY:Yeronga | Annerley Yeronga QCWA Pumpkin Day
DESCRIPTION:RSVP by 23 August.
URL:https://nicolejohnston.com.au/event/yeronga-annerley-yeronga-qcwa-pumpkin-day/
LOCATION:Annerley Yeronga QCWA Hall\, 9 School Rd\, Yeronga\, QLD\, 4104\, Australia
CATEGORIES:Community Event
ATTACH;FMTTYPE=image/png:https://nicolejohnston.com.au/wp-content/uploads/2024/08/Annerley-Yeronga-QCWA-Pumpkin-Day-Flyer.png
END:VEVENT
BEGIN:VEVENT
DTSTART;TZID=Australia/Brisbane:20240531T100000
DTEND;TZID=Australia/Brisbane:20240531T120000
DTSTAMP:20260424T162210
CREATED:20240507T032948Z
LAST-MODIFIED:20240507T032949Z
UID:27215-1717149600-1717156800@nicolejohnston.com.au
SUMMARY:Yeronga | Annerley Yeronga QCWA International Day
DESCRIPTION:Join Annerley/Yeronga QCWA for their International Day event featuring Morocco. \n$10 entry includes a Moroccan-themed morning tea\, a ticket for the lucky door prize and a sample of Moroccan spice. \nRSVP before 24 May.
URL:https://nicolejohnston.com.au/event/yeronga-annerley-yeronga-qcwa-international-day/
LOCATION:Annerley Yeronga QCWA Hall\, 9 School Rd\, Yeronga\, QLD\, 4104\, Australia
CATEGORIES:Community Event
ATTACH;FMTTYPE=image/png:https://nicolejohnston.com.au/wp-content/uploads/2024/05/Annerley-Yeronga-QCWA-International-Day.png
END:VEVENT
BEGIN:VEVENT
DTSTART;TZID=Australia/Brisbane:20231020T100000
DTEND;TZID=Australia/Brisbane:20231020T120000
DTSTAMP:20260424T162210
CREATED:20230925T031715Z
LAST-MODIFIED:20230925T031716Z
UID:26934-1697796000-1697803200@nicolejohnston.com.au
SUMMARY:Yeronga | Annerley-Yeronga QCWA Christmas Cent Auction
DESCRIPTION:
URL:https://nicolejohnston.com.au/event/yeronga-annerley-yeronga-qcwa-christmas-cent-auction/
LOCATION:Annerley Yeronga QCWA Hall\, 9 School Rd\, Yeronga\, QLD\, 4104\, Australia
CATEGORIES:Community Event
ATTACH;FMTTYPE=image/png:https://nicolejohnston.com.au/wp-content/uploads/2023/09/Annerley-Yeronga-QCWA-Christmas-Cent-Auction.png
END:VEVENT
BEGIN:VEVENT
DTSTART;TZID=Australia/Brisbane:20230915T100000
DTEND;TZID=Australia/Brisbane:20230915T120000
DTSTAMP:20260424T162210
CREATED:20230807T002246Z
LAST-MODIFIED:20230807T002247Z
UID:26741-1694772000-1694779200@nicolejohnston.com.au
SUMMARY:Annerley Yeronga QCWA Fashion Parade and 95th Birthday Celebration
DESCRIPTION:The Annerley Yeronga QCWA are turning 95 years young! Join this wonderful local group for a fashion parade presented by Fashions on Mayfield to celebrate.
URL:https://nicolejohnston.com.au/event/annerley-yeronga-qcwa-fashion-parade-and-95th-birthday-celebration/
LOCATION:Annerley Yeronga QCWA Hall\, 9 School Rd\, Yeronga\, QLD\, 4104\, Australia
CATEGORIES:Community Event
ATTACH;FMTTYPE=image/png:https://nicolejohnston.com.au/wp-content/uploads/2023/08/Annerley-Yeronga-QCWA-FAshion-Parade.png
END:VEVENT
END:VCALENDAR