BEGIN:VCALENDAR
VERSION:2.0
PRODID:-//Nicole Johnston - ECPv6.15.20//NONSGML v1.0//EN
CALSCALE:GREGORIAN
METHOD:PUBLISH
X-WR-CALNAME:Nicole Johnston
X-ORIGINAL-URL:https://nicolejohnston.com.au
X-WR-CALDESC:Events for Nicole Johnston
REFRESH-INTERVAL;VALUE=DURATION:PT1H
X-Robots-Tag:noindex
X-PUBLISHED-TTL:PT1H
BEGIN:VTIMEZONE
TZID:Australia/Brisbane
BEGIN:STANDARD
TZOFFSETFROM:+1000
TZOFFSETTO:+1000
TZNAME:AEST
DTSTART:20250101T000000
END:STANDARD
END:VTIMEZONE
BEGIN:VEVENT
DTSTART;TZID=Australia/Brisbane:20260723T070000
DTEND;TZID=Australia/Brisbane:20260723T090000
DTSTAMP:20260424T080000
CREATED:20260119T014857Z
LAST-MODIFIED:20260119T014857Z
UID:31800-1784790000-1784797200@nicolejohnston.com.au
SUMMARY:Corinda | Creekcare: Blackheath Rd Park
DESCRIPTION:OCCA’s CreekCare Team is a roving group of volunteers that assists both OCCA Bushcare and Habitat Brisbane groups in Oxley Creek Catchment. The group meets at different regeneration sites each Thursday morning from 7 am to 9 am. \nCome along and enjoy the company of this hard working group of volunteers\, contribute to the maintenance of some significant sites in the catchment and share in morning tea. \nIf you are interested in being involved\, please contact the coordinator: Trevor Armstrong on 0414 691 264 or trevor.r.armstrong@gmail.com to confirm details of the next group.
URL:https://nicolejohnston.com.au/event/corinda-creekcare-blackheath-rd-park/2026-07-23/
LOCATION:Blackheath Road Park\, Corinda\, 154 Blackheath Rd\, Corinda\, Queensland\, 4075\, Australia
ORGANIZER;CN="Blackheath Road Park Bushcare Group":MAILTO:davojk22@gmail.com
END:VEVENT
BEGIN:VEVENT
DTSTART;TZID=Australia/Brisbane:20261029T070000
DTEND;TZID=Australia/Brisbane:20261029T090000
DTSTAMP:20260424T080000
CREATED:20260119T014857Z
LAST-MODIFIED:20260119T014857Z
UID:31801-1793257200-1793264400@nicolejohnston.com.au
SUMMARY:Corinda | Creekcare: Blackheath Rd Park
DESCRIPTION:OCCA’s CreekCare Team is a roving group of volunteers that assists both OCCA Bushcare and Habitat Brisbane groups in Oxley Creek Catchment. The group meets at different regeneration sites each Thursday morning from 7 am to 9 am. \nCome along and enjoy the company of this hard working group of volunteers\, contribute to the maintenance of some significant sites in the catchment and share in morning tea. \nIf you are interested in being involved\, please contact the coordinator: Trevor Armstrong on 0414 691 264 or trevor.r.armstrong@gmail.com to confirm details of the next group.
URL:https://nicolejohnston.com.au/event/corinda-creekcare-blackheath-rd-park/2026-10-29/
LOCATION:Blackheath Road Park\, Corinda\, 154 Blackheath Rd\, Corinda\, Queensland\, 4075\, Australia
ORGANIZER;CN="Blackheath Road Park Bushcare Group":MAILTO:davojk22@gmail.com
END:VEVENT
END:VCALENDAR