BEGIN:VCALENDAR
VERSION:2.0
PRODID:-//Nicole Johnston - ECPv6.15.20//NONSGML v1.0//EN
CALSCALE:GREGORIAN
METHOD:PUBLISH
X-WR-CALNAME:Nicole Johnston
X-ORIGINAL-URL:https://nicolejohnston.com.au
X-WR-CALDESC:Events for Nicole Johnston
REFRESH-INTERVAL;VALUE=DURATION:PT1H
X-Robots-Tag:noindex
X-PUBLISHED-TTL:PT1H
BEGIN:VTIMEZONE
TZID:Australia/Brisbane
BEGIN:STANDARD
TZOFFSETFROM:+1000
TZOFFSETTO:+1000
TZNAME:AEST
DTSTART:20240101T000000
END:STANDARD
END:VTIMEZONE
BEGIN:VEVENT
DTSTART;TZID=Australia/Brisbane:20250717T130000
DTEND;TZID=Australia/Brisbane:20250717T140000
DTSTAMP:20260424T215643
CREATED:20250605T002939Z
LAST-MODIFIED:20250605T002939Z
UID:29909-1752757200-1752760800@nicolejohnston.com.au
SUMMARY:Corinda | GOLD Aqua Yoga
DESCRIPTION:This is a low impact form of exercise that supports the body while still providing function and movement. Many yoga poses that you do in a class can be adapted for the pool\, sometimes using the pool walls as if it were the studio floor. \nThis is a GOLD event suitable for seniors. \nNo bookings required. For more information phone Nichola on 0406 574 454.
URL:https://nicolejohnston.com.au/event/corinda-gold-aqua-yoga-3/
LOCATION:Dunlop Park Memorial Pool\, 794 Oxley Rd\, Corinda\, Qld\, 4075\, Australia
GEO:-27.5473096;152.9806407
X-APPLE-STRUCTURED-LOCATION;VALUE=URI;X-ADDRESS=Dunlop Park Memorial Pool 794 Oxley Rd Corinda Qld 4075 Australia;X-APPLE-RADIUS=500;X-TITLE=794 Oxley Rd:geo:152.9806407,-27.5473096
END:VEVENT
BEGIN:VEVENT
DTSTART;TZID=Australia/Brisbane:20250717T090000
DTEND;TZID=Australia/Brisbane:20250717T100000
DTSTAMP:20260424T215643
CREATED:20250605T002757Z
LAST-MODIFIED:20250605T002757Z
UID:29907-1752742800-1752746400@nicolejohnston.com.au
SUMMARY:Sherwood | Tai Chi Qigong
DESCRIPTION:This dynamic activity is invigorating and will help you feel relaxed\, refreshed and calm. Rejuvenate your body and learn to create a tranquil mind. Join any week. \nNo bookings required. For more information phone Julia from Minds Ease on 0412 362 338. \nMeet at the picnic tables overlooking the river.
URL:https://nicolejohnston.com.au/event/sherwood-tai-chi-qigong-6/
LOCATION:Sherwood Arboretum\, 57 Dewar Terrace\, Sherwood\, Queensland\, 4075\, Australia
GEO:-27.532253;152.977305
X-APPLE-STRUCTURED-LOCATION;VALUE=URI;X-ADDRESS=Sherwood Arboretum 57 Dewar Terrace Sherwood Queensland 4075 Australia;X-APPLE-RADIUS=500;X-TITLE=57 Dewar Terrace:geo:152.977305,-27.532253
END:VEVENT
BEGIN:VEVENT
DTSTART;TZID=Australia/Brisbane:20250717T090000
DTEND;TZID=Australia/Brisbane:20250717T100000
DTSTAMP:20260424T215643
CREATED:20250605T002559Z
LAST-MODIFIED:20250605T002559Z
UID:29905-1752742800-1752746400@nicolejohnston.com.au
SUMMARY:Oxley | Mums and Bubs Yoga
DESCRIPTION:A mum and bubs yoga class to connect with yourself\, your baby and others. Designed to support you post-natally with gentle stretching and strengthening practices and breathing exercises. \nNo bookings required. For more information phone Nichola on 0406 574 454. \nBYO exercise mat. Meet near the playground.
URL:https://nicolejohnston.com.au/event/oxley-mums-and-bubs-yoga-7/
LOCATION:Nixon Park\, 929 Oxley Road\, OXLEY\, QLD\, 4075\, Australia
GEO:-27.552171;152.9789711
X-APPLE-STRUCTURED-LOCATION;VALUE=URI;X-ADDRESS=Nixon Park 929 Oxley Road OXLEY QLD 4075 Australia;X-APPLE-RADIUS=500;X-TITLE=929 Oxley Road:geo:152.9789711,-27.552171
END:VEVENT
BEGIN:VEVENT
DTSTART;TZID=Australia/Brisbane:20250716T083000
DTEND;TZID=Australia/Brisbane:20250716T093000
DTSTAMP:20260424T215643
CREATED:20250605T002234Z
LAST-MODIFIED:20250605T002234Z
UID:29901-1752654600-1752658200@nicolejohnston.com.au
SUMMARY:Yeronga | GOLD Yoga for Mobility
DESCRIPTION:A gentle movement class blended with yoga to improve your strength\, balance and posture. No floor work included. Suitable for all fitness levels. An exercise band is required. \nThis is a GOLD event suitable for seniors. \nNo bookings required. For more information phone Cassie from Foxinsox Yoga on 0431 594 388. \nBYO exercise band. Meet under the large shady trees opposite Cansdale Street and right of the playground.
URL:https://nicolejohnston.com.au/event/yeronga-gold-yoga-for-mobility-2/
LOCATION:John Walker Place\, 323 Brisbane Corso\, Yeronga\, QLD\, 4104\, Australia
END:VEVENT
BEGIN:VEVENT
DTSTART;TZID=Australia/Brisbane:20250708T160500
DTEND;TZID=Australia/Brisbane:20250708T163500
DTSTAMP:20260424T215643
CREATED:20250605T001735Z
LAST-MODIFIED:20250605T001735Z
UID:29895-1751990700-1751992500@nicolejohnston.com.au
SUMMARY:Oxley | GOLD'n'Kids Fun Soccer
DESCRIPTION:Watch the kids enjoy exciting soccer activities and games! Grandparents are welcome to participate in the gentle\, low-impact activities. Whether you’re cheering from the sidelines or playing alongside them\, it’s all about making memories together! This is a GOLD’n’Kids event suitable for seniors and young people 6-7 years. \nBookings essential. To book visit Ginger Sport . For more information email us at info@gingersport.com.au. \nMeet at the park next to the outdoor gym.
URL:https://nicolejohnston.com.au/event/oxley-goldnkids-fun-soccer-2/
LOCATION:Nixon Park\, 929 Oxley Road\, OXLEY\, QLD\, 4075\, Australia
GEO:-27.552171;152.9789711
X-APPLE-STRUCTURED-LOCATION;VALUE=URI;X-ADDRESS=Nixon Park 929 Oxley Road OXLEY QLD 4075 Australia;X-APPLE-RADIUS=500;X-TITLE=929 Oxley Road:geo:152.9789711,-27.552171
END:VEVENT
BEGIN:VEVENT
DTSTART;TZID=Australia/Brisbane:20250708T153000
DTEND;TZID=Australia/Brisbane:20250708T160000
DTSTAMP:20260424T215643
CREATED:20250605T001607Z
LAST-MODIFIED:20250605T001607Z
UID:29893-1751988600-1751990400@nicolejohnston.com.au
SUMMARY:Oxley | GOLD'n'Kids Fun Soccer
DESCRIPTION:Watch the kids enjoy exciting soccer activities and games! Grandparents are welcome to participate in the gentle\, low-impact activities. Whether you’re cheering from the sidelines or playing alongside them\, it’s all about making memories together! This is a GOLD’n’Kids event suitable for seniors and young people 4-5 years \nBookings essential. To book visit Ginger Sport. For more information email us at info@gingersport.com.au. \nMeet at the park next to the outdoor gym.
URL:https://nicolejohnston.com.au/event/oxley-goldnkids-fun-soccer/
LOCATION:Nixon Park\, 929 Oxley Road\, OXLEY\, QLD\, 4075\, Australia
GEO:-27.552171;152.9789711
X-APPLE-STRUCTURED-LOCATION;VALUE=URI;X-ADDRESS=Nixon Park 929 Oxley Road OXLEY QLD 4075 Australia;X-APPLE-RADIUS=500;X-TITLE=929 Oxley Road:geo:152.9789711,-27.552171
END:VEVENT
BEGIN:VEVENT
DTSTART;TZID=Australia/Brisbane:20250704T133000
DTEND;TZID=Australia/Brisbane:20250704T153000
DTSTAMP:20260424T215643
CREATED:20250605T001412Z
LAST-MODIFIED:20250605T001412Z
UID:29891-1751635800-1751643000@nicolejohnston.com.au
SUMMARY:Graceville | GOLD'n'Kids Passport Adventure
DESCRIPTION:Come and join in the fun of this adventure walk. Every family who comes along will receive a Passport with a list of key features to find including scenery and animals. Your family will work together as a team to find all the special locations\, then get them stamped in your passport. Siblings under 3 years of age are welcome to attend for free. This is a Gold’n’Kids event suitable for seniors and young people 3 years and over. \nBookings essential. To book visit Bazil Grumble. For more information phone 0411 246 487. \nMeet at Simpsons playground.
URL:https://nicolejohnston.com.au/event/graceville-goldnkids-passport-adventure-2/
LOCATION:Graceville Riverside Parklands\, Graceville Avenue\, Graceville\, Queensland\, 4075\, Australia
GEO:-27.5228793;152.9875616
X-APPLE-STRUCTURED-LOCATION;VALUE=URI;X-ADDRESS=Graceville Riverside Parklands Graceville Avenue Graceville Queensland 4075 Australia;X-APPLE-RADIUS=500;X-TITLE=Graceville Avenue:geo:152.9875616,-27.5228793
END:VEVENT
BEGIN:VEVENT
DTSTART;TZID=Australia/Brisbane:20250701T160500
DTEND;TZID=Australia/Brisbane:20250701T163500
DTSTAMP:20260424T215643
CREATED:20250605T001225Z
LAST-MODIFIED:20250605T001225Z
UID:29889-1751385900-1751387700@nicolejohnston.com.au
SUMMARY:Yeronga | GOLD'n'Kids Fun Soccer
DESCRIPTION:Watch the kids enjoy exciting soccer activities and games! Grandparents are welcome to participate in the gentle\, low-impact activities. Whether you’re cheering from the sidelines or playing alongside them\, it’s all about making memories together! This is a GOLD’n’Kids event suitable for seniors and young people 6-7 years. \nBookings essential. To book visit Ginger Sport. For more information email us at info@gingersport.com.au. \nMeet on the grassed area near the Yeronga Girl Guides building. Best parking is Villa Street or Frederick Street.
URL:https://nicolejohnston.com.au/event/yeronga-goldnkids-fun-soccer-2/
LOCATION:Yeronga Memorial Park\, School Road\, Yeronga\, Queensland\, 4104\, Australia
GEO:-27.5212612;153.0201362
X-APPLE-STRUCTURED-LOCATION;VALUE=URI;X-ADDRESS=Yeronga Memorial Park School Road Yeronga Queensland 4104 Australia;X-APPLE-RADIUS=500;X-TITLE=School Road:geo:153.0201362,-27.5212612
END:VEVENT
BEGIN:VEVENT
DTSTART;TZID=Australia/Brisbane:20250701T153000
DTEND;TZID=Australia/Brisbane:20250701T160000
DTSTAMP:20260424T215643
CREATED:20250605T001050Z
LAST-MODIFIED:20250605T001050Z
UID:29887-1751383800-1751385600@nicolejohnston.com.au
SUMMARY:Yeronga | GOLD'n'Kids Fun Soccer
DESCRIPTION:Watch the kids enjoy exciting soccer activities and games! Grandparents are welcome to participate in the gentle\, low-impact activities. Whether you’re cheering from the sidelines or playing alongside them\, it’s all about making memories together! This is a GOLD’n’Kids event suitable for seniors and young people 4-5 years. \nBookings essential. To book visit Ginger Sport. For more information email us at info@gingersport.com.au. \nMeet on the grassed area near the Yeronga Girl Guides building. Best parking is Villa Street or Frederick Street.
URL:https://nicolejohnston.com.au/event/yeronga-goldnkids-fun-soccer/
LOCATION:Yeronga Memorial Park\, School Road\, Yeronga\, Queensland\, 4104\, Australia
GEO:-27.5212612;153.0201362
X-APPLE-STRUCTURED-LOCATION;VALUE=URI;X-ADDRESS=Yeronga Memorial Park School Road Yeronga Queensland 4104 Australia;X-APPLE-RADIUS=500;X-TITLE=School Road:geo:153.0201362,-27.5212612
END:VEVENT
BEGIN:VEVENT
DTSTART;TZID=Australia/Brisbane:20250615T080000
DTEND;TZID=Australia/Brisbane:20250615T120000
DTSTAMP:20260424T215643
CREATED:20250603T055629Z
LAST-MODIFIED:20250603T055631Z
UID:29831-1749974400-1749988800@nicolejohnston.com.au
SUMMARY:Stones Corner | Pop-Up Pooch Party
DESCRIPTION:
URL:https://nicolejohnston.com.au/event/stones-corner-pop-up-pooch-party/
LOCATION:Hanlon Park\, 56 Junction St\, Stones Corner\, Queensland\, 4120\, Australia
CATEGORIES:Community Event
ATTACH;FMTTYPE=image/png:https://nicolejohnston.com.au/wp-content/uploads/2025/06/Pooch-Party.png
END:VEVENT
BEGIN:VEVENT
DTSTART;TZID=Australia/Brisbane:20250608T080000
DTEND;TZID=Australia/Brisbane:20250608T090000
DTSTAMP:20260424T215643
CREATED:20250113T034335Z
LAST-MODIFIED:20250113T034335Z
UID:29062-1749369600-1749373200@nicolejohnston.com.au
SUMMARY:Fairfield | GOLD Tai Chi Qigong
DESCRIPTION:This dynamic activity is invigorating and will help you feel relaxed\, refreshed and calm. Rejuvenate your body and learn to create a tranquil mind. Join any week. \nThis is a GOLD event suitable for seniors. Meet near the playground\, off Sydney Street. \nFor more information phone Julian from Australian Academy of Tai Chi on 0439 073 860.
URL:https://nicolejohnston.com.au/event/fairfield-gold-tai-chi-qigong-2/2025-06-08/
LOCATION:Robinson Park\, 221 Fairfield Road\, Fairfield\, Queensland\, 4103\, Australia
GEO:-27.5099948;153.023042
X-APPLE-STRUCTURED-LOCATION;VALUE=URI;X-ADDRESS=Robinson Park 221 Fairfield Road Fairfield Queensland 4103 Australia;X-APPLE-RADIUS=500;X-TITLE=221 Fairfield Road:geo:153.023042,-27.5099948
END:VEVENT
BEGIN:VEVENT
DTSTART;TZID=Australia/Brisbane:20250607T130000
DTEND;TZID=Australia/Brisbane:20250607T140000
DTSTAMP:20260424T215643
CREATED:20241212T005708Z
LAST-MODIFIED:20241212T005708Z
UID:29029-1749301200-1749304800@nicolejohnston.com.au
SUMMARY:Corinda | Deep Water Running
DESCRIPTION:This is an aquatic workout that uses all major muscle groups. Participants wear a buoyancy belt so there’s no need to worry about being in deep water however you do require basic swimming skills. Classes will be held in the outdoor 50m pool. \nFor more information phone or text Aqua English on 0406 063 737.
URL:https://nicolejohnston.com.au/event/corinda-deep-water-running-3/2025-06-07/
LOCATION:Dunlop Park Memorial Pool\, 794 Oxley Rd\, Corinda\, Qld\, 4075\, Australia
GEO:-27.5473096;152.9806407
X-APPLE-STRUCTURED-LOCATION;VALUE=URI;X-ADDRESS=Dunlop Park Memorial Pool 794 Oxley Rd Corinda Qld 4075 Australia;X-APPLE-RADIUS=500;X-TITLE=794 Oxley Rd:geo:152.9806407,-27.5473096
END:VEVENT
BEGIN:VEVENT
DTSTART;TZID=Australia/Brisbane:20250607T110000
DTEND;TZID=Australia/Brisbane:20250607T120000
DTSTAMP:20260424T215643
CREATED:20250113T042246Z
LAST-MODIFIED:20250113T042246Z
UID:29181-1749294000-1749297600@nicolejohnston.com.au
SUMMARY:Yeronga | Deep Water Running
DESCRIPTION:This is an aquatic workout that uses all major muscle groups. Participants wear a buoyancy belt so there’s no need to worry about being in deep water however you do require basic swimming skills. Classes will be held in the outdoor 25m/50m pool. \nThis is an aquatic workout that uses all major muscle groups. Participants wear a buoyancy belt so there’s no need to worry about being in deep water however you do require basic swimming skills. Classes will be held in the outdoor 25m/50m pool. \nAll participants must bring their own buoyancy belt and towel.
URL:https://nicolejohnston.com.au/event/yeronga-deep-water-running-6/2025-06-07/
LOCATION:Yeronga Park Pool\, 81 School Rd\, Yeronga\, Qld\, 4104\, Australia
GEO:-27.5210935;153.019099
X-APPLE-STRUCTURED-LOCATION;VALUE=URI;X-ADDRESS=Yeronga Park Pool 81 School Rd Yeronga Qld 4104 Australia;X-APPLE-RADIUS=500;X-TITLE=81 School Rd:geo:153.019099,-27.5210935
END:VEVENT
BEGIN:VEVENT
DTSTART;TZID=Australia/Brisbane:20250607T070000
DTEND;TZID=Australia/Brisbane:20250607T080000
DTSTAMP:20260424T215643
CREATED:20241113T060545Z
LAST-MODIFIED:20241113T060545Z
UID:28997-1749279600-1749283200@nicolejohnston.com.au
SUMMARY:Annerley | Yoga
DESCRIPTION:Focus on a range of movements to relax the mind and body. Stretching\, breathing\, strength and balance exercises are included by incorporating standing poses and mat work into the session. \nFor more information phone Deanna from Yoga Mind Body Brisbane on 0401 247 328.
URL:https://nicolejohnston.com.au/event/annerley-yoga-9/2025-06-07/
LOCATION:Vallely St Park\, 51 Vallely Street\, Annerley\, QLD\, 4103\, Australia
END:VEVENT
BEGIN:VEVENT
DTSTART;TZID=Australia/Brisbane:20250606T163000
DTEND;TZID=Australia/Brisbane:20250606T173000
DTSTAMP:20260424T215643
CREATED:20250516T043534Z
LAST-MODIFIED:20250516T043534Z
UID:29786-1749227400-1749231000@nicolejohnston.com.au
SUMMARY:Graceville | Obstacle Training Circuit
DESCRIPTION:Join us for an exciting obstacle training circuit! Develop new skills and techniques on the obstacle course while building strength and improving your fitness. It’s a fun and energising session you won’t want to miss. \nNo bookings required.  For more information phone Emma from Centenary Playground on 0419 592 777.
URL:https://nicolejohnston.com.au/event/graceville-obstacle-training-circuit-5/
LOCATION:Graceville Riverside Parklands\, Graceville Avenue\, Graceville\, Queensland\, 4075\, Australia
GEO:-27.5228793;152.9875616
X-APPLE-STRUCTURED-LOCATION;VALUE=URI;X-ADDRESS=Graceville Riverside Parklands Graceville Avenue Graceville Queensland 4075 Australia;X-APPLE-RADIUS=500;X-TITLE=Graceville Avenue:geo:152.9875616,-27.5228793
END:VEVENT
BEGIN:VEVENT
DTSTART;TZID=Australia/Brisbane:20250606T143000
DTEND;TZID=Australia/Brisbane:20250606T160000
DTSTAMP:20260424T215643
CREATED:20250113T035246Z
LAST-MODIFIED:20250113T035246Z
UID:29080-1749220200-1749225600@nicolejohnston.com.au
SUMMARY:Graceville | Beginning Lawn Bowls
DESCRIPTION:An introduction to the sport of lawn bowls. A sport that helps to build leg and core strength\, stability and coordination in a friendly social environment. \nThis is a GOLD event suitable for seniors. \nFor bookings phone or text David on 0407 894 727 or email dschonfe@bigpond.net.au.
URL:https://nicolejohnston.com.au/event/graceville-beginning-lawn-bowls-2/2025-06-06/
LOCATION:Graceville Bowls Club\, 16 Wylie St\, Graceville\, Qld\, 4075\, Australia
END:VEVENT
BEGIN:VEVENT
DTSTART;TZID=Australia/Brisbane:20250605T130000
DTEND;TZID=Australia/Brisbane:20250605T140000
DTSTAMP:20260424T215643
CREATED:20241212T005526Z
LAST-MODIFIED:20241212T005526Z
UID:29012-1749128400-1749132000@nicolejohnston.com.au
SUMMARY:Corinda | Aqua Yoga
DESCRIPTION:This is a low impact form of exercise that supports the body while still providing function and movement. Many yoga poses that you do in a class can be adapted for the pool\, sometimes using the pool walls as if it were the studio floor. \nThis is a GOLD event suitable for seniors. \nFor more information phone Nichola on 0406 574 454.
URL:https://nicolejohnston.com.au/event/corinda-aqua-yoga-6/2025-06-05/
LOCATION:Dunlop Park Memorial Pool\, 794 Oxley Rd\, Corinda\, Qld\, 4075\, Australia
GEO:-27.5473096;152.9806407
X-APPLE-STRUCTURED-LOCATION;VALUE=URI;X-ADDRESS=Dunlop Park Memorial Pool 794 Oxley Rd Corinda Qld 4075 Australia;X-APPLE-RADIUS=500;X-TITLE=794 Oxley Rd:geo:152.9806407,-27.5473096
END:VEVENT
BEGIN:VEVENT
DTSTART;TZID=Australia/Brisbane:20250605T090000
DTEND;TZID=Australia/Brisbane:20250605T100000
DTSTAMP:20260424T215643
CREATED:20241212T010414Z
LAST-MODIFIED:20241212T010414Z
UID:29090-1749114000-1749117600@nicolejohnston.com.au
SUMMARY:Oxley | Mums and Bubs Yoga
DESCRIPTION:A mum and bubs yoga class to connect with yourself\, your baby and others. Designed to support you post-natally\, gentle stretching and strengthening practices\, breathing exercises\, meditation. \nFor more information phone Nichola on 0406 574 454.
URL:https://nicolejohnston.com.au/event/oxley-mums-and-bubs-yoga-6/2025-06-05/
LOCATION:Nixon Park\, 929 Oxley Road\, OXLEY\, QLD\, 4075\, Australia
GEO:-27.552171;152.9789711
X-APPLE-STRUCTURED-LOCATION;VALUE=URI;X-ADDRESS=Nixon Park 929 Oxley Road OXLEY QLD 4075 Australia;X-APPLE-RADIUS=500;X-TITLE=929 Oxley Road:geo:152.9789711,-27.552171
END:VEVENT
BEGIN:VEVENT
DTSTART;TZID=Australia/Brisbane:20250605T090000
DTEND;TZID=Australia/Brisbane:20250605T100000
DTSTAMP:20260424T215643
CREATED:20241113T053629Z
LAST-MODIFIED:20241113T053629Z
UID:29106-1749114000-1749117600@nicolejohnston.com.au
SUMMARY:Sherwood | Tai Chi Qigong
DESCRIPTION:This dynamic activity is invigorating and will help you feel relaxed\, refreshed and calm. Rejuvenate your body and learn to create a tranquil mind. Join any week. \nFor more information phone Julia from Minds Ease on 0412 362 338.
URL:https://nicolejohnston.com.au/event/sherwood-tai-chi-qigong-5/2025-06-05/
LOCATION:Sherwood Arboretum\, 57 Dewar Terrace\, Sherwood\, Queensland\, 4075\, Australia
GEO:-27.532253;152.977305
X-APPLE-STRUCTURED-LOCATION;VALUE=URI;X-ADDRESS=Sherwood Arboretum 57 Dewar Terrace Sherwood Queensland 4075 Australia;X-APPLE-RADIUS=500;X-TITLE=57 Dewar Terrace:geo:152.977305,-27.532253
END:VEVENT
BEGIN:VEVENT
DTSTART;TZID=Australia/Brisbane:20250604T083000
DTEND;TZID=Australia/Brisbane:20250604T093000
DTSTAMP:20260424T215643
CREATED:20241113T051229Z
LAST-MODIFIED:20241113T051229Z
UID:29155-1749025800-1749029400@nicolejohnston.com.au
SUMMARY:Yeronga | Yoga for Mobility
DESCRIPTION:A gentle movement class blended with yoga to improve your strength\, balance and posture. No floor work included. Suitable for all fitness levels. \nFor more information phone Cassie from Foxinsox Yoga on 0431 594 388.
URL:https://nicolejohnston.com.au/event/yeronga-yoga-for-mobility/2025-06-04/
LOCATION:John Walker Place\, 323 Brisbane Corso\, Yeronga\, QLD\, 4104\, Australia
END:VEVENT
BEGIN:VEVENT
DTSTART;TZID=Australia/Brisbane:20250601T080000
DTEND;TZID=Australia/Brisbane:20250601T090000
DTSTAMP:20260424T215643
CREATED:20250113T034335Z
LAST-MODIFIED:20250113T034335Z
UID:29061-1748764800-1748768400@nicolejohnston.com.au
SUMMARY:Fairfield | GOLD Tai Chi Qigong
DESCRIPTION:This dynamic activity is invigorating and will help you feel relaxed\, refreshed and calm. Rejuvenate your body and learn to create a tranquil mind. Join any week. \nThis is a GOLD event suitable for seniors. Meet near the playground\, off Sydney Street. \nFor more information phone Julian from Australian Academy of Tai Chi on 0439 073 860.
URL:https://nicolejohnston.com.au/event/fairfield-gold-tai-chi-qigong-2/2025-06-01/
LOCATION:Robinson Park\, 221 Fairfield Road\, Fairfield\, Queensland\, 4103\, Australia
GEO:-27.5099948;153.023042
X-APPLE-STRUCTURED-LOCATION;VALUE=URI;X-ADDRESS=Robinson Park 221 Fairfield Road Fairfield Queensland 4103 Australia;X-APPLE-RADIUS=500;X-TITLE=221 Fairfield Road:geo:153.023042,-27.5099948
END:VEVENT
BEGIN:VEVENT
DTSTART;TZID=Australia/Brisbane:20250531T130000
DTEND;TZID=Australia/Brisbane:20250531T140000
DTSTAMP:20260424T215643
CREATED:20241212T005708Z
LAST-MODIFIED:20241212T005708Z
UID:29028-1748696400-1748700000@nicolejohnston.com.au
SUMMARY:Corinda | Deep Water Running
DESCRIPTION:This is an aquatic workout that uses all major muscle groups. Participants wear a buoyancy belt so there’s no need to worry about being in deep water however you do require basic swimming skills. Classes will be held in the outdoor 50m pool. \nFor more information phone or text Aqua English on 0406 063 737.
URL:https://nicolejohnston.com.au/event/corinda-deep-water-running-3/2025-05-31/
LOCATION:Dunlop Park Memorial Pool\, 794 Oxley Rd\, Corinda\, Qld\, 4075\, Australia
GEO:-27.5473096;152.9806407
X-APPLE-STRUCTURED-LOCATION;VALUE=URI;X-ADDRESS=Dunlop Park Memorial Pool 794 Oxley Rd Corinda Qld 4075 Australia;X-APPLE-RADIUS=500;X-TITLE=794 Oxley Rd:geo:152.9806407,-27.5473096
END:VEVENT
BEGIN:VEVENT
DTSTART;TZID=Australia/Brisbane:20250531T110000
DTEND;TZID=Australia/Brisbane:20250531T120000
DTSTAMP:20260424T215643
CREATED:20250113T042246Z
LAST-MODIFIED:20250113T042246Z
UID:29180-1748689200-1748692800@nicolejohnston.com.au
SUMMARY:Yeronga | Deep Water Running
DESCRIPTION:This is an aquatic workout that uses all major muscle groups. Participants wear a buoyancy belt so there’s no need to worry about being in deep water however you do require basic swimming skills. Classes will be held in the outdoor 25m/50m pool. \nThis is an aquatic workout that uses all major muscle groups. Participants wear a buoyancy belt so there’s no need to worry about being in deep water however you do require basic swimming skills. Classes will be held in the outdoor 25m/50m pool. \nAll participants must bring their own buoyancy belt and towel.
URL:https://nicolejohnston.com.au/event/yeronga-deep-water-running-6/2025-05-31/
LOCATION:Yeronga Park Pool\, 81 School Rd\, Yeronga\, Qld\, 4104\, Australia
GEO:-27.5210935;153.019099
X-APPLE-STRUCTURED-LOCATION;VALUE=URI;X-ADDRESS=Yeronga Park Pool 81 School Rd Yeronga Qld 4104 Australia;X-APPLE-RADIUS=500;X-TITLE=81 School Rd:geo:153.019099,-27.5210935
END:VEVENT
BEGIN:VEVENT
DTSTART;TZID=Australia/Brisbane:20250531T070000
DTEND;TZID=Australia/Brisbane:20250531T080000
DTSTAMP:20260424T215643
CREATED:20241113T060545Z
LAST-MODIFIED:20241113T060545Z
UID:28996-1748674800-1748678400@nicolejohnston.com.au
SUMMARY:Annerley | Yoga
DESCRIPTION:Focus on a range of movements to relax the mind and body. Stretching\, breathing\, strength and balance exercises are included by incorporating standing poses and mat work into the session. \nFor more information phone Deanna from Yoga Mind Body Brisbane on 0401 247 328.
URL:https://nicolejohnston.com.au/event/annerley-yoga-9/2025-05-31/
LOCATION:Vallely St Park\, 51 Vallely Street\, Annerley\, QLD\, 4103\, Australia
END:VEVENT
BEGIN:VEVENT
DTSTART;TZID=Australia/Brisbane:20250530T163000
DTEND;TZID=Australia/Brisbane:20250530T173000
DTSTAMP:20260424T215643
CREATED:20250516T043429Z
LAST-MODIFIED:20250516T043429Z
UID:29784-1748622600-1748626200@nicolejohnston.com.au
SUMMARY:Graceville | Obstacle Training Circuit
DESCRIPTION:Join us for an exciting obstacle training circuit! Develop new skills and techniques on the obstacle course while building strength and improving your fitness. It’s a fun and energising session you won’t want to miss. \nNo bookings required.  For more information phone Emma from Centenary Playground on 0419 592 777.
URL:https://nicolejohnston.com.au/event/graceville-obstacle-training-circuit-4/
LOCATION:Graceville Riverside Parklands\, Graceville Avenue\, Graceville\, Queensland\, 4075\, Australia
GEO:-27.5228793;152.9875616
X-APPLE-STRUCTURED-LOCATION;VALUE=URI;X-ADDRESS=Graceville Riverside Parklands Graceville Avenue Graceville Queensland 4075 Australia;X-APPLE-RADIUS=500;X-TITLE=Graceville Avenue:geo:152.9875616,-27.5228793
END:VEVENT
BEGIN:VEVENT
DTSTART;TZID=Australia/Brisbane:20250530T143000
DTEND;TZID=Australia/Brisbane:20250530T160000
DTSTAMP:20260424T215643
CREATED:20250113T035246Z
LAST-MODIFIED:20250113T035246Z
UID:29079-1748615400-1748620800@nicolejohnston.com.au
SUMMARY:Graceville | Beginning Lawn Bowls
DESCRIPTION:An introduction to the sport of lawn bowls. A sport that helps to build leg and core strength\, stability and coordination in a friendly social environment. \nThis is a GOLD event suitable for seniors. \nFor bookings phone or text David on 0407 894 727 or email dschonfe@bigpond.net.au.
URL:https://nicolejohnston.com.au/event/graceville-beginning-lawn-bowls-2/2025-05-30/
LOCATION:Graceville Bowls Club\, 16 Wylie St\, Graceville\, Qld\, 4075\, Australia
END:VEVENT
BEGIN:VEVENT
DTSTART;TZID=Australia/Brisbane:20250529T130000
DTEND;TZID=Australia/Brisbane:20250529T140000
DTSTAMP:20260424T215643
CREATED:20241212T005526Z
LAST-MODIFIED:20241212T005526Z
UID:29011-1748523600-1748527200@nicolejohnston.com.au
SUMMARY:Corinda | Aqua Yoga
DESCRIPTION:This is a low impact form of exercise that supports the body while still providing function and movement. Many yoga poses that you do in a class can be adapted for the pool\, sometimes using the pool walls as if it were the studio floor. \nThis is a GOLD event suitable for seniors. \nFor more information phone Nichola on 0406 574 454.
URL:https://nicolejohnston.com.au/event/corinda-aqua-yoga-6/2025-05-29/
LOCATION:Dunlop Park Memorial Pool\, 794 Oxley Rd\, Corinda\, Qld\, 4075\, Australia
GEO:-27.5473096;152.9806407
X-APPLE-STRUCTURED-LOCATION;VALUE=URI;X-ADDRESS=Dunlop Park Memorial Pool 794 Oxley Rd Corinda Qld 4075 Australia;X-APPLE-RADIUS=500;X-TITLE=794 Oxley Rd:geo:152.9806407,-27.5473096
END:VEVENT
BEGIN:VEVENT
DTSTART;TZID=Australia/Brisbane:20250529T090000
DTEND;TZID=Australia/Brisbane:20250529T100000
DTSTAMP:20260424T215643
CREATED:20241212T010414Z
LAST-MODIFIED:20241212T010414Z
UID:29089-1748509200-1748512800@nicolejohnston.com.au
SUMMARY:Oxley | Mums and Bubs Yoga
DESCRIPTION:A mum and bubs yoga class to connect with yourself\, your baby and others. Designed to support you post-natally\, gentle stretching and strengthening practices\, breathing exercises\, meditation. \nFor more information phone Nichola on 0406 574 454.
URL:https://nicolejohnston.com.au/event/oxley-mums-and-bubs-yoga-6/2025-05-29/
LOCATION:Nixon Park\, 929 Oxley Road\, OXLEY\, QLD\, 4075\, Australia
GEO:-27.552171;152.9789711
X-APPLE-STRUCTURED-LOCATION;VALUE=URI;X-ADDRESS=Nixon Park 929 Oxley Road OXLEY QLD 4075 Australia;X-APPLE-RADIUS=500;X-TITLE=929 Oxley Road:geo:152.9789711,-27.552171
END:VEVENT
BEGIN:VEVENT
DTSTART;TZID=Australia/Brisbane:20250529T090000
DTEND;TZID=Australia/Brisbane:20250529T100000
DTSTAMP:20260424T215643
CREATED:20241113T053629Z
LAST-MODIFIED:20241113T053629Z
UID:29105-1748509200-1748512800@nicolejohnston.com.au
SUMMARY:Sherwood | Tai Chi Qigong
DESCRIPTION:This dynamic activity is invigorating and will help you feel relaxed\, refreshed and calm. Rejuvenate your body and learn to create a tranquil mind. Join any week. \nFor more information phone Julia from Minds Ease on 0412 362 338.
URL:https://nicolejohnston.com.au/event/sherwood-tai-chi-qigong-5/2025-05-29/
LOCATION:Sherwood Arboretum\, 57 Dewar Terrace\, Sherwood\, Queensland\, 4075\, Australia
GEO:-27.532253;152.977305
X-APPLE-STRUCTURED-LOCATION;VALUE=URI;X-ADDRESS=Sherwood Arboretum 57 Dewar Terrace Sherwood Queensland 4075 Australia;X-APPLE-RADIUS=500;X-TITLE=57 Dewar Terrace:geo:152.977305,-27.532253
END:VEVENT
BEGIN:VEVENT
DTSTART;TZID=Australia/Brisbane:20250528T083000
DTEND;TZID=Australia/Brisbane:20250528T093000
DTSTAMP:20260424T215643
CREATED:20241113T051229Z
LAST-MODIFIED:20241113T051229Z
UID:29154-1748421000-1748424600@nicolejohnston.com.au
SUMMARY:Yeronga | Yoga for Mobility
DESCRIPTION:A gentle movement class blended with yoga to improve your strength\, balance and posture. No floor work included. Suitable for all fitness levels. \nFor more information phone Cassie from Foxinsox Yoga on 0431 594 388.
URL:https://nicolejohnston.com.au/event/yeronga-yoga-for-mobility/2025-05-28/
LOCATION:John Walker Place\, 323 Brisbane Corso\, Yeronga\, QLD\, 4104\, Australia
END:VEVENT
END:VCALENDAR