BEGIN:VCALENDAR
VERSION:2.0
PRODID:-//Nicole Johnston - ECPv6.15.20//NONSGML v1.0//EN
CALSCALE:GREGORIAN
METHOD:PUBLISH
X-ORIGINAL-URL:https://nicolejohnston.com.au
X-WR-CALDESC:Events for Nicole Johnston
REFRESH-INTERVAL;VALUE=DURATION:PT1H
X-Robots-Tag:noindex
X-PUBLISHED-TTL:PT1H
BEGIN:VTIMEZONE
TZID:Australia/Brisbane
BEGIN:STANDARD
TZOFFSETFROM:+1000
TZOFFSETTO:+1000
TZNAME:AEST
DTSTART:20150101T000000
END:STANDARD
END:VTIMEZONE
BEGIN:VEVENT
DTSTART;TZID=Australia/Brisbane:20160617T170000
DTEND;TZID=Australia/Brisbane:20160617T210000
DTSTAMP:20260424T215449
CREATED:20160613T040404Z
LAST-MODIFIED:20160613T040429Z
UID:9323-1466182800-1466197200@nicolejohnston.com.au
SUMMARY:Chelmer Station Kindy Lantern Parade
DESCRIPTION:For more information\, please visit the event page here
URL:https://nicolejohnston.com.au/event/chelmer-station-kindy-lantern-parade/
LOCATION:Faulkner Park\, Waratah Avenue\, Graceville\, Qld\, 4075\, Australia
ORGANIZER;CN="Chelmer Station Kindergarten":MAILTO:admin@chelmerstationkindy.com.au
GEO:-27.5180351;152.9824596
X-APPLE-STRUCTURED-LOCATION;VALUE=URI;X-ADDRESS=Faulkner Park Waratah Avenue Graceville Qld 4075 Australia;X-APPLE-RADIUS=500;X-TITLE=Waratah Avenue:geo:152.9824596,-27.5180351
END:VEVENT
END:VCALENDAR