BEGIN:VCALENDAR
VERSION:2.0
PRODID:-//Nicole Johnston - ECPv6.15.20//NONSGML v1.0//EN
CALSCALE:GREGORIAN
METHOD:PUBLISH
X-ORIGINAL-URL:https://nicolejohnston.com.au
X-WR-CALDESC:Events for Nicole Johnston
REFRESH-INTERVAL;VALUE=DURATION:PT1H
X-Robots-Tag:noindex
X-PUBLISHED-TTL:PT1H
BEGIN:VTIMEZONE
TZID:Australia/Brisbane
BEGIN:STANDARD
TZOFFSETFROM:+1000
TZOFFSETTO:+1000
TZNAME:AEST
DTSTART:20140101T000000
END:STANDARD
END:VTIMEZONE
BEGIN:VEVENT
DTSTART;TZID=Australia/Brisbane:20230611T110000
DTEND;TZID=Australia/Brisbane:20230611T160000
DTSTAMP:20260424T193232
CREATED:20230524T063302Z
LAST-MODIFIED:20230524T063304Z
UID:26140-1686481200-1686499200@nicolejohnston.com.au
SUMMARY:Graceville | CTK Graceville Fair
DESCRIPTION:
URL:https://nicolejohnston.com.au/event/graceville-ctk-graceville-fair/
LOCATION:Christ the King School\, 7 Randolph St\, Graceville\, Queensland\, 4075\, Australia
CATEGORIES:Community Event
ATTACH;FMTTYPE=image/png:https://nicolejohnston.com.au/wp-content/uploads/2023/05/CTK-Graceville-Fair.png
GEO:-27.519436;152.977299
X-APPLE-STRUCTURED-LOCATION;VALUE=URI;X-ADDRESS=Christ the King School 7 Randolph St Graceville Queensland 4075 Australia;X-APPLE-RADIUS=500;X-TITLE=7 Randolph St:geo:152.977299,-27.519436
END:VEVENT
BEGIN:VEVENT
DTSTART;TZID=Australia/Brisbane:20180729T070000
DTEND;TZID=Australia/Brisbane:20180729T093000
DTSTAMP:20260424T193232
CREATED:20180613T014635Z
LAST-MODIFIED:20180613T014635Z
UID:17410-1532847600-1532856600@nicolejohnston.com.au
SUMMARY:Graceville | Christ the King Fun Run
DESCRIPTION:
URL:https://nicolejohnston.com.au/event/graceville-christ-the-king-fun-run/
LOCATION:Simpsons Playground\, cnr Graceville Ave and Nadine St\,  Graceville\, Qld\, 4075\, Australia
GEO:-27.5235837;152.9920697
X-APPLE-STRUCTURED-LOCATION;VALUE=URI;X-ADDRESS=Simpsons Playground cnr Graceville Ave and Nadine St  Graceville Qld 4075 Australia;X-APPLE-RADIUS=500;X-TITLE=cnr Graceville Ave and Nadine St:geo:152.9920697,-27.5235837
END:VEVENT
BEGIN:VEVENT
DTSTART;TZID=Australia/Brisbane:20160731T080000
DTEND;TZID=Australia/Brisbane:20160731T090000
DTSTAMP:20260424T193232
CREATED:20160624T055605Z
LAST-MODIFIED:20160624T055605Z
UID:9390-1469952000-1469955600@nicolejohnston.com.au
SUMMARY:Christ the King Fun Run
DESCRIPTION:2km or 5km options. Meet at Simpsons Playground. \nFor more info on course map\, prizes and how to enter\, visit CTK Graceville Fun Run Facebook page here
URL:https://nicolejohnston.com.au/event/christ-the-king-fun-run/
LOCATION:Simpsons Playground\, cnr Graceville Ave and Nadine St\,  Graceville\, Qld\, 4075\, Australia
GEO:-27.5235837;152.9920697
X-APPLE-STRUCTURED-LOCATION;VALUE=URI;X-ADDRESS=Simpsons Playground cnr Graceville Ave and Nadine St  Graceville Qld 4075 Australia;X-APPLE-RADIUS=500;X-TITLE=cnr Graceville Ave and Nadine St:geo:152.9920697,-27.5235837
END:VEVENT
BEGIN:VEVENT
DTSTART;TZID=Australia/Brisbane:20160717T090000
DTEND;TZID=Australia/Brisbane:20160717T150000
DTSTAMP:20260424T193232
CREATED:20160707T223704Z
LAST-MODIFIED:20160707T223704Z
UID:9474-1468746000-1468767600@nicolejohnston.com.au
SUMMARY:Christ the King Fete
DESCRIPTION:St Joseph’s Primary School Fete is also on from 9am until 3pm on Sunday 17 July.  \nBring your family and friends for a great day filled with stalls\, performances and activities along with lots of free events and entertainment. You could also be the lucky winner of a trip to Hamilton Island! \nTickle your tastebuds at the sweets\, jam and pickle stall and sample delicious Indian\, Chinese and Vietnamese Cuisine! Be entertained by the St Joey’s band and choir and performances by the local dance school and karate group. Don’t forget the famous Trash and Treasure stall is on again this year. \nI look forward to seeing you there for food\, rides and fun! \n 
URL:https://nicolejohnston.com.au/event/christ-the-king-fete/
LOCATION:Christ the King School\, 7 Randolph St\, Graceville\, Queensland\, 4075\, Australia
GEO:-27.519436;152.977299
X-APPLE-STRUCTURED-LOCATION;VALUE=URI;X-ADDRESS=Christ the King School 7 Randolph St Graceville Queensland 4075 Australia;X-APPLE-RADIUS=500;X-TITLE=7 Randolph St:geo:152.977299,-27.519436
END:VEVENT
BEGIN:VEVENT
DTSTART;TZID=Australia/Brisbane:20150614T100000
DTEND;TZID=Australia/Brisbane:20150614T160000
DTSTAMP:20260424T193232
CREATED:20150601T021826Z
LAST-MODIFIED:20150601T021826Z
UID:3166-1434276000-1434297600@nicolejohnston.com.au
SUMMARY:Christ the King School Fete
DESCRIPTION:Garage Sale from 6am \nRides ~ Stalls ~ Food ~ Entertainment
URL:https://nicolejohnston.com.au/event/christ-the-king-school-fete/
LOCATION:Christ the King School\, 7 Randolph St\, Graceville\, Queensland\, 4075\, Australia
GEO:-27.519436;152.977299
X-APPLE-STRUCTURED-LOCATION;VALUE=URI;X-ADDRESS=Christ the King School 7 Randolph St Graceville Queensland 4075 Australia;X-APPLE-RADIUS=500;X-TITLE=7 Randolph St:geo:152.977299,-27.519436
END:VEVENT
END:VCALENDAR