BEGIN:VCALENDAR
VERSION:2.0
PRODID:-//Nicole Johnston - ECPv6.15.20//NONSGML v1.0//EN
CALSCALE:GREGORIAN
METHOD:PUBLISH
X-WR-CALNAME:Nicole Johnston
X-ORIGINAL-URL:https://nicolejohnston.com.au
X-WR-CALDESC:Events for Nicole Johnston
REFRESH-INTERVAL;VALUE=DURATION:PT1H
X-Robots-Tag:noindex
X-PUBLISHED-TTL:PT1H
BEGIN:VTIMEZONE
TZID:Australia/Brisbane
BEGIN:STANDARD
TZOFFSETFROM:+1000
TZOFFSETTO:+1000
TZNAME:AEST
DTSTART:20250101T000000
END:STANDARD
END:VTIMEZONE
BEGIN:VEVENT
DTSTART;TZID=Australia/Brisbane:20260424T091500
DTEND;TZID=Australia/Brisbane:20260424T094500
DTSTAMP:20260424T060417
CREATED:20260318T020751Z
LAST-MODIFIED:20260318T020751Z
UID:32318-1777022100-1777023900@nicolejohnston.com.au
SUMMARY:Corinda Library | First 5 Forever Babies\, Books and Rhymes
DESCRIPTION:Meet other parents and babies for a fun rhyme time session of singing\, clapping and dancing. Learn songs and action rhymes to nurture your baby’s pre-literacy\, communication\, language and social skills. Ideal for babies aged up to one year.
URL:https://nicolejohnston.com.au/event/corinda-library-first-5-forever-babies-books-and-rhymes-69/
LOCATION:Corinda Library\, 641 Oxley Road\, Corinda\, Queensland\, 4075\, Australia
GEO:-27.538881;152.98142
X-APPLE-STRUCTURED-LOCATION;VALUE=URI;X-ADDRESS=Corinda Library 641 Oxley Road Corinda Queensland 4075 Australia;X-APPLE-RADIUS=500;X-TITLE=641 Oxley Road:geo:152.98142,-27.538881
END:VEVENT
BEGIN:VEVENT
DTSTART;TZID=Australia/Brisbane:20260430T091500
DTEND;TZID=Australia/Brisbane:20260430T094500
DTSTAMP:20260424T060417
CREATED:20260318T022347Z
LAST-MODIFIED:20260318T022347Z
UID:32330-1777540500-1777542300@nicolejohnston.com.au
SUMMARY:Corinda Library | First 5 Forever Toddler Time
DESCRIPTION:Meet other parents and toddlers for a fun session of singing\, clapping and dancing. Learn action rhymes and songs which will help your child’s pre-literacy\, communication\, language and social skills. Ideal for babies and toddlers aged 1-2 years.
URL:https://nicolejohnston.com.au/event/corinda-library-first-5-forever-toddler-time-71/
LOCATION:Corinda Library\, 641 Oxley Road\, Corinda\, Queensland\, 4075\, Australia
GEO:-27.538881;152.98142
X-APPLE-STRUCTURED-LOCATION;VALUE=URI;X-ADDRESS=Corinda Library 641 Oxley Road Corinda Queensland 4075 Australia;X-APPLE-RADIUS=500;X-TITLE=641 Oxley Road:geo:152.98142,-27.538881
END:VEVENT
BEGIN:VEVENT
DTSTART;TZID=Australia/Brisbane:20260501T091500
DTEND;TZID=Australia/Brisbane:20260501T094500
DTSTAMP:20260424T060417
CREATED:20260318T022650Z
LAST-MODIFIED:20260318T022650Z
UID:32334-1777626900-1777628700@nicolejohnston.com.au
SUMMARY:Corinda Library | First 5 Forever Babies\, Books and Rhymes
DESCRIPTION:Meet other parents and babies for a fun rhyme time session of singing\, clapping and dancing. Learn songs and action rhymes to nurture your baby’s pre-literacy\, communication\, language and social skills. Ideal for babies aged up to one year.
URL:https://nicolejohnston.com.au/event/corinda-library-first-5-forever-babies-books-and-rhymes-70/
LOCATION:Corinda Library\, 641 Oxley Road\, Corinda\, Queensland\, 4075\, Australia
GEO:-27.538881;152.98142
X-APPLE-STRUCTURED-LOCATION;VALUE=URI;X-ADDRESS=Corinda Library 641 Oxley Road Corinda Queensland 4075 Australia;X-APPLE-RADIUS=500;X-TITLE=641 Oxley Road:geo:152.98142,-27.538881
END:VEVENT
BEGIN:VEVENT
DTSTART;TZID=Australia/Brisbane:20260507T091500
DTEND;TZID=Australia/Brisbane:20260507T094500
DTSTAMP:20260424T060417
CREATED:20260318T032338Z
LAST-MODIFIED:20260318T032338Z
UID:32350-1778145300-1778147100@nicolejohnston.com.au
SUMMARY:Corinda Library | First 5 Forever Toddler Time
DESCRIPTION:Meet other parents and toddlers for a fun session of singing\, clapping and dancing. Learn action rhymes and songs which will help your child’s pre-literacy\, communication\, language and social skills. Ideal for babies and toddlers aged 1-2 years.
URL:https://nicolejohnston.com.au/event/corinda-library-first-5-forever-toddler-time-72/
LOCATION:Corinda Library\, 641 Oxley Road\, Corinda\, Queensland\, 4075\, Australia
GEO:-27.538881;152.98142
X-APPLE-STRUCTURED-LOCATION;VALUE=URI;X-ADDRESS=Corinda Library 641 Oxley Road Corinda Queensland 4075 Australia;X-APPLE-RADIUS=500;X-TITLE=641 Oxley Road:geo:152.98142,-27.538881
END:VEVENT
BEGIN:VEVENT
DTSTART;TZID=Australia/Brisbane:20260508T091500
DTEND;TZID=Australia/Brisbane:20260508T094500
DTSTAMP:20260424T060417
CREATED:20260318T032618Z
LAST-MODIFIED:20260318T032618Z
UID:32354-1778231700-1778233500@nicolejohnston.com.au
SUMMARY:Corinda Library | First 5 Forever Babies\, Books and Rhymes
DESCRIPTION:Meet other parents and babies for a fun rhyme time session of singing\, clapping and dancing. Learn songs and action rhymes to nurture your baby’s pre-literacy\, communication\, language and social skills. Ideal for babies aged up to one year.
URL:https://nicolejohnston.com.au/event/corinda-library-first-5-forever-babies-books-and-rhymes-71/
LOCATION:Corinda Library\, 641 Oxley Road\, Corinda\, Queensland\, 4075\, Australia
GEO:-27.538881;152.98142
X-APPLE-STRUCTURED-LOCATION;VALUE=URI;X-ADDRESS=Corinda Library 641 Oxley Road Corinda Queensland 4075 Australia;X-APPLE-RADIUS=500;X-TITLE=641 Oxley Road:geo:152.98142,-27.538881
END:VEVENT
BEGIN:VEVENT
DTSTART;TZID=Australia/Brisbane:20260514T091500
DTEND;TZID=Australia/Brisbane:20260514T094500
DTSTAMP:20260424T060417
CREATED:20260318T033835Z
LAST-MODIFIED:20260318T033835Z
UID:32368-1778750100-1778751900@nicolejohnston.com.au
SUMMARY:Corinda Library | First 5 Forever Toddler Time
DESCRIPTION:Meet other parents and toddlers for a fun session of singing\, clapping and dancing. Learn action rhymes and songs which will help your child’s pre-literacy\, communication\, language and social skills. Ideal for babies and toddlers aged 1-2 years.
URL:https://nicolejohnston.com.au/event/corinda-library-first-5-forever-toddler-time-73/
LOCATION:Corinda Library\, 641 Oxley Road\, Corinda\, Queensland\, 4075\, Australia
GEO:-27.538881;152.98142
X-APPLE-STRUCTURED-LOCATION;VALUE=URI;X-ADDRESS=Corinda Library 641 Oxley Road Corinda Queensland 4075 Australia;X-APPLE-RADIUS=500;X-TITLE=641 Oxley Road:geo:152.98142,-27.538881
END:VEVENT
BEGIN:VEVENT
DTSTART;TZID=Australia/Brisbane:20260514T153000
DTEND;TZID=Australia/Brisbane:20260514T163000
DTSTAMP:20260424T060417
CREATED:20260318T033930Z
LAST-MODIFIED:20260318T033930Z
UID:32370-1778772600-1778776200@nicolejohnston.com.au
SUMMARY:Corinda Library | Family STEAM
DESCRIPTION:Bring your family and friends for fun and games and activities\, exploring emerging technologies\, robotics\, coding\, science\, communication and art. Ideal for children of all ages and their families. \nBookings required. Phone Corinda Library on 07 3407 7701 to reserve your place.
URL:https://nicolejohnston.com.au/event/corinda-library-family-steam-11/
LOCATION:Corinda Library\, 641 Oxley Road\, Corinda\, Queensland\, 4075\, Australia
GEO:-27.538881;152.98142
X-APPLE-STRUCTURED-LOCATION;VALUE=URI;X-ADDRESS=Corinda Library 641 Oxley Road Corinda Queensland 4075 Australia;X-APPLE-RADIUS=500;X-TITLE=641 Oxley Road:geo:152.98142,-27.538881
END:VEVENT
BEGIN:VEVENT
DTSTART;TZID=Australia/Brisbane:20260515T091500
DTEND;TZID=Australia/Brisbane:20260515T094500
DTSTAMP:20260424T060417
CREATED:20260318T034222Z
LAST-MODIFIED:20260318T034222Z
UID:32374-1778836500-1778838300@nicolejohnston.com.au
SUMMARY:Corinda Library | First 5 Forever Babies\, Books and Rhymes
DESCRIPTION:Meet other parents and babies for a fun rhyme time session of singing\, clapping and dancing. Learn songs and action rhymes to nurture your baby’s pre-literacy\, communication\, language and social skills. Ideal for babies aged up to one year.
URL:https://nicolejohnston.com.au/event/corinda-library-first-5-forever-babies-books-and-rhymes-72/
LOCATION:Corinda Library\, 641 Oxley Road\, Corinda\, Queensland\, 4075\, Australia
GEO:-27.538881;152.98142
X-APPLE-STRUCTURED-LOCATION;VALUE=URI;X-ADDRESS=Corinda Library 641 Oxley Road Corinda Queensland 4075 Australia;X-APPLE-RADIUS=500;X-TITLE=641 Oxley Road:geo:152.98142,-27.538881
END:VEVENT
BEGIN:VEVENT
DTSTART;TZID=Australia/Brisbane:20260521T091500
DTEND;TZID=Australia/Brisbane:20260521T094500
DTSTAMP:20260424T060417
CREATED:20260318T035345Z
LAST-MODIFIED:20260318T035345Z
UID:32388-1779354900-1779356700@nicolejohnston.com.au
SUMMARY:Corinda Library | First 5 Forever Toddler Time
DESCRIPTION:Meet other parents and toddlers for a fun session of singing\, clapping and dancing. Learn action rhymes and songs which will help your child’s pre-literacy\, communication\, language and social skills. Ideal for babies and toddlers aged 1-2 years.
URL:https://nicolejohnston.com.au/event/corinda-library-first-5-forever-toddler-time-74/
LOCATION:Corinda Library\, 641 Oxley Road\, Corinda\, Queensland\, 4075\, Australia
GEO:-27.538881;152.98142
X-APPLE-STRUCTURED-LOCATION;VALUE=URI;X-ADDRESS=Corinda Library 641 Oxley Road Corinda Queensland 4075 Australia;X-APPLE-RADIUS=500;X-TITLE=641 Oxley Road:geo:152.98142,-27.538881
END:VEVENT
BEGIN:VEVENT
DTSTART;TZID=Australia/Brisbane:20260522T091500
DTEND;TZID=Australia/Brisbane:20260522T094500
DTSTAMP:20260424T060417
CREATED:20260318T040129Z
LAST-MODIFIED:20260318T040129Z
UID:32394-1779441300-1779443100@nicolejohnston.com.au
SUMMARY:Corinda Library | First 5 Forever Babies\, Books and Rhymes
DESCRIPTION:Meet other parents and babies for a fun rhyme time session of singing\, clapping and dancing. Learn songs and action rhymes to nurture your baby’s pre-literacy\, communication\, language and social skills. Ideal for babies aged up to one year.
URL:https://nicolejohnston.com.au/event/corinda-library-first-5-forever-babies-books-and-rhymes-73/
LOCATION:Corinda Library\, 641 Oxley Road\, Corinda\, Queensland\, 4075\, Australia
GEO:-27.538881;152.98142
X-APPLE-STRUCTURED-LOCATION;VALUE=URI;X-ADDRESS=Corinda Library 641 Oxley Road Corinda Queensland 4075 Australia;X-APPLE-RADIUS=500;X-TITLE=641 Oxley Road:geo:152.98142,-27.538881
END:VEVENT
BEGIN:VEVENT
DTSTART;TZID=Australia/Brisbane:20260527T110000
DTEND;TZID=Australia/Brisbane:20260527T113000
DTSTAMP:20260424T060417
CREATED:20260318T040910Z
LAST-MODIFIED:20260318T040910Z
UID:32406-1779879600-1779881400@nicolejohnston.com.au
SUMMARY:Corinda Library | National Simultaneous Storytime: Luna Roo – The Kangaroo Baller
DESCRIPTION:On Wednesday 27 May\, children in libraries\, kindies and schools all over Australia will sit down for a reading of Luna Roo – The Kangaroo Baller for National Simultaneous storytime. This exciting event aims to promote the value of reading and literacy. Come along to share in the joy! Ideal for children aged 3-5 years. \nBookings required. Phone Corinda Library on 07 3407 7701 to reserve your place.
URL:https://nicolejohnston.com.au/event/corinda-library-national-simultaneous-storytime-luna-roo-the-kangaroo-baller/
LOCATION:Corinda Library\, 641 Oxley Road\, Corinda\, Queensland\, 4075\, Australia
GEO:-27.538881;152.98142
X-APPLE-STRUCTURED-LOCATION;VALUE=URI;X-ADDRESS=Corinda Library 641 Oxley Road Corinda Queensland 4075 Australia;X-APPLE-RADIUS=500;X-TITLE=641 Oxley Road:geo:152.98142,-27.538881
END:VEVENT
BEGIN:VEVENT
DTSTART;TZID=Australia/Brisbane:20260528T091500
DTEND;TZID=Australia/Brisbane:20260528T094500
DTSTAMP:20260424T060417
CREATED:20260318T041102Z
LAST-MODIFIED:20260318T041102Z
UID:32410-1779959700-1779961500@nicolejohnston.com.au
SUMMARY:Corinda Library | First 5 Forever Toddler Time
DESCRIPTION:Meet other parents and toddlers for a fun session of singing\, clapping and dancing. Learn action rhymes and songs which will help your child’s pre-literacy\, communication\, language and social skills.
URL:https://nicolejohnston.com.au/event/corinda-library-first-5-forever-toddler-time-75/
LOCATION:Corinda Library\, 641 Oxley Road\, Corinda\, Queensland\, 4075\, Australia
GEO:-27.538881;152.98142
X-APPLE-STRUCTURED-LOCATION;VALUE=URI;X-ADDRESS=Corinda Library 641 Oxley Road Corinda Queensland 4075 Australia;X-APPLE-RADIUS=500;X-TITLE=641 Oxley Road:geo:152.98142,-27.538881
END:VEVENT
BEGIN:VEVENT
DTSTART;TZID=Australia/Brisbane:20260529T091500
DTEND;TZID=Australia/Brisbane:20260529T094500
DTSTAMP:20260424T060417
CREATED:20260318T041405Z
LAST-MODIFIED:20260318T041405Z
UID:32416-1780046100-1780047900@nicolejohnston.com.au
SUMMARY:Corinda Library | First 5 Forever Babies\, Books and Rhymes
DESCRIPTION:Meet other parents and babies for a fun rhyme time session of singing\, clapping and dancing. Learn songs and action rhymes to nurture your baby’s pre-literacy\, communication\, language and social skills. Ideal for babies aged up to one year.
URL:https://nicolejohnston.com.au/event/corinda-library-first-5-forever-babies-books-and-rhymes-74/
LOCATION:Corinda Library\, 641 Oxley Road\, Corinda\, Queensland\, 4075\, Australia
GEO:-27.538881;152.98142
X-APPLE-STRUCTURED-LOCATION;VALUE=URI;X-ADDRESS=Corinda Library 641 Oxley Road Corinda Queensland 4075 Australia;X-APPLE-RADIUS=500;X-TITLE=641 Oxley Road:geo:152.98142,-27.538881
END:VEVENT
END:VCALENDAR