BEGIN:VCALENDAR
VERSION:2.0
PRODID:-//Nicole Johnston - ECPv6.15.20//NONSGML v1.0//EN
CALSCALE:GREGORIAN
METHOD:PUBLISH
X-ORIGINAL-URL:https://nicolejohnston.com.au
X-WR-CALDESC:Events for Nicole Johnston
REFRESH-INTERVAL;VALUE=DURATION:PT1H
X-Robots-Tag:noindex
X-PUBLISHED-TTL:PT1H
BEGIN:VTIMEZONE
TZID:Australia/Brisbane
BEGIN:STANDARD
TZOFFSETFROM:+1000
TZOFFSETTO:+1000
TZNAME:AEST
DTSTART:20240101T000000
END:STANDARD
END:VTIMEZONE
BEGIN:VEVENT
DTSTART;TZID=Australia/Brisbane:20250703T091500
DTEND;TZID=Australia/Brisbane:20250703T094500
DTSTAMP:20260425T014526
CREATED:20250516T031348Z
LAST-MODIFIED:20250516T031348Z
UID:29721-1751534100-1751535900@nicolejohnston.com.au
SUMMARY:Corinda Library | First 5 Forever Toddler Time
DESCRIPTION:Meet other parents and toddlers for a fun session of singing\, clapping and dancing. Learn action rhymes and songs which will help your child’s pre-literacy\, communication\, language and social skills. Ideal for babies and toddlers aged 1-2 years.
URL:https://nicolejohnston.com.au/event/corinda-library-first-5-forever-toddler-time-38/
LOCATION:Corinda Library\, 641 Oxley Road\, Corinda\, Queensland\, 4075\, Australia
GEO:-27.538881;152.98142
X-APPLE-STRUCTURED-LOCATION;VALUE=URI;X-ADDRESS=Corinda Library 641 Oxley Road Corinda Queensland 4075 Australia;X-APPLE-RADIUS=500;X-TITLE=641 Oxley Road:geo:152.98142,-27.538881
END:VEVENT
BEGIN:VEVENT
DTSTART;TZID=Australia/Brisbane:20250627T091500
DTEND;TZID=Australia/Brisbane:20250627T094500
DTSTAMP:20260425T014526
CREATED:20250516T031248Z
LAST-MODIFIED:20250516T031248Z
UID:29719-1751015700-1751017500@nicolejohnston.com.au
SUMMARY:Corinda Library | First 5 Forever Babies\, Books and Rhymes
DESCRIPTION:Meet other parents and babies for a fun session of singing\, clapping and dancing. Learn songs and action rhymes to nurture your baby’s pre-literacy\, communication\, language and social skills. Ideal for babies aged up to one year.
URL:https://nicolejohnston.com.au/event/corinda-library-first-5-forever-babies-books-and-rhymes-37/
LOCATION:Corinda Library\, 641 Oxley Road\, Corinda\, Queensland\, 4075\, Australia
GEO:-27.538881;152.98142
X-APPLE-STRUCTURED-LOCATION;VALUE=URI;X-ADDRESS=Corinda Library 641 Oxley Road Corinda Queensland 4075 Australia;X-APPLE-RADIUS=500;X-TITLE=641 Oxley Road:geo:152.98142,-27.538881
END:VEVENT
BEGIN:VEVENT
DTSTART;TZID=Australia/Brisbane:20250626T091500
DTEND;TZID=Australia/Brisbane:20250626T094500
DTSTAMP:20260425T014526
CREATED:20250516T030830Z
LAST-MODIFIED:20250516T030830Z
UID:29717-1750929300-1750931100@nicolejohnston.com.au
SUMMARY:Corinda Library | First 5 Forever Toddler Time
DESCRIPTION:Meet other parents and toddlers for a fun session of singing\, clapping and dancing. Learn action rhymes and songs which will help your child’s pre-literacy\, communication\, language and social skills. Ideal for babies and toddlers aged 1-2 years.
URL:https://nicolejohnston.com.au/event/corinda-library-first-5-forever-toddler-time-37/
LOCATION:Corinda Library\, 641 Oxley Road\, Corinda\, Queensland\, 4075\, Australia
GEO:-27.538881;152.98142
X-APPLE-STRUCTURED-LOCATION;VALUE=URI;X-ADDRESS=Corinda Library 641 Oxley Road Corinda Queensland 4075 Australia;X-APPLE-RADIUS=500;X-TITLE=641 Oxley Road:geo:152.98142,-27.538881
END:VEVENT
BEGIN:VEVENT
DTSTART;TZID=Australia/Brisbane:20250620T091500
DTEND;TZID=Australia/Brisbane:20250620T094500
DTSTAMP:20260425T014526
CREATED:20250516T030610Z
LAST-MODIFIED:20250516T030610Z
UID:29715-1750410900-1750412700@nicolejohnston.com.au
SUMMARY:Corinda Library | First 5 Forever Babies\, Books and Rhymes
DESCRIPTION:Meet other parents and babies for a fun session of singing\, clapping and dancing. Learn songs and action rhymes to nurture your baby’s pre-literacy\, communication\, language and social skills. Ideal for babies aged up to one year.
URL:https://nicolejohnston.com.au/event/corinda-library-first-5-forever-babies-books-and-rhymes-36/
LOCATION:Corinda Library\, 641 Oxley Road\, Corinda\, Queensland\, 4075\, Australia
GEO:-27.538881;152.98142
X-APPLE-STRUCTURED-LOCATION;VALUE=URI;X-ADDRESS=Corinda Library 641 Oxley Road Corinda Queensland 4075 Australia;X-APPLE-RADIUS=500;X-TITLE=641 Oxley Road:geo:152.98142,-27.538881
END:VEVENT
BEGIN:VEVENT
DTSTART;TZID=Australia/Brisbane:20250619T091500
DTEND;TZID=Australia/Brisbane:20250619T094500
DTSTAMP:20260425T014526
CREATED:20250516T030236Z
LAST-MODIFIED:20250516T030236Z
UID:29713-1750324500-1750326300@nicolejohnston.com.au
SUMMARY:Corinda Library | First 5 Forever Toddler Time
DESCRIPTION:Meet other parents and toddlers for a fun session of singing\, clapping and dancing. Learn action rhymes and songs which will help your child’s pre-literacy\, communication\, language and social skills. Ideal for babies and toddlers aged 1-2 years.
URL:https://nicolejohnston.com.au/event/corinda-library-first-5-forever-toddler-time-36/
LOCATION:Corinda Library\, 641 Oxley Road\, Corinda\, Queensland\, 4075\, Australia
GEO:-27.538881;152.98142
X-APPLE-STRUCTURED-LOCATION;VALUE=URI;X-ADDRESS=Corinda Library 641 Oxley Road Corinda Queensland 4075 Australia;X-APPLE-RADIUS=500;X-TITLE=641 Oxley Road:geo:152.98142,-27.538881
END:VEVENT
BEGIN:VEVENT
DTSTART;TZID=Australia/Brisbane:20250614T100000
DTEND;TZID=Australia/Brisbane:20250614T130000
DTSTAMP:20260425T014526
CREATED:20250516T022736Z
LAST-MODIFIED:20250516T032034Z
UID:29711-1749895200-1749906000@nicolejohnston.com.au
SUMMARY:Corinda Library | Learn to Knit
DESCRIPTION:During this fun workshop\, textile artist Lu Douglas will teach you how to get started with your own knitted creations. All materials supplied. No previous experience required. \nBookings required. Phone Corinda Library on 07 3407 7701 to reserve your place. \n 
URL:https://nicolejohnston.com.au/event/corinda-library-learn-to-knit/
LOCATION:Corinda Library\, 641 Oxley Road\, Corinda\, Queensland\, 4075\, Australia
GEO:-27.538881;152.98142
X-APPLE-STRUCTURED-LOCATION;VALUE=URI;X-ADDRESS=Corinda Library 641 Oxley Road Corinda Queensland 4075 Australia;X-APPLE-RADIUS=500;X-TITLE=641 Oxley Road:geo:152.98142,-27.538881
END:VEVENT
BEGIN:VEVENT
DTSTART;TZID=Australia/Brisbane:20250613T091500
DTEND;TZID=Australia/Brisbane:20250613T094500
DTSTAMP:20260425T014526
CREATED:20250516T022004Z
LAST-MODIFIED:20250516T022004Z
UID:29709-1749806100-1749807900@nicolejohnston.com.au
SUMMARY:Corinda Library | First 5 Forever Babies\, Books and Rhymes
DESCRIPTION:Meet other parents and babies for a fun session of singing\, clapping and dancing. Learn songs and action rhymes to nurture your baby’s pre-literacy\, communication\, language and social skills. Ideal for babies aged up to one year.
URL:https://nicolejohnston.com.au/event/corinda-library-first-5-forever-babies-books-and-rhymes-35/
LOCATION:Corinda Library\, 641 Oxley Road\, Corinda\, Queensland\, 4075\, Australia
GEO:-27.538881;152.98142
X-APPLE-STRUCTURED-LOCATION;VALUE=URI;X-ADDRESS=Corinda Library 641 Oxley Road Corinda Queensland 4075 Australia;X-APPLE-RADIUS=500;X-TITLE=641 Oxley Road:geo:152.98142,-27.538881
END:VEVENT
BEGIN:VEVENT
DTSTART;TZID=Australia/Brisbane:20250612T153000
DTEND;TZID=Australia/Brisbane:20250612T163000
DTSTAMP:20260425T014526
CREATED:20250516T021032Z
LAST-MODIFIED:20250516T021032Z
UID:29707-1749742200-1749745800@nicolejohnston.com.au
SUMMARY:Corinda Library | Tween STEAM
DESCRIPTION:Join us for an afternoon of games and activities exploring science\, technology\, reading and art. Ideal for children aged 7–12 years. \nBookings required. Phone Corinda Library on 07 3407 7701 to reserve your place.
URL:https://nicolejohnston.com.au/event/corinda-library-tween-steam-3/
LOCATION:Corinda Library\, 641 Oxley Road\, Corinda\, Queensland\, 4075\, Australia
GEO:-27.538881;152.98142
X-APPLE-STRUCTURED-LOCATION;VALUE=URI;X-ADDRESS=Corinda Library 641 Oxley Road Corinda Queensland 4075 Australia;X-APPLE-RADIUS=500;X-TITLE=641 Oxley Road:geo:152.98142,-27.538881
END:VEVENT
BEGIN:VEVENT
DTSTART;TZID=Australia/Brisbane:20250612T091500
DTEND;TZID=Australia/Brisbane:20250612T094500
DTSTAMP:20260425T014526
CREATED:20250516T020755Z
LAST-MODIFIED:20250516T020755Z
UID:29705-1749719700-1749721500@nicolejohnston.com.au
SUMMARY:Corinda Library | First 5 Forever Toddler Time
DESCRIPTION:Meet other parents and toddlers for a fun session of singing\, clapping and dancing. Learn action rhymes and songs which will help your child’s pre-literacy\, communication\, language and social skills. Ideal for babies and toddlers aged 1-2 years.
URL:https://nicolejohnston.com.au/event/corinda-library-first-5-forever-toddler-time-35/
LOCATION:Corinda Library\, 641 Oxley Road\, Corinda\, Queensland\, 4075\, Australia
GEO:-27.538881;152.98142
X-APPLE-STRUCTURED-LOCATION;VALUE=URI;X-ADDRESS=Corinda Library 641 Oxley Road Corinda Queensland 4075 Australia;X-APPLE-RADIUS=500;X-TITLE=641 Oxley Road:geo:152.98142,-27.538881
END:VEVENT
BEGIN:VEVENT
DTSTART;TZID=Australia/Brisbane:20250606T091500
DTEND;TZID=Australia/Brisbane:20250606T094500
DTSTAMP:20260425T014526
CREATED:20250516T020701Z
LAST-MODIFIED:20250516T020701Z
UID:29703-1749201300-1749203100@nicolejohnston.com.au
SUMMARY:Corinda Library | First 5 Forever Babies\, Books and Rhymes
DESCRIPTION:Meet other parents and babies for a fun session of singing\, clapping and dancing. Learn songs and action rhymes to nurture your baby’s pre-literacy\, communication\, language and social skills. Ideal for babies aged up to one year.
URL:https://nicolejohnston.com.au/event/corinda-library-first-5-forever-babies-books-and-rhymes-34/
LOCATION:Corinda Library\, 641 Oxley Road\, Corinda\, Queensland\, 4075\, Australia
GEO:-27.538881;152.98142
X-APPLE-STRUCTURED-LOCATION;VALUE=URI;X-ADDRESS=Corinda Library 641 Oxley Road Corinda Queensland 4075 Australia;X-APPLE-RADIUS=500;X-TITLE=641 Oxley Road:geo:152.98142,-27.538881
END:VEVENT
BEGIN:VEVENT
DTSTART;TZID=Australia/Brisbane:20250530T091500
DTEND;TZID=Australia/Brisbane:20250530T094500
DTSTAMP:20260425T014526
CREATED:20250401T045928Z
LAST-MODIFIED:20250401T045928Z
UID:29534-1748596500-1748598300@nicolejohnston.com.au
SUMMARY:Corinda Library | First 5 Forever Babies\, Books and Rhymes
DESCRIPTION:Meet other parents and babies for a fun session of singing\, clapping and dancing. Learn songs and action rhymes to nurture your baby’s pre-literacy\, communication\, language and social skills. Ideal for babies aged up to one year.
URL:https://nicolejohnston.com.au/event/corinda-library-first-5-forever-babies-books-and-rhymes-33/
LOCATION:Corinda Library\, 641 Oxley Road\, Corinda\, Queensland\, 4075\, Australia
GEO:-27.538881;152.98142
X-APPLE-STRUCTURED-LOCATION;VALUE=URI;X-ADDRESS=Corinda Library 641 Oxley Road Corinda Queensland 4075 Australia;X-APPLE-RADIUS=500;X-TITLE=641 Oxley Road:geo:152.98142,-27.538881
END:VEVENT
BEGIN:VEVENT
DTSTART;TZID=Australia/Brisbane:20250529T091500
DTEND;TZID=Australia/Brisbane:20250529T094500
DTSTAMP:20260425T014526
CREATED:20250401T045833Z
LAST-MODIFIED:20250401T045833Z
UID:29532-1748510100-1748511900@nicolejohnston.com.au
SUMMARY:Corinda Library | First 5 Forever Toddler Time
DESCRIPTION:Meet other parents and toddlers for a fun session of singing\, clapping and dancing. Learn action rhymes and songs which will help your child’s pre-literacy\, communication\, language and social skills. Ideal for babies and toddlers aged 1-2 years.
URL:https://nicolejohnston.com.au/event/corinda-library-first-5-forever-toddler-time-33/
LOCATION:Corinda Library\, 641 Oxley Road\, Corinda\, Queensland\, 4075\, Australia
GEO:-27.538881;152.98142
X-APPLE-STRUCTURED-LOCATION;VALUE=URI;X-ADDRESS=Corinda Library 641 Oxley Road Corinda Queensland 4075 Australia;X-APPLE-RADIUS=500;X-TITLE=641 Oxley Road:geo:152.98142,-27.538881
END:VEVENT
BEGIN:VEVENT
DTSTART;TZID=Australia/Brisbane:20250523T091500
DTEND;TZID=Australia/Brisbane:20250523T094500
DTSTAMP:20260425T014526
CREATED:20250401T044927Z
LAST-MODIFIED:20250401T044927Z
UID:29516-1747991700-1747993500@nicolejohnston.com.au
SUMMARY:Corinda Library | First 5 Forever Babies\, Books and Rhymes
DESCRIPTION:Meet other parents and babies for a fun session of singing\, clapping and dancing. Learn songs and action rhymes to nurture your baby’s pre-literacy\, communication\, language and social skills. Ideal for babies aged up to one year.
URL:https://nicolejohnston.com.au/event/corinda-library-first-5-forever-babies-books-and-rhymes-31/
LOCATION:Corinda Library\, 641 Oxley Road\, Corinda\, Queensland\, 4075\, Australia
GEO:-27.538881;152.98142
X-APPLE-STRUCTURED-LOCATION;VALUE=URI;X-ADDRESS=Corinda Library 641 Oxley Road Corinda Queensland 4075 Australia;X-APPLE-RADIUS=500;X-TITLE=641 Oxley Road:geo:152.98142,-27.538881
END:VEVENT
BEGIN:VEVENT
DTSTART;TZID=Australia/Brisbane:20250522T091500
DTEND;TZID=Australia/Brisbane:20250522T094500
DTSTAMP:20260425T014526
CREATED:20250401T044738Z
LAST-MODIFIED:20250401T044738Z
UID:29510-1747905300-1747907100@nicolejohnston.com.au
SUMMARY:Corinda Library | First 5 Forever Toddler Time
DESCRIPTION:Meet other parents and toddlers for a fun session of singing\, clapping and dancing. Learn action rhymes and songs which will help your child’s pre-literacy\, communication\, language and social skills. Ideal for babies and toddlers aged 1-2 years.
URL:https://nicolejohnston.com.au/event/corinda-library-first-5-forever-toddler-time-32/
LOCATION:Corinda Library\, 641 Oxley Road\, Corinda\, Queensland\, 4075\, Australia
GEO:-27.538881;152.98142
X-APPLE-STRUCTURED-LOCATION;VALUE=URI;X-ADDRESS=Corinda Library 641 Oxley Road Corinda Queensland 4075 Australia;X-APPLE-RADIUS=500;X-TITLE=641 Oxley Road:geo:152.98142,-27.538881
END:VEVENT
BEGIN:VEVENT
DTSTART;TZID=Australia/Brisbane:20250516T091500
DTEND;TZID=Australia/Brisbane:20250516T094500
DTSTAMP:20260425T014526
CREATED:20250516T020604Z
LAST-MODIFIED:20250516T020604Z
UID:29701-1747386900-1747388700@nicolejohnston.com.au
SUMMARY:Corinda Library | First 5 Forever Toddler Time
DESCRIPTION:Meet other parents and toddlers for a fun session of singing\, clapping and dancing. Learn action rhymes and songs which will help your child’s pre-literacy\, communication\, language and social skills. Ideal for babies and toddlers aged 1-2 years. First 5 Forever is an initiative of the Queensland Government\, coordinated by State Library of Queensland and delivered in partnership with local government.
URL:https://nicolejohnston.com.au/event/corinda-library-first-5-forever-toddler-time-34/
LOCATION:Corinda Library\, 641 Oxley Road\, Corinda\, Queensland\, 4075\, Australia
GEO:-27.538881;152.98142
X-APPLE-STRUCTURED-LOCATION;VALUE=URI;X-ADDRESS=Corinda Library 641 Oxley Road Corinda Queensland 4075 Australia;X-APPLE-RADIUS=500;X-TITLE=641 Oxley Road:geo:152.98142,-27.538881
END:VEVENT
BEGIN:VEVENT
DTSTART;TZID=Australia/Brisbane:20250516T091500
DTEND;TZID=Australia/Brisbane:20250516T094500
DTSTAMP:20260425T014526
CREATED:20250401T043843Z
LAST-MODIFIED:20250401T043843Z
UID:29495-1747386900-1747388700@nicolejohnston.com.au
SUMMARY:Corinda Library | First 5 Forever Babies\, Books and Rhymes
DESCRIPTION:Meet other parents and babies for a fun session of singing\, clapping and dancing. Learn songs and action rhymes to nurture your baby’s pre-literacy\, communication\, language and social skills. Ideal for babies aged up to one year.
URL:https://nicolejohnston.com.au/event/corinda-library-first-5-forever-babies-books-and-rhymes-30/
LOCATION:Corinda Library\, 641 Oxley Road\, Corinda\, Queensland\, 4075\, Australia
GEO:-27.538881;152.98142
X-APPLE-STRUCTURED-LOCATION;VALUE=URI;X-ADDRESS=Corinda Library 641 Oxley Road Corinda Queensland 4075 Australia;X-APPLE-RADIUS=500;X-TITLE=641 Oxley Road:geo:152.98142,-27.538881
END:VEVENT
BEGIN:VEVENT
DTSTART;TZID=Australia/Brisbane:20250515T140000
DTEND;TZID=Australia/Brisbane:20250515T150000
DTSTAMP:20260425T014526
CREATED:20250401T043547Z
LAST-MODIFIED:20250401T043547Z
UID:29491-1747317600-1747321200@nicolejohnston.com.au
SUMMARY:Corinda Library | Tea and Trivia
DESCRIPTION:Join us for an afternoon testing your knowledge with trivia questions. Individuals and groups welcome.
URL:https://nicolejohnston.com.au/event/corinda-library-tea-and-trivia-3/
LOCATION:Corinda Library\, 641 Oxley Road\, Corinda\, Queensland\, 4075\, Australia
GEO:-27.538881;152.98142
X-APPLE-STRUCTURED-LOCATION;VALUE=URI;X-ADDRESS=Corinda Library 641 Oxley Road Corinda Queensland 4075 Australia;X-APPLE-RADIUS=500;X-TITLE=641 Oxley Road:geo:152.98142,-27.538881
END:VEVENT
BEGIN:VEVENT
DTSTART;TZID=Australia/Brisbane:20250515T091500
DTEND;TZID=Australia/Brisbane:20250515T094500
DTSTAMP:20260425T014526
CREATED:20250401T043456Z
LAST-MODIFIED:20250401T043456Z
UID:29489-1747300500-1747302300@nicolejohnston.com.au
SUMMARY:Corinda Library | First 5 Forever Toddler Time
DESCRIPTION:Meet other parents and toddlers for a fun session of singing\, clapping and dancing. Learn action rhymes and songs which will help your child’s pre-literacy\, communication\, language and social skills. Ideal for babies and toddlers aged 1-2 years.
URL:https://nicolejohnston.com.au/event/corinda-library-first-5-forever-toddler-time-31/
LOCATION:Corinda Library\, 641 Oxley Road\, Corinda\, Queensland\, 4075\, Australia
GEO:-27.538881;152.98142
X-APPLE-STRUCTURED-LOCATION;VALUE=URI;X-ADDRESS=Corinda Library 641 Oxley Road Corinda Queensland 4075 Australia;X-APPLE-RADIUS=500;X-TITLE=641 Oxley Road:geo:152.98142,-27.538881
END:VEVENT
BEGIN:VEVENT
DTSTART;TZID=Australia/Brisbane:20250509T091500
DTEND;TZID=Australia/Brisbane:20250509T094500
DTSTAMP:20260425T014526
CREATED:20250401T042559Z
LAST-MODIFIED:20250401T042559Z
UID:29475-1746782100-1746783900@nicolejohnston.com.au
SUMMARY:Corinda Library | First 5 Forever Babies\, Books and Rhymes
DESCRIPTION:Meet other parents and babies for a fun session of singing\, clapping and dancing. Learn songs and action rhymes to nurture your baby’s pre-literacy\, communication\, language and social skills. Ideal for babies aged up to one year.
URL:https://nicolejohnston.com.au/event/corinda-library-first-5-forever-babies-books-and-rhymes-29/
LOCATION:Corinda Library\, 641 Oxley Road\, Corinda\, Queensland\, 4075\, Australia
GEO:-27.538881;152.98142
X-APPLE-STRUCTURED-LOCATION;VALUE=URI;X-ADDRESS=Corinda Library 641 Oxley Road Corinda Queensland 4075 Australia;X-APPLE-RADIUS=500;X-TITLE=641 Oxley Road:geo:152.98142,-27.538881
END:VEVENT
BEGIN:VEVENT
DTSTART;TZID=Australia/Brisbane:20250508T153000
DTEND;TZID=Australia/Brisbane:20250508T163000
DTSTAMP:20260425T014526
CREATED:20250401T042313Z
LAST-MODIFIED:20250401T042313Z
UID:29469-1746718200-1746721800@nicolejohnston.com.au
SUMMARY:Corinda Library | Tween STEAM
DESCRIPTION:Join us for an afternoon of games and activities exploring science\, technology\, reading and art. Ideal for children aged 7–12 years.
URL:https://nicolejohnston.com.au/event/corinda-library-tween-steam-2/
LOCATION:Corinda Library\, 641 Oxley Road\, Corinda\, Queensland\, 4075\, Australia
GEO:-27.538881;152.98142
X-APPLE-STRUCTURED-LOCATION;VALUE=URI;X-ADDRESS=Corinda Library 641 Oxley Road Corinda Queensland 4075 Australia;X-APPLE-RADIUS=500;X-TITLE=641 Oxley Road:geo:152.98142,-27.538881
END:VEVENT
BEGIN:VEVENT
DTSTART;TZID=Australia/Brisbane:20250508T091500
DTEND;TZID=Australia/Brisbane:20250508T094500
DTSTAMP:20260425T014526
CREATED:20250401T042220Z
LAST-MODIFIED:20250401T042220Z
UID:29467-1746695700-1746697500@nicolejohnston.com.au
SUMMARY:Corinda Library | First 5 Forever Toddler Time
DESCRIPTION:Meet other parents and toddlers for a fun session of singing\, clapping and dancing. Learn action rhymes and songs which will help your child’s pre-literacy\, communication\, language and social skills. Ideal for babies and toddlers aged 1-2 years.
URL:https://nicolejohnston.com.au/event/corinda-library-first-5-forever-toddler-time-30/
LOCATION:Corinda Library\, 641 Oxley Road\, Corinda\, Queensland\, 4075\, Australia
GEO:-27.538881;152.98142
X-APPLE-STRUCTURED-LOCATION;VALUE=URI;X-ADDRESS=Corinda Library 641 Oxley Road Corinda Queensland 4075 Australia;X-APPLE-RADIUS=500;X-TITLE=641 Oxley Road:geo:152.98142,-27.538881
END:VEVENT
BEGIN:VEVENT
DTSTART;TZID=Australia/Brisbane:20250502T091500
DTEND;TZID=Australia/Brisbane:20250502T094500
DTSTAMP:20260425T014526
CREATED:20250401T041532Z
LAST-MODIFIED:20250401T041532Z
UID:29455-1746177300-1746179100@nicolejohnston.com.au
SUMMARY:Corinda Library | First 5 Forever Babies\, Books and Rhymes
DESCRIPTION:Meet other parents and babies for a fun session of singing\, clapping and dancing. Learn songs and action rhymes to nurture your baby’s pre-literacy\, communication\, language and social skills. Ideal for babies aged up to one year.
URL:https://nicolejohnston.com.au/event/corinda-library-first-5-forever-babies-books-and-rhymes-28/
LOCATION:Corinda Library\, 641 Oxley Road\, Corinda\, Queensland\, 4075\, Australia
GEO:-27.538881;152.98142
X-APPLE-STRUCTURED-LOCATION;VALUE=URI;X-ADDRESS=Corinda Library 641 Oxley Road Corinda Queensland 4075 Australia;X-APPLE-RADIUS=500;X-TITLE=641 Oxley Road:geo:152.98142,-27.538881
END:VEVENT
BEGIN:VEVENT
DTSTART;TZID=Australia/Brisbane:20250501T091500
DTEND;TZID=Australia/Brisbane:20250501T094500
DTSTAMP:20260425T014526
CREATED:20250401T041122Z
LAST-MODIFIED:20250401T041122Z
UID:29453-1746090900-1746092700@nicolejohnston.com.au
SUMMARY:Corinda Library | First 5 Forever Toddler Time
DESCRIPTION:Meet other parents and toddlers for a fun session of singing\, clapping and dancing. Learn action rhymes and songs which will help your child’s pre-literacy\, communication\, language and social skills. Ideal for babies and toddlers aged 1-2 years.
URL:https://nicolejohnston.com.au/event/corinda-library-first-5-forever-toddler-time-29/
LOCATION:Corinda Library\, 641 Oxley Road\, Corinda\, Queensland\, 4075\, Australia
GEO:-27.538881;152.98142
X-APPLE-STRUCTURED-LOCATION;VALUE=URI;X-ADDRESS=Corinda Library 641 Oxley Road Corinda Queensland 4075 Australia;X-APPLE-RADIUS=500;X-TITLE=641 Oxley Road:geo:152.98142,-27.538881
END:VEVENT
BEGIN:VEVENT
DTSTART;TZID=Australia/Brisbane:20250424T091500
DTEND;TZID=Australia/Brisbane:20250424T094500
DTSTAMP:20260425T014526
CREATED:20250401T040715Z
LAST-MODIFIED:20250401T040715Z
UID:29445-1745486100-1745487900@nicolejohnston.com.au
SUMMARY:Corinda Library | First 5 Forever Toddler Time
DESCRIPTION:Meet other parents and toddlers for a fun session of singing\, clapping and dancing. Learn action rhymes and songs which will help your child’s pre-literacy\, communication\, language and social skills. Ideal for babies and toddlers aged 1-2 years.
URL:https://nicolejohnston.com.au/event/corinda-library-first-5-forever-toddler-time-28/
LOCATION:Corinda Library\, 641 Oxley Road\, Corinda\, Queensland\, 4075\, Australia
GEO:-27.538881;152.98142
X-APPLE-STRUCTURED-LOCATION;VALUE=URI;X-ADDRESS=Corinda Library 641 Oxley Road Corinda Queensland 4075 Australia;X-APPLE-RADIUS=500;X-TITLE=641 Oxley Road:geo:152.98142,-27.538881
END:VEVENT
BEGIN:VEVENT
DTSTART;TZID=Australia/Brisbane:20250417T091500
DTEND;TZID=Australia/Brisbane:20250417T094500
DTSTAMP:20260425T014526
CREATED:20250401T040618Z
LAST-MODIFIED:20250401T040618Z
UID:29443-1744881300-1744883100@nicolejohnston.com.au
SUMMARY:Corinda Library |  First 5 Forever Toddler Time
DESCRIPTION:Meet other parents and toddlers for a fun session of singing\, clapping and dancing. Learn action rhymes and songs which will help your child’s pre-literacy\, communication\, language and social skills. Ideal for babies and toddlers aged 1-2 years.
URL:https://nicolejohnston.com.au/event/corinda-library-first-5-forever-toddler-time-27/
LOCATION:Corinda Library\, 641 Oxley Road\, Corinda\, Queensland\, 4075\, Australia
GEO:-27.538881;152.98142
X-APPLE-STRUCTURED-LOCATION;VALUE=URI;X-ADDRESS=Corinda Library 641 Oxley Road Corinda Queensland 4075 Australia;X-APPLE-RADIUS=500;X-TITLE=641 Oxley Road:geo:152.98142,-27.538881
END:VEVENT
BEGIN:VEVENT
DTSTART;TZID=Australia/Brisbane:20250411T091500
DTEND;TZID=Australia/Brisbane:20250411T094500
DTSTAMP:20260425T014526
CREATED:20250401T035600Z
LAST-MODIFIED:20250401T035600Z
UID:29429-1744362900-1744364700@nicolejohnston.com.au
SUMMARY:Corinda Library | First 5 Forever Babies\, Books and Rhymes
DESCRIPTION:Meet other parents and babies for a fun session of singing\, clapping and dancing. Learn songs and action rhymes to nurture your baby’s pre-literacy\, communication\, language and social skills. Ideal for babies aged up to one year.
URL:https://nicolejohnston.com.au/event/corinda-library-first-5-forever-babies-books-and-rhymes-27/
LOCATION:Corinda Library\, 641 Oxley Road\, Corinda\, Queensland\, 4075\, Australia
GEO:-27.538881;152.98142
X-APPLE-STRUCTURED-LOCATION;VALUE=URI;X-ADDRESS=Corinda Library 641 Oxley Road Corinda Queensland 4075 Australia;X-APPLE-RADIUS=500;X-TITLE=641 Oxley Road:geo:152.98142,-27.538881
END:VEVENT
BEGIN:VEVENT
DTSTART;TZID=Australia/Brisbane:20250410T153000
DTEND;TZID=Australia/Brisbane:20250410T163000
DTSTAMP:20260425T014526
CREATED:20250401T034548Z
LAST-MODIFIED:20250401T034548Z
UID:29425-1744299000-1744302600@nicolejohnston.com.au
SUMMARY:Corinda Library | Tween STEAM
DESCRIPTION:Join us for an afternoon of games and activities exploring science\, technology\, reading and art. Ideal for children aged 7–12 years.
URL:https://nicolejohnston.com.au/event/corinda-library-tween-steam/
LOCATION:Corinda Library\, 641 Oxley Road\, Corinda\, Queensland\, 4075\, Australia
GEO:-27.538881;152.98142
X-APPLE-STRUCTURED-LOCATION;VALUE=URI;X-ADDRESS=Corinda Library 641 Oxley Road Corinda Queensland 4075 Australia;X-APPLE-RADIUS=500;X-TITLE=641 Oxley Road:geo:152.98142,-27.538881
END:VEVENT
BEGIN:VEVENT
DTSTART;TZID=Australia/Brisbane:20250410T091500
DTEND;TZID=Australia/Brisbane:20250410T094500
DTSTAMP:20260425T014526
CREATED:20250401T034459Z
LAST-MODIFIED:20250401T034459Z
UID:29423-1744276500-1744278300@nicolejohnston.com.au
SUMMARY:Corinda Library | First 5 Forever Toddler Time
DESCRIPTION:Meet other parents and toddlers for a fun session of singing\, clapping and dancing. Learn action rhymes and songs which will help your child’s pre-literacy\, communication\, language and social skills. Ideal for babies and toddlers aged 1-2 years.
URL:https://nicolejohnston.com.au/event/corinda-library-first-5-forever-toddler-time-26/
LOCATION:Corinda Library\, 641 Oxley Road\, Corinda\, Queensland\, 4075\, Australia
GEO:-27.538881;152.98142
X-APPLE-STRUCTURED-LOCATION;VALUE=URI;X-ADDRESS=Corinda Library 641 Oxley Road Corinda Queensland 4075 Australia;X-APPLE-RADIUS=500;X-TITLE=641 Oxley Road:geo:152.98142,-27.538881
END:VEVENT
BEGIN:VEVENT
DTSTART;TZID=Australia/Brisbane:20250404T091500
DTEND;TZID=Australia/Brisbane:20250404T094500
DTSTAMP:20260425T014526
CREATED:20250401T033840Z
LAST-MODIFIED:20250401T033840Z
UID:29411-1743758100-1743759900@nicolejohnston.com.au
SUMMARY:Corinda Library | First 5 Forever Babies\, Books and Rhymes
DESCRIPTION:Meet other parents and babies for a fun session of singing\, clapping and dancing. Learn songs and action rhymes to nurture your baby’s pre-literacy\, communication\, language and social skills. Ideal for babies aged up to one year.
URL:https://nicolejohnston.com.au/event/corinda-library-first-5-forever-babies-books-and-rhymes-26/
LOCATION:Corinda Library\, 641 Oxley Road\, Corinda\, Queensland\, 4075\, Australia
GEO:-27.538881;152.98142
X-APPLE-STRUCTURED-LOCATION;VALUE=URI;X-ADDRESS=Corinda Library 641 Oxley Road Corinda Queensland 4075 Australia;X-APPLE-RADIUS=500;X-TITLE=641 Oxley Road:geo:152.98142,-27.538881
END:VEVENT
BEGIN:VEVENT
DTSTART;TZID=Australia/Brisbane:20250403T091500
DTEND;TZID=Australia/Brisbane:20250403T094500
DTSTAMP:20260425T014526
CREATED:20250401T033648Z
LAST-MODIFIED:20250401T033648Z
UID:29406-1743671700-1743673500@nicolejohnston.com.au
SUMMARY:Corinda Library | First 5 Forever Toddler Time
DESCRIPTION:Meet other parents and toddlers for a fun session of singing\, clapping and dancing. Learn action rhymes and songs which will help your child’s pre-literacy\, communication\, language and social skills. Ideal for babies and toddlers aged 1-2 years.
URL:https://nicolejohnston.com.au/event/corinda-library-first-5-forever-toddler-time-25/
LOCATION:Corinda Library\, 641 Oxley Road\, Corinda\, Queensland\, 4075\, Australia
GEO:-27.538881;152.98142
X-APPLE-STRUCTURED-LOCATION;VALUE=URI;X-ADDRESS=Corinda Library 641 Oxley Road Corinda Queensland 4075 Australia;X-APPLE-RADIUS=500;X-TITLE=641 Oxley Road:geo:152.98142,-27.538881
END:VEVENT
END:VCALENDAR