BEGIN:VCALENDAR
VERSION:2.0
PRODID:-//Nicole Johnston - ECPv6.15.20//NONSGML v1.0//EN
CALSCALE:GREGORIAN
METHOD:PUBLISH
X-ORIGINAL-URL:https://nicolejohnston.com.au
X-WR-CALDESC:Events for Nicole Johnston
REFRESH-INTERVAL;VALUE=DURATION:PT1H
X-Robots-Tag:noindex
X-PUBLISHED-TTL:PT1H
BEGIN:VTIMEZONE
TZID:Australia/Brisbane
BEGIN:STANDARD
TZOFFSETFROM:+1000
TZOFFSETTO:+1000
TZNAME:AEST
DTSTART:20230101T000000
END:STANDARD
END:VTIMEZONE
BEGIN:VEVENT
DTSTART;TZID=Australia/Brisbane:20250123T091500
DTEND;TZID=Australia/Brisbane:20250123T094500
DTSTAMP:20260425T103450
CREATED:20241113T050411Z
LAST-MODIFIED:20241113T050411Z
UID:28557-1737623700-1737625500@nicolejohnston.com.au
SUMMARY:Corinda Library | First 5 Forever Toddler Time
DESCRIPTION:Meet other parents and toddlers for a fun session of singing\, clapping and dancing. Learn action rhymes and songs which will help your child’s pre-literacy\, communication\, language and social skills. Ideal for babies and toddlers aged 1-2 years.
URL:https://nicolejohnston.com.au/event/corinda-library-first-5-forever-toddler-time-15/
LOCATION:Corinda Library\, 641 Oxley Road\, Corinda\, Queensland\, 4075\, Australia
GEO:-27.538881;152.98142
X-APPLE-STRUCTURED-LOCATION;VALUE=URI;X-ADDRESS=Corinda Library 641 Oxley Road Corinda Queensland 4075 Australia;X-APPLE-RADIUS=500;X-TITLE=641 Oxley Road:geo:152.98142,-27.538881
END:VEVENT
BEGIN:VEVENT
DTSTART;TZID=Australia/Brisbane:20250121T100000
DTEND;TZID=Australia/Brisbane:20250121T110000
DTSTAMP:20260425T103450
CREATED:20241212T002825Z
LAST-MODIFIED:20241212T002825Z
UID:28703-1737453600-1737457200@nicolejohnston.com.au
SUMMARY:Corinda Library |  My Amazing Tree With Aleesah Darlison
DESCRIPTION:From guinea pigs to wishful magic and everything in between! Join award-winning author\, Aleesah Darlison\, for a fun and exciting workshop based on her latest novel\, Grace the Amazing. Ideal for children aged 6-12 years. \n\n\nBookings required. Phone Corinda Library on 07 3407 7701 to reserve your place.
URL:https://nicolejohnston.com.au/event/corinda-library-my-amazing-tree-with-aleesah-darlison/
LOCATION:Corinda Library\, 641 Oxley Road\, Corinda\, Queensland\, 4075\, Australia
GEO:-27.538881;152.98142
X-APPLE-STRUCTURED-LOCATION;VALUE=URI;X-ADDRESS=Corinda Library 641 Oxley Road Corinda Queensland 4075 Australia;X-APPLE-RADIUS=500;X-TITLE=641 Oxley Road:geo:152.98142,-27.538881
END:VEVENT
BEGIN:VEVENT
DTSTART;TZID=Australia/Brisbane:20250121T100000
DTEND;TZID=Australia/Brisbane:20250121T110000
DTSTAMP:20260425T103450
CREATED:20241113T045811Z
LAST-MODIFIED:20241113T045811Z
UID:28549-1737453600-1737457200@nicolejohnston.com.au
SUMMARY:Corinda | Lord Mayor’s Writers in Residence Young Writers: My Amazing Tree with Aleesah Darlison
DESCRIPTION:From guinea pigs to wishful magic and everything in between! Join award-winning author\, Aleesah Darlison\, for a fun and exciting workshop based on her latest novel\, Grace the Amazing. Ideal for children aged 6-12 years.
URL:https://nicolejohnston.com.au/event/corinda-lord-mayors-writers-in-residence-young-writers-my-amazing-tree-with-aleesah-darlison/
LOCATION:Corinda Library\, 641 Oxley Road\, Corinda\, Queensland\, 4075\, Australia
GEO:-27.538881;152.98142
X-APPLE-STRUCTURED-LOCATION;VALUE=URI;X-ADDRESS=Corinda Library 641 Oxley Road Corinda Queensland 4075 Australia;X-APPLE-RADIUS=500;X-TITLE=641 Oxley Road:geo:152.98142,-27.538881
END:VEVENT
BEGIN:VEVENT
DTSTART;TZID=Australia/Brisbane:20250117T091500
DTEND;TZID=Australia/Brisbane:20250117T094500
DTSTAMP:20260425T103450
CREATED:20241113T030437Z
LAST-MODIFIED:20241113T030437Z
UID:28543-1737105300-1737107100@nicolejohnston.com.au
SUMMARY:Corinda Library | First 5 Forever Babies\, Books and Rhymes
DESCRIPTION:Meet other parents and babies for a fun session of singing\, clapping and dancing. Learn songs and action rhymes to nurture your baby’s pre-literacy\, communication\, language and social skills. Ideal for babies aged up to one year.
URL:https://nicolejohnston.com.au/event/corinda-library-first-5-forever-babies-books-and-rhymes-15/
LOCATION:Corinda Library\, 641 Oxley Road\, Corinda\, Queensland\, 4075\, Australia
GEO:-27.538881;152.98142
X-APPLE-STRUCTURED-LOCATION;VALUE=URI;X-ADDRESS=Corinda Library 641 Oxley Road Corinda Queensland 4075 Australia;X-APPLE-RADIUS=500;X-TITLE=641 Oxley Road:geo:152.98142,-27.538881
END:VEVENT
BEGIN:VEVENT
DTSTART;TZID=Australia/Brisbane:20250116T091500
DTEND;TZID=Australia/Brisbane:20250116T094500
DTSTAMP:20260425T103450
CREATED:20241113T030146Z
LAST-MODIFIED:20241113T030146Z
UID:28539-1737018900-1737020700@nicolejohnston.com.au
SUMMARY:Corinda Library | First 5 Forever Toddler Time
DESCRIPTION:Meet other parents and toddlers for a fun session of singing\, clapping and dancing. Learn action rhymes and songs which will help your child’s pre-literacy\, communication\, language and social skills. Ideal for babies and toddlers aged 1-2 years.
URL:https://nicolejohnston.com.au/event/corinda-library-first-5-forever-toddler-time-14/
LOCATION:Corinda Library\, 641 Oxley Road\, Corinda\, Queensland\, 4075\, Australia
GEO:-27.538881;152.98142
X-APPLE-STRUCTURED-LOCATION;VALUE=URI;X-ADDRESS=Corinda Library 641 Oxley Road Corinda Queensland 4075 Australia;X-APPLE-RADIUS=500;X-TITLE=641 Oxley Road:geo:152.98142,-27.538881
END:VEVENT
BEGIN:VEVENT
DTSTART;TZID=Australia/Brisbane:20250110T091500
DTEND;TZID=Australia/Brisbane:20250110T094500
DTSTAMP:20260425T103450
CREATED:20241113T022308Z
LAST-MODIFIED:20241113T022308Z
UID:28521-1736500500-1736502300@nicolejohnston.com.au
SUMMARY:Corinda Library | First 5 Forever Babies\, Books and Rhymes
DESCRIPTION:Meet other parents and babies for a fun session of singing\, clapping and dancing. Learn songs and action rhymes to nurture your baby’s pre-literacy\, communication\, language and social skills. Ideal for babies aged up to one year.
URL:https://nicolejohnston.com.au/event/corinda-library-first-5-forever-babies-books-and-rhymes-14/
LOCATION:Corinda Library\, 641 Oxley Road\, Corinda\, Queensland\, 4075\, Australia
GEO:-27.538881;152.98142
X-APPLE-STRUCTURED-LOCATION;VALUE=URI;X-ADDRESS=Corinda Library 641 Oxley Road Corinda Queensland 4075 Australia;X-APPLE-RADIUS=500;X-TITLE=641 Oxley Road:geo:152.98142,-27.538881
END:VEVENT
BEGIN:VEVENT
DTSTART;TZID=Australia/Brisbane:20250109T110000
DTEND;TZID=Australia/Brisbane:20250109T120000
DTSTAMP:20260425T103450
CREATED:20241113T022159Z
LAST-MODIFIED:20241113T022159Z
UID:28519-1736420400-1736424000@nicolejohnston.com.au
SUMMARY:Corinda Library | Kids Book Chat: I Survived Series
DESCRIPTION:Celebrate Lauren Tarshis’ I Survived series with a variety of themed activities. Ideal for children aged 8-12 years. \nBookings required. Phone Corinda Library on 07 3407 7701 to reserve your place.
URL:https://nicolejohnston.com.au/event/corinda-library-kids-book-chat-i-survived-series/
LOCATION:Corinda Library\, 641 Oxley Road\, Corinda\, Queensland\, 4075\, Australia
GEO:-27.538881;152.98142
X-APPLE-STRUCTURED-LOCATION;VALUE=URI;X-ADDRESS=Corinda Library 641 Oxley Road Corinda Queensland 4075 Australia;X-APPLE-RADIUS=500;X-TITLE=641 Oxley Road:geo:152.98142,-27.538881
END:VEVENT
BEGIN:VEVENT
DTSTART;TZID=Australia/Brisbane:20250109T091500
DTEND;TZID=Australia/Brisbane:20250109T094500
DTSTAMP:20260425T103450
CREATED:20241113T022051Z
LAST-MODIFIED:20241113T022051Z
UID:28517-1736414100-1736415900@nicolejohnston.com.au
SUMMARY:Corinda Library | First 5 Forever Toddler Time
DESCRIPTION:Meet other parents and toddlers for a fun session of singing\, clapping and dancing. Learn action rhymes and songs which will help your child’s pre-literacy\, communication\, language and social skills. Ideal for babies and toddlers aged 1-2 years.
URL:https://nicolejohnston.com.au/event/corinda-library-first-5-forever-toddler-time-13/
LOCATION:Corinda Library\, 641 Oxley Road\, Corinda\, Queensland\, 4075\, Australia
GEO:-27.538881;152.98142
X-APPLE-STRUCTURED-LOCATION;VALUE=URI;X-ADDRESS=Corinda Library 641 Oxley Road Corinda Queensland 4075 Australia;X-APPLE-RADIUS=500;X-TITLE=641 Oxley Road:geo:152.98142,-27.538881
END:VEVENT
BEGIN:VEVENT
DTSTART;TZID=Australia/Brisbane:20250103T091500
DTEND;TZID=Australia/Brisbane:20250103T094500
DTSTAMP:20260425T103450
CREATED:20241212T002705Z
LAST-MODIFIED:20241212T002705Z
UID:28701-1735895700-1735897500@nicolejohnston.com.au
SUMMARY:Corinda Library | First 5 Forever Babies\, Books and Rhymes
DESCRIPTION:Meet other parents and babies for a fun session of singing\, clapping and dancing. Learn songs and action rhymes to nurture your baby’s pre-literacy\, communication\, language and social skills. Ideal for babies aged up to one year. First 5 Forever is an initiative of the Queensland Government\, coordinated by State Library of Queensland and delivered in partnership with local government.
URL:https://nicolejohnston.com.au/event/corinda-library-first-5-forever-babies-books-and-rhymes-11/
LOCATION:Corinda Library\, 641 Oxley Road\, Corinda\, Queensland\, 4075\, Australia
GEO:-27.538881;152.98142
X-APPLE-STRUCTURED-LOCATION;VALUE=URI;X-ADDRESS=Corinda Library 641 Oxley Road Corinda Queensland 4075 Australia;X-APPLE-RADIUS=500;X-TITLE=641 Oxley Road:geo:152.98142,-27.538881
END:VEVENT
BEGIN:VEVENT
DTSTART;TZID=Australia/Brisbane:20250102T091500
DTEND;TZID=Australia/Brisbane:20250102T094500
DTSTAMP:20260425T103450
CREATED:20241113T021000Z
LAST-MODIFIED:20241113T021000Z
UID:28500-1735809300-1735811100@nicolejohnston.com.au
SUMMARY:Corinda Library | First 5 Forever Toddler Time
DESCRIPTION:Meet other parents and toddlers for a fun session of singing\, clapping and dancing. Learn action rhymes and songs which will help your child’s pre-literacy\, communication\, language and social skills. Ideal for babies and toddlers aged 1-2 years.
URL:https://nicolejohnston.com.au/event/corinda-library-first-5-forever-toddler-time-12/
LOCATION:Corinda Library\, 641 Oxley Road\, Corinda\, Queensland\, 4075\, Australia
GEO:-27.538881;152.98142
X-APPLE-STRUCTURED-LOCATION;VALUE=URI;X-ADDRESS=Corinda Library 641 Oxley Road Corinda Queensland 4075 Australia;X-APPLE-RADIUS=500;X-TITLE=641 Oxley Road:geo:152.98142,-27.538881
END:VEVENT
BEGIN:VEVENT
DTSTART;TZID=Australia/Brisbane:20241221T100000
DTEND;TZID=Australia/Brisbane:20241221T120000
DTSTAMP:20260425T103450
CREATED:20241113T020302Z
LAST-MODIFIED:20241113T020302Z
UID:28490-1734775200-1734782400@nicolejohnston.com.au
SUMMARY:Corinda Library | Christmas Make and Create
DESCRIPTION:Drop in and enjoy free Christmas-themed craft activities. Ideal for children aged 4-12 years and their carers.
URL:https://nicolejohnston.com.au/event/corinda-library-christmas-make-and-create/
LOCATION:Corinda Library\, 641 Oxley Road\, Corinda\, Queensland\, 4075\, Australia
GEO:-27.538881;152.98142
X-APPLE-STRUCTURED-LOCATION;VALUE=URI;X-ADDRESS=Corinda Library 641 Oxley Road Corinda Queensland 4075 Australia;X-APPLE-RADIUS=500;X-TITLE=641 Oxley Road:geo:152.98142,-27.538881
END:VEVENT
BEGIN:VEVENT
DTSTART;TZID=Australia/Brisbane:20241220T091500
DTEND;TZID=Australia/Brisbane:20241220T094500
DTSTAMP:20260425T103450
CREATED:20241113T015925Z
LAST-MODIFIED:20241113T015925Z
UID:28484-1734686100-1734687900@nicolejohnston.com.au
SUMMARY:Corinda Library | First 5 Forever Babies\, Books and Rhymes
DESCRIPTION:Meet other parents and babies for a fun session of singing\, clapping and dancing. Learn songs and action rhymes to nurture your baby’s pre-literacy\, communication\, language and social skills. Ideal for babies aged up to one year.
URL:https://nicolejohnston.com.au/event/corinda-library-first-5-forever-babies-books-and-rhymes-13/
LOCATION:Corinda Library\, 641 Oxley Road\, Corinda\, Queensland\, 4075\, Australia
GEO:-27.538881;152.98142
X-APPLE-STRUCTURED-LOCATION;VALUE=URI;X-ADDRESS=Corinda Library 641 Oxley Road Corinda Queensland 4075 Australia;X-APPLE-RADIUS=500;X-TITLE=641 Oxley Road:geo:152.98142,-27.538881
END:VEVENT
BEGIN:VEVENT
DTSTART;TZID=Australia/Brisbane:20241219T091500
DTEND;TZID=Australia/Brisbane:20241219T094500
DTSTAMP:20260425T103450
CREATED:20241113T015800Z
LAST-MODIFIED:20241113T015800Z
UID:28482-1734599700-1734601500@nicolejohnston.com.au
SUMMARY:Corinda Library | First 5 Forever Toddler Time
DESCRIPTION:Meet other parents and toddlers for a fun session of singing\, clapping and dancing. Learn action rhymes and songs which will help your child’s pre-literacy\, communication\, language and social skills. Ideal for babies and toddlers aged 1-2 years.
URL:https://nicolejohnston.com.au/event/corinda-library-first-5-forever-toddler-time-11/
LOCATION:Corinda Library\, 641 Oxley Road\, Corinda\, Queensland\, 4075\, Australia
GEO:-27.538881;152.98142
X-APPLE-STRUCTURED-LOCATION;VALUE=URI;X-ADDRESS=Corinda Library 641 Oxley Road Corinda Queensland 4075 Australia;X-APPLE-RADIUS=500;X-TITLE=641 Oxley Road:geo:152.98142,-27.538881
END:VEVENT
BEGIN:VEVENT
DTSTART;TZID=Australia/Brisbane:20241213T091500
DTEND;TZID=Australia/Brisbane:20241213T094500
DTSTAMP:20260425T103450
CREATED:20241113T015308Z
LAST-MODIFIED:20241113T015308Z
UID:28474-1734081300-1734083100@nicolejohnston.com.au
SUMMARY:Corinda Library | First 5 Forever Babies\, Books and Rhymes
DESCRIPTION:Meet other parents and babies for a fun session of singing\, clapping and dancing. Learn songs and action rhymes to nurture your baby’s pre-literacy\, communication\, language and social skills. Ideal for babies aged up to one year.
URL:https://nicolejohnston.com.au/event/corinda-library-first-5-forever-babies-books-and-rhymes-12/
LOCATION:Corinda Library\, 641 Oxley Road\, Corinda\, Queensland\, 4075\, Australia
GEO:-27.538881;152.98142
X-APPLE-STRUCTURED-LOCATION;VALUE=URI;X-ADDRESS=Corinda Library 641 Oxley Road Corinda Queensland 4075 Australia;X-APPLE-RADIUS=500;X-TITLE=641 Oxley Road:geo:152.98142,-27.538881
END:VEVENT
BEGIN:VEVENT
DTSTART;TZID=Australia/Brisbane:20241212T140000
DTEND;TZID=Australia/Brisbane:20241212T150000
DTSTAMP:20260425T103450
CREATED:20241113T005606Z
LAST-MODIFIED:20241113T005606Z
UID:28411-1734012000-1734015600@nicolejohnston.com.au
SUMMARY:Corinda Library | Tea and Festive Trivia
DESCRIPTION:Join us for afternoon tea and test your knowledge of the festive season. Individuals and groups welcome. \nBookings required. Phone Corinda Library on 07 3407 7701 to reserve your place.
URL:https://nicolejohnston.com.au/event/corinda-library-tea-and-festive-trivia/
LOCATION:Corinda Library\, 641 Oxley Road\, Corinda\, Queensland\, 4075\, Australia
GEO:-27.538881;152.98142
X-APPLE-STRUCTURED-LOCATION;VALUE=URI;X-ADDRESS=Corinda Library 641 Oxley Road Corinda Queensland 4075 Australia;X-APPLE-RADIUS=500;X-TITLE=641 Oxley Road:geo:152.98142,-27.538881
END:VEVENT
BEGIN:VEVENT
DTSTART;TZID=Australia/Brisbane:20241212T091500
DTEND;TZID=Australia/Brisbane:20241212T094500
DTSTAMP:20260425T103450
CREATED:20241113T015031Z
LAST-MODIFIED:20241113T015031Z
UID:28470-1733994900-1733996700@nicolejohnston.com.au
SUMMARY:Corinda Library | First 5 Forever Toddler Time
DESCRIPTION:Meet other parents and toddlers for a fun session of singing\, clapping and dancing. Learn action rhymes and songs which will help your child’s pre-literacy\, communication\, language and social skills. Ideal for babies and toddlers aged 1-2 years.
URL:https://nicolejohnston.com.au/event/corinda-library-first-5-forever-toddler-time-10/
LOCATION:Corinda Library\, 641 Oxley Road\, Corinda\, Queensland\, 4075\, Australia
GEO:-27.538881;152.98142
X-APPLE-STRUCTURED-LOCATION;VALUE=URI;X-ADDRESS=Corinda Library 641 Oxley Road Corinda Queensland 4075 Australia;X-APPLE-RADIUS=500;X-TITLE=641 Oxley Road:geo:152.98142,-27.538881
END:VEVENT
BEGIN:VEVENT
DTSTART;TZID=Australia/Brisbane:20241206T091500
DTEND;TZID=Australia/Brisbane:20241206T094500
DTSTAMP:20260425T103450
CREATED:20240909T065024Z
LAST-MODIFIED:20240909T065024Z
UID:28189-1733476500-1733478300@nicolejohnston.com.au
SUMMARY:Corinda Library | First 5 Forever Babies\, Books and Rhymes
DESCRIPTION:Meet other parents and babies for a fun session of singing\, clapping and dancing. Learn songs and action rhymes to nurture your baby’s pre-literacy\, communication\, language and social skills. Ideal for babies aged up to one year.
URL:https://nicolejohnston.com.au/event/corinda-library-first-5-forever-babies-books-and-rhymes-9/
LOCATION:Corinda Library\, 641 Oxley Road\, Corinda\, Queensland\, 4075\, Australia
GEO:-27.538881;152.98142
X-APPLE-STRUCTURED-LOCATION;VALUE=URI;X-ADDRESS=Corinda Library 641 Oxley Road Corinda Queensland 4075 Australia;X-APPLE-RADIUS=500;X-TITLE=641 Oxley Road:geo:152.98142,-27.538881
END:VEVENT
BEGIN:VEVENT
DTSTART;TZID=Australia/Brisbane:20241205T153000
DTEND;TZID=Australia/Brisbane:20241205T163000
DTSTAMP:20260425T103450
CREATED:20241113T013503Z
LAST-MODIFIED:20241113T013503Z
UID:28450-1733412600-1733416200@nicolejohnston.com.au
SUMMARY:Corinda Library | Family STEAM
DESCRIPTION:Join us for an afternoon of games and activities exploring science\, technology\, reading and art. Each month there will be different activities to challenge your thinking and bring out your creative side in a fun environment. Ideal for children aged 7-12 years. \nPhone Corinda Library on 07 3407 7701 to reserve your place.
URL:https://nicolejohnston.com.au/event/corinda-library-family-steam-2/
LOCATION:Corinda Library\, 641 Oxley Road\, Corinda\, Queensland\, 4075\, Australia
GEO:-27.538881;152.98142
X-APPLE-STRUCTURED-LOCATION;VALUE=URI;X-ADDRESS=Corinda Library 641 Oxley Road Corinda Queensland 4075 Australia;X-APPLE-RADIUS=500;X-TITLE=641 Oxley Road:geo:152.98142,-27.538881
END:VEVENT
BEGIN:VEVENT
DTSTART;TZID=Australia/Brisbane:20241205T153000
DTEND;TZID=Australia/Brisbane:20241205T163000
DTSTAMP:20260425T103450
CREATED:20241113T005148Z
LAST-MODIFIED:20241113T005148Z
UID:28404-1733412600-1733416200@nicolejohnston.com.au
SUMMARY:Corinda Library | Family STEAM
DESCRIPTION:Join us for an afternoon of games and activities exploring science\, technology\, reading and art. Each month there will be different activities to challenge your thinking and bring out your creative side in a fun environment. Ideal for children aged 7-12 years. \nBookings required. Phone Corinda Library on 07 3407 7701 to reserve your place.
URL:https://nicolejohnston.com.au/event/corinda-library-family-steam/
LOCATION:Corinda Library\, 641 Oxley Road\, Corinda\, Queensland\, 4075\, Australia
GEO:-27.538881;152.98142
X-APPLE-STRUCTURED-LOCATION;VALUE=URI;X-ADDRESS=Corinda Library 641 Oxley Road Corinda Queensland 4075 Australia;X-APPLE-RADIUS=500;X-TITLE=641 Oxley Road:geo:152.98142,-27.538881
END:VEVENT
BEGIN:VEVENT
DTSTART;TZID=Australia/Brisbane:20241205T091500
DTEND;TZID=Australia/Brisbane:20241205T094500
DTSTAMP:20260425T103450
CREATED:20241113T012612Z
LAST-MODIFIED:20241113T012612Z
UID:28446-1733390100-1733391900@nicolejohnston.com.au
SUMMARY:Corinda Library |  First 5 Forever Toddler Time
DESCRIPTION:Meet other parents and toddlers for a fun session of singing\, clapping and dancing. Learn action rhymes and songs which will help your child’s pre-literacy\, communication\, language and social skills. Ideal for babies and toddlers aged 1-2 years.
URL:https://nicolejohnston.com.au/event/corinda-library-first-5-forever-toddler-time-9/
LOCATION:Corinda Library\, 641 Oxley Road\, Corinda\, Queensland\, 4075\, Australia
GEO:-27.538881;152.98142
X-APPLE-STRUCTURED-LOCATION;VALUE=URI;X-ADDRESS=Corinda Library 641 Oxley Road Corinda Queensland 4075 Australia;X-APPLE-RADIUS=500;X-TITLE=641 Oxley Road:geo:152.98142,-27.538881
END:VEVENT
BEGIN:VEVENT
DTSTART;TZID=Australia/Brisbane:20241204T091500
DTEND;TZID=Australia/Brisbane:20241204T094500
DTSTAMP:20260425T103450
CREATED:20240909T064807Z
LAST-MODIFIED:20240909T064807Z
UID:28187-1733303700-1733305500@nicolejohnston.com.au
SUMMARY:Corinda Library | First 5 Forever Toddler Time
DESCRIPTION:Meet other parents and toddlers for a fun session of singing\, clapping and dancing. Learn action rhymes and songs which will help your child’s pre-literacy\, communication\, language and social skills. Ideal for babies and toddlers aged 1-2 years.
URL:https://nicolejohnston.com.au/event/corinda-library-first-5-forever-toddler-time-8/
LOCATION:Corinda Library\, 641 Oxley Road\, Corinda\, Queensland\, 4075\, Australia
GEO:-27.538881;152.98142
X-APPLE-STRUCTURED-LOCATION;VALUE=URI;X-ADDRESS=Corinda Library 641 Oxley Road Corinda Queensland 4075 Australia;X-APPLE-RADIUS=500;X-TITLE=641 Oxley Road:geo:152.98142,-27.538881
END:VEVENT
BEGIN:VEVENT
DTSTART;TZID=Australia/Brisbane:20241129T091500
DTEND;TZID=Australia/Brisbane:20241129T094500
DTSTAMP:20260425T103450
CREATED:20240909T064629Z
LAST-MODIFIED:20240909T064629Z
UID:28185-1732871700-1732873500@nicolejohnston.com.au
SUMMARY:Corinda Library | First 5 Forever Babies\, Books and Rhymes
DESCRIPTION:Meet other parents and babies for a fun session of singing\, clapping and dancing. Learn songs and action rhymes to nurture your baby’s pre-literacy\, communication\, language and social skills. Ideal for babies aged up to one year.
URL:https://nicolejohnston.com.au/event/corinda-library-first-5-forever-babies-books-and-rhymes-8/
LOCATION:Corinda Library\, 641 Oxley Road\, Corinda\, Queensland\, 4075\, Australia
GEO:-27.538881;152.98142
X-APPLE-STRUCTURED-LOCATION;VALUE=URI;X-ADDRESS=Corinda Library 641 Oxley Road Corinda Queensland 4075 Australia;X-APPLE-RADIUS=500;X-TITLE=641 Oxley Road:geo:152.98142,-27.538881
END:VEVENT
BEGIN:VEVENT
DTSTART;TZID=Australia/Brisbane:20241127T091500
DTEND;TZID=Australia/Brisbane:20241127T094500
DTSTAMP:20260425T103450
CREATED:20240909T064251Z
LAST-MODIFIED:20240909T064251Z
UID:28181-1732698900-1732700700@nicolejohnston.com.au
SUMMARY:Corinda Library | First 5 Forever Toddler Time
DESCRIPTION:Meet other parents and toddlers for a fun session of singing\, clapping and dancing. Learn action rhymes and songs which will help your child’s pre-literacy\, communication\, language and social skills. Ideal for babies and toddlers aged 1-2 years.
URL:https://nicolejohnston.com.au/event/corinda-library-first-5-forever-toddler-time-7/
LOCATION:Corinda Library\, 641 Oxley Road\, Corinda\, Queensland\, 4075\, Australia
GEO:-27.538881;152.98142
X-APPLE-STRUCTURED-LOCATION;VALUE=URI;X-ADDRESS=Corinda Library 641 Oxley Road Corinda Queensland 4075 Australia;X-APPLE-RADIUS=500;X-TITLE=641 Oxley Road:geo:152.98142,-27.538881
END:VEVENT
BEGIN:VEVENT
DTSTART;TZID=Australia/Brisbane:20241122T091500
DTEND;TZID=Australia/Brisbane:20241122T094500
DTSTAMP:20260425T103450
CREATED:20240909T063912Z
LAST-MODIFIED:20240909T063912Z
UID:28175-1732266900-1732268700@nicolejohnston.com.au
SUMMARY:Corinda Library | First 5 Forever Babies\, Books and Rhymes
DESCRIPTION:Meet other parents and babies for a fun session of singing\, clapping and dancing. Learn songs and action rhymes to nurture your baby’s pre-literacy\, communication\, language and social skills. Ideal for babies aged up to one year.
URL:https://nicolejohnston.com.au/event/corinda-library-first-5-forever-babies-books-and-rhymes-7/
LOCATION:Corinda Library\, 641 Oxley Road\, Corinda\, Queensland\, 4075\, Australia
GEO:-27.538881;152.98142
X-APPLE-STRUCTURED-LOCATION;VALUE=URI;X-ADDRESS=Corinda Library 641 Oxley Road Corinda Queensland 4075 Australia;X-APPLE-RADIUS=500;X-TITLE=641 Oxley Road:geo:152.98142,-27.538881
END:VEVENT
BEGIN:VEVENT
DTSTART;TZID=Australia/Brisbane:20241121T140000
DTEND;TZID=Australia/Brisbane:20241121T150000
DTSTAMP:20260425T103450
CREATED:20240909T063014Z
LAST-MODIFIED:20240909T063014Z
UID:28171-1732197600-1732201200@nicolejohnston.com.au
SUMMARY:Corinda Library | Tea and Trivia
DESCRIPTION:Join us for afternoon tea and test your knowledge against friends. Individuals and groups welcome.
URL:https://nicolejohnston.com.au/event/corinda-library-tea-and-trivia-2/
LOCATION:Corinda Library\, 641 Oxley Road\, Corinda\, Queensland\, 4075\, Australia
GEO:-27.538881;152.98142
X-APPLE-STRUCTURED-LOCATION;VALUE=URI;X-ADDRESS=Corinda Library 641 Oxley Road Corinda Queensland 4075 Australia;X-APPLE-RADIUS=500;X-TITLE=641 Oxley Road:geo:152.98142,-27.538881
END:VEVENT
BEGIN:VEVENT
DTSTART;TZID=Australia/Brisbane:20241120T091500
DTEND;TZID=Australia/Brisbane:20241120T094500
DTSTAMP:20260425T103450
CREATED:20240909T062810Z
LAST-MODIFIED:20240909T062810Z
UID:28169-1732094100-1732095900@nicolejohnston.com.au
SUMMARY:Corinda Library | First 5 Forever Toddler Time
DESCRIPTION:Meet other parents and toddlers for a fun session of singing\, clapping and dancing. Learn action rhymes and songs which will help your child’s pre-literacy\, communication\, language and social skills. Ideal for babies and toddlers aged 1-2 years.
URL:https://nicolejohnston.com.au/event/corinda-library-first-5-forever-toddler-time-6/
LOCATION:Corinda Library\, 641 Oxley Road\, Corinda\, Queensland\, 4075\, Australia
GEO:-27.538881;152.98142
X-APPLE-STRUCTURED-LOCATION;VALUE=URI;X-ADDRESS=Corinda Library 641 Oxley Road Corinda Queensland 4075 Australia;X-APPLE-RADIUS=500;X-TITLE=641 Oxley Road:geo:152.98142,-27.538881
END:VEVENT
BEGIN:VEVENT
DTSTART;TZID=Australia/Brisbane:20241115T091500
DTEND;TZID=Australia/Brisbane:20241115T094500
DTSTAMP:20260425T103450
CREATED:20240909T062238Z
LAST-MODIFIED:20240909T062238Z
UID:28163-1731662100-1731663900@nicolejohnston.com.au
SUMMARY:Corinda |  First 5 Forever Babies\, Books and Rhymes
DESCRIPTION:Meet other parents and babies for a fun session of singing\, clapping and dancing. Learn songs and action rhymes to nurture your baby’s pre-literacy\, communication\, language and social skills. Ideal for babies aged up to one year.
URL:https://nicolejohnston.com.au/event/corinda-first-5-forever-babies-books-and-rhymes-2/
LOCATION:Corinda Library\, 641 Oxley Road\, Corinda\, Queensland\, 4075\, Australia
GEO:-27.538881;152.98142
X-APPLE-STRUCTURED-LOCATION;VALUE=URI;X-ADDRESS=Corinda Library 641 Oxley Road Corinda Queensland 4075 Australia;X-APPLE-RADIUS=500;X-TITLE=641 Oxley Road:geo:152.98142,-27.538881
END:VEVENT
BEGIN:VEVENT
DTSTART;TZID=Australia/Brisbane:20241114T153000
DTEND;TZID=Australia/Brisbane:20241114T163000
DTSTAMP:20260425T103450
CREATED:20240909T062018Z
LAST-MODIFIED:20240909T062018Z
UID:28159-1731598200-1731601800@nicolejohnston.com.au
SUMMARY:Corinda | STEAM Afternoon
DESCRIPTION:Join us for an afternoon of games and activities exploring science\, technology\, reading and art. Each month there will be different activities to challenge your thinking and bring out your creative side in a fun environment. Ideal for children aged 7-12 years.
URL:https://nicolejohnston.com.au/event/corinda-steam-afternoon/
LOCATION:Corinda Library\, 641 Oxley Road\, Corinda\, Queensland\, 4075\, Australia
GEO:-27.538881;152.98142
X-APPLE-STRUCTURED-LOCATION;VALUE=URI;X-ADDRESS=Corinda Library 641 Oxley Road Corinda Queensland 4075 Australia;X-APPLE-RADIUS=500;X-TITLE=641 Oxley Road:geo:152.98142,-27.538881
END:VEVENT
BEGIN:VEVENT
DTSTART;TZID=Australia/Brisbane:20241114T153000
DTEND;TZID=Australia/Brisbane:20241114T163000
DTSTAMP:20260425T103450
CREATED:20240909T061835Z
LAST-MODIFIED:20240909T061835Z
UID:28157-1731598200-1731601800@nicolejohnston.com.au
SUMMARY:Corinda Library | STEAM Afternoon
DESCRIPTION:Join us for an afternoon of games and activities exploring science\, technology\, reading and art. Each month there will be different activities to challenge your thinking and bring out your creative side in a fun environment. Ideal for children aged 7-12 years.
URL:https://nicolejohnston.com.au/event/corinda-library-steam-afternoon-3/
LOCATION:Corinda Library\, 641 Oxley Road\, Corinda\, Queensland\, 4075\, Australia
GEO:-27.538881;152.98142
X-APPLE-STRUCTURED-LOCATION;VALUE=URI;X-ADDRESS=Corinda Library 641 Oxley Road Corinda Queensland 4075 Australia;X-APPLE-RADIUS=500;X-TITLE=641 Oxley Road:geo:152.98142,-27.538881
END:VEVENT
BEGIN:VEVENT
DTSTART;TZID=Australia/Brisbane:20241113T091500
DTEND;TZID=Australia/Brisbane:20241113T094500
DTSTAMP:20260425T103450
CREATED:20240909T061737Z
LAST-MODIFIED:20240909T061737Z
UID:28155-1731489300-1731491100@nicolejohnston.com.au
SUMMARY:Corinda Library | First 5 Forever World Nursery Rhyme week
DESCRIPTION:Join us to celebrate World Nursery Rhyme Week and discover the important role nursery rhymes play in childhood development and education. Ideal for children aged 2-5 years.
URL:https://nicolejohnston.com.au/event/corinda-library-first-5-forever-world-nursery-rhyme-week/
LOCATION:Corinda Library\, 641 Oxley Road\, Corinda\, Queensland\, 4075\, Australia
GEO:-27.538881;152.98142
X-APPLE-STRUCTURED-LOCATION;VALUE=URI;X-ADDRESS=Corinda Library 641 Oxley Road Corinda Queensland 4075 Australia;X-APPLE-RADIUS=500;X-TITLE=641 Oxley Road:geo:152.98142,-27.538881
END:VEVENT
END:VCALENDAR