BEGIN:VCALENDAR
VERSION:2.0
PRODID:-//Nicole Johnston - ECPv6.15.20//NONSGML v1.0//EN
CALSCALE:GREGORIAN
METHOD:PUBLISH
X-ORIGINAL-URL:https://nicolejohnston.com.au
X-WR-CALDESC:Events for Nicole Johnston
REFRESH-INTERVAL;VALUE=DURATION:PT1H
X-Robots-Tag:noindex
X-PUBLISHED-TTL:PT1H
BEGIN:VTIMEZONE
TZID:Australia/Brisbane
BEGIN:STANDARD
TZOFFSETFROM:+1000
TZOFFSETTO:+1000
TZNAME:AEST
DTSTART:20140101T000000
END:STANDARD
END:VTIMEZONE
BEGIN:VEVENT
DTSTART;TZID=Australia/Brisbane:20151223T110000
DTEND;TZID=Australia/Brisbane:20151223T120000
DTSTAMP:20260426T052046
CREATED:20151109T133238Z
LAST-MODIFIED:20151109T133238Z
UID:4808-1450868400-1450872000@nicolejohnston.com.au
SUMMARY:Email Basics | Corinda Library
DESCRIPTION:Bookings required. \nConnect with family\, friends and organisations using email. Learn how to create an email account\, send and reply to emails\, create contacts\, and sign in and out of your account. \nBasic computer and internet skills required.
URL:https://nicolejohnston.com.au/event/email-basics-corinda-library/
LOCATION:Corinda Library\, 641 Oxley Road\, Corinda\, Queensland\, 4075\, Australia
GEO:-27.538881;152.98142
X-APPLE-STRUCTURED-LOCATION;VALUE=URI;X-ADDRESS=Corinda Library 641 Oxley Road Corinda Queensland 4075 Australia;X-APPLE-RADIUS=500;X-TITLE=641 Oxley Road:geo:152.98142,-27.538881
END:VEVENT
BEGIN:VEVENT
DTSTART;TZID=Australia/Brisbane:20151222T103000
DTEND;TZID=Australia/Brisbane:20151222T113000
DTSTAMP:20260426T052046
CREATED:20151109T133130Z
LAST-MODIFIED:20151109T133130Z
UID:4807-1450780200-1450783800@nicolejohnston.com.au
SUMMARY:Tea & Trivia | Corinda Library
DESCRIPTION:Bookings required. \nMake friends and test your literary knowledge with trivia questions. \nIndividuals and groups welcome.
URL:https://nicolejohnston.com.au/event/tea-trivia-corinda-library/
LOCATION:Corinda Library\, 641 Oxley Road\, Corinda\, Queensland\, 4075\, Australia
GEO:-27.538881;152.98142
X-APPLE-STRUCTURED-LOCATION;VALUE=URI;X-ADDRESS=Corinda Library 641 Oxley Road Corinda Queensland 4075 Australia;X-APPLE-RADIUS=500;X-TITLE=641 Oxley Road:geo:152.98142,-27.538881
END:VEVENT
BEGIN:VEVENT
DTSTART;TZID=Australia/Brisbane:20151218T140000
DTEND;TZID=Australia/Brisbane:20151218T150000
DTSTAMP:20260426T052046
CREATED:20151109T133011Z
LAST-MODIFIED:20151109T133011Z
UID:4806-1450447200-1450450800@nicolejohnston.com.au
SUMMARY:Whodunnit in the Library | Corinda Library
DESCRIPTION:Bookings required. \nJoin a team of investigators to solve a mystery at the library. Crack codes to solve the mystery. \nIdeal for children aged 8-12 years.
URL:https://nicolejohnston.com.au/event/whodunnit-in-the-library-corinda-library/
LOCATION:Corinda Library\, 641 Oxley Road\, Corinda\, Queensland\, 4075\, Australia
GEO:-27.538881;152.98142
X-APPLE-STRUCTURED-LOCATION;VALUE=URI;X-ADDRESS=Corinda Library 641 Oxley Road Corinda Queensland 4075 Australia;X-APPLE-RADIUS=500;X-TITLE=641 Oxley Road:geo:152.98142,-27.538881
END:VEVENT
BEGIN:VEVENT
DTSTART;TZID=Australia/Brisbane:20151216T140000
DTEND;TZID=Australia/Brisbane:20151216T160000
DTSTAMP:20260426T052046
CREATED:20151109T132847Z
LAST-MODIFIED:20151109T132847Z
UID:4805-1450274400-1450281600@nicolejohnston.com.au
SUMMARY:Kids Krafternoon | Corinda Library
DESCRIPTION:Bookings required. \nTry your hand at a variety of paper crafts and book-related activities. \nIdeal for children aged 5-12 years.
URL:https://nicolejohnston.com.au/event/kids-krafternoon-corinda-library/
LOCATION:Corinda Library\, 641 Oxley Road\, Corinda\, Queensland\, 4075\, Australia
GEO:-27.538881;152.98142
X-APPLE-STRUCTURED-LOCATION;VALUE=URI;X-ADDRESS=Corinda Library 641 Oxley Road Corinda Queensland 4075 Australia;X-APPLE-RADIUS=500;X-TITLE=641 Oxley Road:geo:152.98142,-27.538881
END:VEVENT
BEGIN:VEVENT
DTSTART;TZID=Australia/Brisbane:20151216T110000
DTEND;TZID=Australia/Brisbane:20151216T120000
DTSTAMP:20260426T052046
CREATED:20151109T132706Z
LAST-MODIFIED:20151109T132736Z
UID:4804-1450263600-1450267200@nicolejohnston.com.au
SUMMARY:Pinterest Basics | Corinda Library
DESCRIPTION:Bookings required. \nLearn the basics of using Pinterest to collect images on the internet by signing up and creating your own virtual pin boards. \nBasic computer skills\, internet skills and an email account required.
URL:https://nicolejohnston.com.au/event/4804/
LOCATION:Corinda Library\, 641 Oxley Road\, Corinda\, Queensland\, 4075\, Australia
GEO:-27.538881;152.98142
X-APPLE-STRUCTURED-LOCATION;VALUE=URI;X-ADDRESS=Corinda Library 641 Oxley Road Corinda Queensland 4075 Australia;X-APPLE-RADIUS=500;X-TITLE=641 Oxley Road:geo:152.98142,-27.538881
END:VEVENT
BEGIN:VEVENT
DTSTART;TZID=Australia/Brisbane:20151209T110000
DTEND;TZID=Australia/Brisbane:20151209T120000
DTSTAMP:20260426T052046
CREATED:20151109T132555Z
LAST-MODIFIED:20151109T132555Z
UID:4803-1449658800-1449662400@nicolejohnston.com.au
SUMMARY:eBay & Gumtree Basics | Corinda Library
DESCRIPTION:Bookings required. \nLooking to de-clutter\, or add to your home? Learn about buying and selling goods safely online through eBay and Gumtree. \nBasic computer and internet skills required.
URL:https://nicolejohnston.com.au/event/ebay-gumtree-basics-corinda-library/
LOCATION:Corinda Library\, 641 Oxley Road\, Corinda\, Queensland\, 4075\, Australia
GEO:-27.538881;152.98142
X-APPLE-STRUCTURED-LOCATION;VALUE=URI;X-ADDRESS=Corinda Library 641 Oxley Road Corinda Queensland 4075 Australia;X-APPLE-RADIUS=500;X-TITLE=641 Oxley Road:geo:152.98142,-27.538881
END:VEVENT
BEGIN:VEVENT
DTSTART;TZID=Australia/Brisbane:20151204T140000
DTEND;TZID=Australia/Brisbane:20151204T150000
DTSTAMP:20260426T052046
CREATED:20151109T132440Z
LAST-MODIFIED:20151109T132440Z
UID:4802-1449237600-1449241200@nicolejohnston.com.au
SUMMARY:First 5 Forever ~ Digital Storytime | Corinda Library
DESCRIPTION:Bookings required. \nDiscover all the fantastic children’s resources and interactive stories you can access through the library catalogue. \nIdeal for children aged 2-5 years and their carers.
URL:https://nicolejohnston.com.au/event/first-5-forever-digital-storytime-corinda-library/
LOCATION:Corinda Library\, 641 Oxley Road\, Corinda\, Queensland\, 4075\, Australia
GEO:-27.538881;152.98142
X-APPLE-STRUCTURED-LOCATION;VALUE=URI;X-ADDRESS=Corinda Library 641 Oxley Road Corinda Queensland 4075 Australia;X-APPLE-RADIUS=500;X-TITLE=641 Oxley Road:geo:152.98142,-27.538881
END:VEVENT
BEGIN:VEVENT
DTSTART;TZID=Australia/Brisbane:20151202T110000
DTEND;TZID=Australia/Brisbane:20151202T120000
DTSTAMP:20260426T052046
CREATED:20151109T132300Z
LAST-MODIFIED:20151109T132300Z
UID:4801-1449054000-1449057600@nicolejohnston.com.au
SUMMARY:Internet Security | Corinda Library
DESCRIPTION:Bookings required. \nFeel safe and confident online by learning the basics of secure internet use. Learn how to protect yourself against viruses and malware\, pay safely online and create strong passwords. \nBasic computer and internet skills required.
URL:https://nicolejohnston.com.au/event/internet-security-corinda-library/
LOCATION:Corinda Library\, 641 Oxley Road\, Corinda\, Queensland\, 4075\, Australia
GEO:-27.538881;152.98142
X-APPLE-STRUCTURED-LOCATION;VALUE=URI;X-ADDRESS=Corinda Library 641 Oxley Road Corinda Queensland 4075 Australia;X-APPLE-RADIUS=500;X-TITLE=641 Oxley Road:geo:152.98142,-27.538881
END:VEVENT
BEGIN:VEVENT
DTSTART;TZID=Australia/Brisbane:20151128T123000
DTEND;TZID=Australia/Brisbane:20151128T143000
DTSTAMP:20260426T052046
CREATED:20151015T093210Z
LAST-MODIFIED:20151015T093210Z
UID:4513-1448713800-1448721000@nicolejohnston.com.au
SUMMARY:Green Roofs & Vertical Gardens
DESCRIPTION:Bookings required. \nKeen to utilize wall and roof space to green up your environment? Be inspired by stunning examples of local and international roof gardens and green walls. Learn what plants work locally and discuss potting mix options. See examples of small scale vertical gardens and be inspired to create your own version at home. \nPresented by ABC Radio gardening presenter\, Annette McFarlane.
URL:https://nicolejohnston.com.au/event/green-roofs-vertical-gardens/
LOCATION:Corinda Library\, 641 Oxley Road\, Corinda\, Queensland\, 4075\, Australia
GEO:-27.538881;152.98142
X-APPLE-STRUCTURED-LOCATION;VALUE=URI;X-ADDRESS=Corinda Library 641 Oxley Road Corinda Queensland 4075 Australia;X-APPLE-RADIUS=500;X-TITLE=641 Oxley Road:geo:152.98142,-27.538881
END:VEVENT
BEGIN:VEVENT
DTSTART;TZID=Australia/Brisbane:20151125T110000
DTEND;TZID=Australia/Brisbane:20151125T120000
DTSTAMP:20260426T052046
CREATED:20151109T132129Z
LAST-MODIFIED:20151109T132129Z
UID:4800-1448449200-1448452800@nicolejohnston.com.au
SUMMARY:Library e-Books | Corinda Library
DESCRIPTION:Bookings required. \nLearn how to read and listen to free e-books and e-audiobooks from the online library catalogue. \nBring your library card and email account details. \nBasic computer skills required.
URL:https://nicolejohnston.com.au/event/library-e-books-corinda-library/
LOCATION:Corinda Library\, 641 Oxley Road\, Corinda\, Queensland\, 4075\, Australia
GEO:-27.538881;152.98142
X-APPLE-STRUCTURED-LOCATION;VALUE=URI;X-ADDRESS=Corinda Library 641 Oxley Road Corinda Queensland 4075 Australia;X-APPLE-RADIUS=500;X-TITLE=641 Oxley Road:geo:152.98142,-27.538881
END:VEVENT
BEGIN:VEVENT
DTSTART;TZID=Australia/Brisbane:20151121T093000
DTEND;TZID=Australia/Brisbane:20151121T100000
DTSTAMP:20260426T052046
CREATED:20151109T132007Z
LAST-MODIFIED:20151109T132007Z
UID:4799-1448098200-1448100000@nicolejohnston.com.au
SUMMARY:Time Travel Storytime
DESCRIPTION:Bookings required. \nDress up in your favourite historical costume\, whether as a Roman\, a pirate or a Victorian street urchin\, and take a trip through time with stories and craft. \nIdeal for children aged 5 to 12 years.
URL:https://nicolejohnston.com.au/event/time-travel-storytime/
LOCATION:Corinda Library\, 641 Oxley Road\, Corinda\, Queensland\, 4075\, Australia
GEO:-27.538881;152.98142
X-APPLE-STRUCTURED-LOCATION;VALUE=URI;X-ADDRESS=Corinda Library 641 Oxley Road Corinda Queensland 4075 Australia;X-APPLE-RADIUS=500;X-TITLE=641 Oxley Road:geo:152.98142,-27.538881
END:VEVENT
BEGIN:VEVENT
DTSTART;TZID=Australia/Brisbane:20151118T110000
DTEND;TZID=Australia/Brisbane:20151118T120000
DTSTAMP:20260426T052046
CREATED:20151109T131838Z
LAST-MODIFIED:20151109T131838Z
UID:4798-1447844400-1447848000@nicolejohnston.com.au
SUMMARY:Internet Basics | Corinda Library
DESCRIPTION:Bookings required. \nLearn how to find your way around the internet safely\, save your favourite websites\, search for information and use Google to help you find answers. \nBasic computer skills required.
URL:https://nicolejohnston.com.au/event/internet-basics-corinda-library/
LOCATION:Corinda Library\, 641 Oxley Road\, Corinda\, Queensland\, 4075\, Australia
GEO:-27.538881;152.98142
X-APPLE-STRUCTURED-LOCATION;VALUE=URI;X-ADDRESS=Corinda Library 641 Oxley Road Corinda Queensland 4075 Australia;X-APPLE-RADIUS=500;X-TITLE=641 Oxley Road:geo:152.98142,-27.538881
END:VEVENT
BEGIN:VEVENT
DTSTART;TZID=Australia/Brisbane:20151109T110000
DTEND;TZID=Australia/Brisbane:20151109T120000
DTSTAMP:20260426T052046
CREATED:20151109T131615Z
LAST-MODIFIED:20151109T131615Z
UID:4797-1447066800-1447070400@nicolejohnston.com.au
SUMMARY:Computer Basics | Corinda Library
DESCRIPTION:Bookings required. \nLearn how to use the keyboard and mouse\, and find your way around a Windows 7 computer. \nPerfect for the first time user.
URL:https://nicolejohnston.com.au/event/computer-basics-corinda-library/
LOCATION:Corinda Library\, 641 Oxley Road\, Corinda\, Queensland\, 4075\, Australia
GEO:-27.538881;152.98142
X-APPLE-STRUCTURED-LOCATION;VALUE=URI;X-ADDRESS=Corinda Library 641 Oxley Road Corinda Queensland 4075 Australia;X-APPLE-RADIUS=500;X-TITLE=641 Oxley Road:geo:152.98142,-27.538881
END:VEVENT
BEGIN:VEVENT
DTSTART;TZID=Australia/Brisbane:20150709T093000
DTEND;TZID=Australia/Brisbane:20150709T100000
DTSTAMP:20260426T052046
CREATED:20150602T060513Z
LAST-MODIFIED:20150602T060513Z
UID:3264-1436434200-1436436000@nicolejohnston.com.au
SUMMARY:NAIDOC Week Storytime - Corinda
DESCRIPTION:We all stand on sacred ground: Learn\, Respect and Celebrate. \nEnjoy a special storytime celebrating Aboriginal and Torres Strait Islander cultures. \nIdeal for children aged 2 – 5 years. \n*Places are limited.  Bookings are essential.
URL:https://nicolejohnston.com.au/event/naidoc-week-storytime-corinda/
LOCATION:Corinda Library\, 641 Oxley Road\, Corinda\, Queensland\, 4075\, Australia
GEO:-27.538881;152.98142
X-APPLE-STRUCTURED-LOCATION;VALUE=URI;X-ADDRESS=Corinda Library 641 Oxley Road Corinda Queensland 4075 Australia;X-APPLE-RADIUS=500;X-TITLE=641 Oxley Road:geo:152.98142,-27.538881
END:VEVENT
BEGIN:VEVENT
DTSTART;TZID=Australia/Brisbane:20150606T093000
DTEND;TZID=Australia/Brisbane:20150606T220000
DTSTAMP:20260426T052046
CREATED:20150602T055306Z
LAST-MODIFIED:20150602T055306Z
UID:3231-1433583000-1433628000@nicolejohnston.com.au
SUMMARY:Corinda Children's Storytime
DESCRIPTION:Ideal for children aged 2 – 5 years. \nBookings not required.
URL:https://nicolejohnston.com.au/event/corinda-childrens-storytime/2015-06-06/
LOCATION:Corinda Library\, 641 Oxley Road\, Corinda\, Queensland\, 4075\, Australia
GEO:-27.538881;152.98142
X-APPLE-STRUCTURED-LOCATION;VALUE=URI;X-ADDRESS=Corinda Library 641 Oxley Road Corinda Queensland 4075 Australia;X-APPLE-RADIUS=500;X-TITLE=641 Oxley Road:geo:152.98142,-27.538881
END:VEVENT
BEGIN:VEVENT
DTSTART;TZID=Australia/Brisbane:20150522T140000
DTEND;TZID=Australia/Brisbane:20150522T153000
DTSTAMP:20260426T052046
CREATED:20150226T074756Z
LAST-MODIFIED:20150226T074756Z
UID:1957-1432303200-1432308600@nicolejohnston.com.au
SUMMARY:Corinna Tea & Trivia: Crime Fiction
DESCRIPTION:Share a cuppa as we delve into the murky world of crime fiction.  Test your knowledge with trivia questions. \nBookings required. \n 
URL:https://nicolejohnston.com.au/event/corinna-tea-trivia-crime-fiction/
LOCATION:Corinda Library\, 641 Oxley Road\, Corinda\, Queensland\, 4075\, Australia
GEO:-27.538881;152.98142
X-APPLE-STRUCTURED-LOCATION;VALUE=URI;X-ADDRESS=Corinda Library 641 Oxley Road Corinda Queensland 4075 Australia;X-APPLE-RADIUS=500;X-TITLE=641 Oxley Road:geo:152.98142,-27.538881
END:VEVENT
BEGIN:VEVENT
DTSTART;TZID=Australia/Brisbane:20150520T110000
DTEND;TZID=Australia/Brisbane:20150520T120000
DTSTAMP:20260426T052046
CREATED:20150226T074639Z
LAST-MODIFIED:20150226T074639Z
UID:1956-1432119600-1432123200@nicolejohnston.com.au
SUMMARY:Corinda eBay and Gumtree Basics
DESCRIPTION:Looking to declutter or add to your home?  Learn about selling and buying goods safely online through eBay and Gumtree. \nBasic computer and internet skills required. \nBookings required.
URL:https://nicolejohnston.com.au/event/corinda-ebay-and-gumtree-basics/
LOCATION:Corinda Library\, 641 Oxley Road\, Corinda\, Queensland\, 4075\, Australia
GEO:-27.538881;152.98142
X-APPLE-STRUCTURED-LOCATION;VALUE=URI;X-ADDRESS=Corinda Library 641 Oxley Road Corinda Queensland 4075 Australia;X-APPLE-RADIUS=500;X-TITLE=641 Oxley Road:geo:152.98142,-27.538881
END:VEVENT
BEGIN:VEVENT
DTSTART;TZID=Australia/Brisbane:20150513T110000
DTEND;TZID=Australia/Brisbane:20150513T120000
DTSTAMP:20260426T052046
CREATED:20150226T074531Z
LAST-MODIFIED:20150226T074531Z
UID:1955-1431514800-1431518400@nicolejohnston.com.au
SUMMARY:Corinda iPad Apps
DESCRIPTION:Learn how to navigate the App Store to find useful\, educational and fun apps to install on your iPad. \nBring your iPad and Apple ID account information. \nBookings required.
URL:https://nicolejohnston.com.au/event/corinda-ipad-apps/
LOCATION:Corinda Library\, 641 Oxley Road\, Corinda\, Queensland\, 4075\, Australia
GEO:-27.538881;152.98142
X-APPLE-STRUCTURED-LOCATION;VALUE=URI;X-ADDRESS=Corinda Library 641 Oxley Road Corinda Queensland 4075 Australia;X-APPLE-RADIUS=500;X-TITLE=641 Oxley Road:geo:152.98142,-27.538881
END:VEVENT
BEGIN:VEVENT
DTSTART;TZID=Australia/Brisbane:20150507T093000
DTEND;TZID=Australia/Brisbane:20150507T100000
DTSTAMP:20260426T052046
CREATED:20150226T074421Z
LAST-MODIFIED:20150226T074421Z
UID:1954-1430991000-1430992800@nicolejohnston.com.au
SUMMARY:Corinda Mother's Day Storytime
DESCRIPTION:Make a card for mum and read some stories about families. \nIdeal for children aged 2 – 5 years.
URL:https://nicolejohnston.com.au/event/corinda-mothers-day-storytime/
LOCATION:Corinda Library\, 641 Oxley Road\, Corinda\, Queensland\, 4075\, Australia
GEO:-27.538881;152.98142
X-APPLE-STRUCTURED-LOCATION;VALUE=URI;X-ADDRESS=Corinda Library 641 Oxley Road Corinda Queensland 4075 Australia;X-APPLE-RADIUS=500;X-TITLE=641 Oxley Road:geo:152.98142,-27.538881
END:VEVENT
BEGIN:VEVENT
DTSTART;TZID=Australia/Brisbane:20150506T110000
DTEND;TZID=Australia/Brisbane:20150506T120000
DTSTAMP:20260426T052046
CREATED:20150226T074322Z
LAST-MODIFIED:20150226T074322Z
UID:1953-1430910000-1430913600@nicolejohnston.com.au
SUMMARY:Corinda Internet Basics
DESCRIPTION:Learn how to find your way around the internet safely\, save your favourite websites\, search for information and use Google to help you find answers. \nBasic computer skills required. \nBookings required.
URL:https://nicolejohnston.com.au/event/corinda-internet-basics-2/
LOCATION:Corinda Library\, 641 Oxley Road\, Corinda\, Queensland\, 4075\, Australia
GEO:-27.538881;152.98142
X-APPLE-STRUCTURED-LOCATION;VALUE=URI;X-ADDRESS=Corinda Library 641 Oxley Road Corinda Queensland 4075 Australia;X-APPLE-RADIUS=500;X-TITLE=641 Oxley Road:geo:152.98142,-27.538881
END:VEVENT
BEGIN:VEVENT
DTSTART;TZID=Australia/Brisbane:20150429T110000
DTEND;TZID=Australia/Brisbane:20150429T120000
DTSTAMP:20260426T052046
CREATED:20150226T074202Z
LAST-MODIFIED:20150226T074202Z
UID:1952-1430305200-1430308800@nicolejohnston.com.au
SUMMARY:Corinda Smartphone Photography
DESCRIPTION:Learn how to use your smartphone to take photos\, capture important moments in your life and share them with your family and friends. \nBring your own smartphone. \nBookings required.
URL:https://nicolejohnston.com.au/event/corinda-smartphone-photography/
LOCATION:Corinda Library\, 641 Oxley Road\, Corinda\, Queensland\, 4075\, Australia
GEO:-27.538881;152.98142
X-APPLE-STRUCTURED-LOCATION;VALUE=URI;X-ADDRESS=Corinda Library 641 Oxley Road Corinda Queensland 4075 Australia;X-APPLE-RADIUS=500;X-TITLE=641 Oxley Road:geo:152.98142,-27.538881
END:VEVENT
BEGIN:VEVENT
DTSTART;TZID=Australia/Brisbane:20150423T140000
DTEND;TZID=Australia/Brisbane:20150423T160000
DTSTAMP:20260426T052046
CREATED:20150226T074059Z
LAST-MODIFIED:20150226T074059Z
UID:1951-1429797600-1429804800@nicolejohnston.com.au
SUMMARY:A Yarn for the Next Generation: Writing for Seniors
DESCRIPTION:Have you ever been told your life would make a good book?  Want to meet a few like minded people and swap stories?  If you have been thinking about writing a few yarns for family and friends\, this will get you started. \nIdeal for the beginner wanting to create a story that can be printed on a home computer for family and friends.  Presented by Jacqueline Smart Ferguson. \nBookings required.
URL:https://nicolejohnston.com.au/event/a-yarn-for-the-next-generation-writing-for-seniors/
LOCATION:Corinda Library\, 641 Oxley Road\, Corinda\, Queensland\, 4075\, Australia
GEO:-27.538881;152.98142
X-APPLE-STRUCTURED-LOCATION;VALUE=URI;X-ADDRESS=Corinda Library 641 Oxley Road Corinda Queensland 4075 Australia;X-APPLE-RADIUS=500;X-TITLE=641 Oxley Road:geo:152.98142,-27.538881
END:VEVENT
BEGIN:VEVENT
DTSTART;TZID=Australia/Brisbane:20150423T093000
DTEND;TZID=Australia/Brisbane:20150423T100000
DTSTAMP:20260426T052046
CREATED:20150226T073922Z
LAST-MODIFIED:20150226T073922Z
UID:1949-1429781400-1429783200@nicolejohnston.com.au
SUMMARY:Corinda ANZAC Storytime
DESCRIPTION:Celebrate this special day with Australian stories and craft. \nIdeal for children aged 2 – 5 years.
URL:https://nicolejohnston.com.au/event/corinda-anzac-storytime/
LOCATION:Corinda Library\, 641 Oxley Road\, Corinda\, Queensland\, 4075\, Australia
GEO:-27.538881;152.98142
X-APPLE-STRUCTURED-LOCATION;VALUE=URI;X-ADDRESS=Corinda Library 641 Oxley Road Corinda Queensland 4075 Australia;X-APPLE-RADIUS=500;X-TITLE=641 Oxley Road:geo:152.98142,-27.538881
END:VEVENT
BEGIN:VEVENT
DTSTART;TZID=Australia/Brisbane:20150422T110000
DTEND;TZID=Australia/Brisbane:20150422T120000
DTSTAMP:20260426T052046
CREATED:20150226T073833Z
LAST-MODIFIED:20150226T073833Z
UID:1948-1429700400-1429704000@nicolejohnston.com.au
SUMMARY:Corinda Library eBooks
DESCRIPTION:Learn how to read and listen to free eBooks and eAudiobooks from the online library catalogue.  Bring your library card and email account details. \nBasic computer skills required. \nBookings required.
URL:https://nicolejohnston.com.au/event/corinda-library-ebooks-2/
LOCATION:Corinda Library\, 641 Oxley Road\, Corinda\, Queensland\, 4075\, Australia
GEO:-27.538881;152.98142
X-APPLE-STRUCTURED-LOCATION;VALUE=URI;X-ADDRESS=Corinda Library 641 Oxley Road Corinda Queensland 4075 Australia;X-APPLE-RADIUS=500;X-TITLE=641 Oxley Road:geo:152.98142,-27.538881
END:VEVENT
BEGIN:VEVENT
DTSTART;TZID=Australia/Brisbane:20150417T140000
DTEND;TZID=Australia/Brisbane:20150417T150000
DTSTAMP:20260426T052046
CREATED:20150226T073714Z
LAST-MODIFIED:20150226T073714Z
UID:1947-1429279200-1429282800@nicolejohnston.com.au
SUMMARY:YeeHaa Cowboy!
DESCRIPTION:Create your own little Wild\, Wild West scene.  Complete with cowboy\, cowgirl\, cows\, cactus and tumbleweeds. \nIdeal for children aged 5 – 8 years. \nBookings required.
URL:https://nicolejohnston.com.au/event/yeehaa-cowboy-2/
LOCATION:Corinda Library\, 641 Oxley Road\, Corinda\, Queensland\, 4075\, Australia
GEO:-27.538881;152.98142
X-APPLE-STRUCTURED-LOCATION;VALUE=URI;X-ADDRESS=Corinda Library 641 Oxley Road Corinda Queensland 4075 Australia;X-APPLE-RADIUS=500;X-TITLE=641 Oxley Road:geo:152.98142,-27.538881
END:VEVENT
BEGIN:VEVENT
DTSTART;TZID=Australia/Brisbane:20150416T140000
DTEND;TZID=Australia/Brisbane:20150416T150000
DTSTAMP:20260426T052046
CREATED:20150226T073546Z
LAST-MODIFIED:20150226T073546Z
UID:1946-1429192800-1429196400@nicolejohnston.com.au
SUMMARY:Billie B Brown's Brilliant Birthday Bash!
DESCRIPTION:With exuberance\, humour and a very cheeky smile\, Billie B Brown has starred in over 26 titles winning over the hearts of children alike with her brave\, brilliant and bold personality.  It’s been five years since Billie first bounced onto the early reader scene in April 2010 and we think this beautiful birthday girl deserves a really BIG birthday celebration and you’re invited! \nJoin us for an event of all things Billie and share your favourite reading experiences with other fans. \nIdeal for ages 6 – 10 years. \nBookings required.
URL:https://nicolejohnston.com.au/event/billie-b-browns-brilliant-birthday-bash-2/
LOCATION:Corinda Library\, 641 Oxley Road\, Corinda\, Queensland\, 4075\, Australia
GEO:-27.538881;152.98142
X-APPLE-STRUCTURED-LOCATION;VALUE=URI;X-ADDRESS=Corinda Library 641 Oxley Road Corinda Queensland 4075 Australia;X-APPLE-RADIUS=500;X-TITLE=641 Oxley Road:geo:152.98142,-27.538881
END:VEVENT
BEGIN:VEVENT
DTSTART;TZID=Australia/Brisbane:20150415T110000
DTEND;TZID=Australia/Brisbane:20150415T120000
DTSTAMP:20260426T052046
CREATED:20150226T073328Z
LAST-MODIFIED:20150226T073328Z
UID:1945-1429095600-1429099200@nicolejohnston.com.au
SUMMARY:Corinda Pinterest Basics
DESCRIPTION:Learn the basics of using Pinterest to collect images on the internet by signing up and creating your own virtual pin boards. \nBasic computer skills\, internet skills and an email account required. \nBookings required.
URL:https://nicolejohnston.com.au/event/corinda-pinterest-basics/
LOCATION:Corinda Library\, 641 Oxley Road\, Corinda\, Queensland\, 4075\, Australia
GEO:-27.538881;152.98142
X-APPLE-STRUCTURED-LOCATION;VALUE=URI;X-ADDRESS=Corinda Library 641 Oxley Road Corinda Queensland 4075 Australia;X-APPLE-RADIUS=500;X-TITLE=641 Oxley Road:geo:152.98142,-27.538881
END:VEVENT
BEGIN:VEVENT
DTSTART;TZID=Australia/Brisbane:20150411T093000
DTEND;TZID=Australia/Brisbane:20150411T103000
DTSTAMP:20260426T052046
CREATED:20150226T073216Z
LAST-MODIFIED:20150226T073216Z
UID:1944-1428744600-1428748200@nicolejohnston.com.au
SUMMARY:Corinna Basic Macrame Workshop
DESCRIPTION:Join Jennine Birrell from Fibre Arts Road to learn the basics of macrame.  By recycling materials from home and using beginner knotting techniques you can make a charming household planter. \nBookings required.
URL:https://nicolejohnston.com.au/event/corinna-basic-macrame-workshop/
LOCATION:Corinda Library\, 641 Oxley Road\, Corinda\, Queensland\, 4075\, Australia
GEO:-27.538881;152.98142
X-APPLE-STRUCTURED-LOCATION;VALUE=URI;X-ADDRESS=Corinda Library 641 Oxley Road Corinda Queensland 4075 Australia;X-APPLE-RADIUS=500;X-TITLE=641 Oxley Road:geo:152.98142,-27.538881
END:VEVENT
BEGIN:VEVENT
DTSTART;TZID=Australia/Brisbane:20150408T110000
DTEND;TZID=Australia/Brisbane:20150408T120000
DTSTAMP:20260426T052046
CREATED:20150226T073048Z
LAST-MODIFIED:20150226T073048Z
UID:1943-1428490800-1428494400@nicolejohnston.com.au
SUMMARY:Corinda iPad Basics
DESCRIPTION:Learn how to find your way around an iPad.  Discover apps\, connect to wi-fi and search the internet.  Perfect for the first time user. \nBring your own iPad. \nBookings required.
URL:https://nicolejohnston.com.au/event/corinda-ipad-basics-2/
LOCATION:Corinda Library\, 641 Oxley Road\, Corinda\, Queensland\, 4075\, Australia
GEO:-27.538881;152.98142
X-APPLE-STRUCTURED-LOCATION;VALUE=URI;X-ADDRESS=Corinda Library 641 Oxley Road Corinda Queensland 4075 Australia;X-APPLE-RADIUS=500;X-TITLE=641 Oxley Road:geo:152.98142,-27.538881
END:VEVENT
BEGIN:VEVENT
DTSTART;TZID=Australia/Brisbane:20150402T093000
DTEND;TZID=Australia/Brisbane:20150402T220000
DTSTAMP:20260426T052046
CREATED:20150226T072935Z
LAST-MODIFIED:20150226T072935Z
UID:1942-1427967000-1428012000@nicolejohnston.com.au
SUMMARY:Corinda Easter Storytime
DESCRIPTION:Join us for Easter stories and a great Easter craft. \nIdeal for children aged 2 – 5 years.
URL:https://nicolejohnston.com.au/event/corinda-easter-storytime/
LOCATION:Corinda Library\, 641 Oxley Road\, Corinda\, Queensland\, 4075\, Australia
GEO:-27.538881;152.98142
X-APPLE-STRUCTURED-LOCATION;VALUE=URI;X-ADDRESS=Corinda Library 641 Oxley Road Corinda Queensland 4075 Australia;X-APPLE-RADIUS=500;X-TITLE=641 Oxley Road:geo:152.98142,-27.538881
END:VEVENT
END:VCALENDAR