BEGIN:VCALENDAR
VERSION:2.0
PRODID:-//Nicole Johnston - ECPv6.15.20//NONSGML v1.0//EN
CALSCALE:GREGORIAN
METHOD:PUBLISH
X-WR-CALNAME:Nicole Johnston
X-ORIGINAL-URL:https://nicolejohnston.com.au
X-WR-CALDESC:Events for Nicole Johnston
REFRESH-INTERVAL;VALUE=DURATION:PT1H
X-Robots-Tag:noindex
X-PUBLISHED-TTL:PT1H
BEGIN:VTIMEZONE
TZID:Australia/Brisbane
BEGIN:STANDARD
TZOFFSETFROM:+1000
TZOFFSETTO:+1000
TZNAME:AEST
DTSTART:20240101T000000
END:STANDARD
END:VTIMEZONE
BEGIN:VEVENT
DTSTART;TZID=Australia/Brisbane:20250924T100000
DTEND;TZID=Australia/Brisbane:20250924T120000
DTSTAMP:20260424T194859
CREATED:20250723T015257Z
LAST-MODIFIED:20250723T015257Z
UID:30326-1758708000-1758715200@nicolejohnston.com.au
SUMMARY:Corinda Library | Make and Create
DESCRIPTION:This school holidays\, drop into the library to get creative with free art and craft activities. Ideal for children aged 4-12 years and their carers.
URL:https://nicolejohnston.com.au/event/corinda-library-make-and-create/
LOCATION:Corinda Library\, 641 Oxley Road\, Corinda\, Queensland\, 4075\, Australia
GEO:-27.538881;152.98142
X-APPLE-STRUCTURED-LOCATION;VALUE=URI;X-ADDRESS=Corinda Library 641 Oxley Road Corinda Queensland 4075 Australia;X-APPLE-RADIUS=500;X-TITLE=641 Oxley Road:geo:152.98142,-27.538881
END:VEVENT
BEGIN:VEVENT
DTSTART;TZID=Australia/Brisbane:20250919T091500
DTEND;TZID=Australia/Brisbane:20250919T094500
DTSTAMP:20260424T194859
CREATED:20250723T014745Z
LAST-MODIFIED:20250723T014745Z
UID:30324-1758273300-1758275100@nicolejohnston.com.au
SUMMARY:Corinda Library | First 5 Forever Babies\, Books and Rhymes
DESCRIPTION:Meet other parents and babies for a fun session of singing\, clapping and dancing. Learn songs and action rhymes to nurture your baby’s pre-literacy\, communication\, language and social skills. Ideal for babies aged up to one year.
URL:https://nicolejohnston.com.au/event/corinda-library-first-5-forever-babies-books-and-rhymes-49/
LOCATION:Corinda Library\, 641 Oxley Road\, Corinda\, Queensland\, 4075\, Australia
GEO:-27.538881;152.98142
X-APPLE-STRUCTURED-LOCATION;VALUE=URI;X-ADDRESS=Corinda Library 641 Oxley Road Corinda Queensland 4075 Australia;X-APPLE-RADIUS=500;X-TITLE=641 Oxley Road:geo:152.98142,-27.538881
END:VEVENT
BEGIN:VEVENT
DTSTART;TZID=Australia/Brisbane:20250918T140000
DTEND;TZID=Australia/Brisbane:20250918T150000
DTSTAMP:20260424T194859
CREATED:20250723T014627Z
LAST-MODIFIED:20250723T014627Z
UID:30322-1758204000-1758207600@nicolejohnston.com.au
SUMMARY:Corinda Library | Tea and Trivia
DESCRIPTION:Join us for afternoon tea and test your knowledge against friends. Individuals and groups welcome. \nBookings required. Phone Corinda Library on 07 3407 7701 to reserve your place.
URL:https://nicolejohnston.com.au/event/corinda-library-tea-and-trivia-5/
LOCATION:Corinda Library\, 641 Oxley Road\, Corinda\, Queensland\, 4075\, Australia
GEO:-27.538881;152.98142
X-APPLE-STRUCTURED-LOCATION;VALUE=URI;X-ADDRESS=Corinda Library 641 Oxley Road Corinda Queensland 4075 Australia;X-APPLE-RADIUS=500;X-TITLE=641 Oxley Road:geo:152.98142,-27.538881
END:VEVENT
BEGIN:VEVENT
DTSTART;TZID=Australia/Brisbane:20250918T091500
DTEND;TZID=Australia/Brisbane:20250918T094500
DTSTAMP:20260424T194859
CREATED:20250723T014520Z
LAST-MODIFIED:20250723T014520Z
UID:30320-1758186900-1758188700@nicolejohnston.com.au
SUMMARY:Corinda Library | First 5 Forever Toddler Time
DESCRIPTION:Meet other parents and toddlers for a fun session of singing\, clapping and dancing. Learn action rhymes and songs which will help your child’s pre-literacy\, communication\, language and social skills. Ideal for babies and toddlers aged 1-2 years.
URL:https://nicolejohnston.com.au/event/corinda-library-first-5-forever-toddler-time-49/
LOCATION:Corinda Library\, 641 Oxley Road\, Corinda\, Queensland\, 4075\, Australia
GEO:-27.538881;152.98142
X-APPLE-STRUCTURED-LOCATION;VALUE=URI;X-ADDRESS=Corinda Library 641 Oxley Road Corinda Queensland 4075 Australia;X-APPLE-RADIUS=500;X-TITLE=641 Oxley Road:geo:152.98142,-27.538881
END:VEVENT
BEGIN:VEVENT
DTSTART;TZID=Australia/Brisbane:20250913T100000
DTEND;TZID=Australia/Brisbane:20250913T120000
DTSTAMP:20260424T194859
CREATED:20250723T014422Z
LAST-MODIFIED:20250723T014422Z
UID:30318-1757757600-1757764800@nicolejohnston.com.au
SUMMARY:Corinda Library | Gardening for Butterflies
DESCRIPTION:Learn how to attract butterflies into the garden and keep them all year round. What’s the secret? It’s all revealed in this workshop with horticulturist and 4BC gardening presenter\, Paul Plant. \nBookings required. Phone Corinda Library on 07 3407 7701 to reserve your place.
URL:https://nicolejohnston.com.au/event/corinda-library-gardening-for-butterflies/
LOCATION:Corinda Library\, 641 Oxley Road\, Corinda\, Queensland\, 4075\, Australia
GEO:-27.538881;152.98142
X-APPLE-STRUCTURED-LOCATION;VALUE=URI;X-ADDRESS=Corinda Library 641 Oxley Road Corinda Queensland 4075 Australia;X-APPLE-RADIUS=500;X-TITLE=641 Oxley Road:geo:152.98142,-27.538881
END:VEVENT
BEGIN:VEVENT
DTSTART;TZID=Australia/Brisbane:20250912T091500
DTEND;TZID=Australia/Brisbane:20250912T094500
DTSTAMP:20260424T194859
CREATED:20250723T014222Z
LAST-MODIFIED:20250723T014222Z
UID:30316-1757668500-1757670300@nicolejohnston.com.au
SUMMARY:Corinda Library | First 5 Forever Babies\, Books and Rhymes
DESCRIPTION:Meet other parents and babies for a fun session of singing\, clapping and dancing. Learn songs and action rhymes to nurture your baby’s pre-literacy\, communication\, language and social skills. Ideal for babies aged up to one year.
URL:https://nicolejohnston.com.au/event/corinda-library-first-5-forever-babies-books-and-rhymes-48/
LOCATION:Corinda Library\, 641 Oxley Road\, Corinda\, Queensland\, 4075\, Australia
GEO:-27.538881;152.98142
X-APPLE-STRUCTURED-LOCATION;VALUE=URI;X-ADDRESS=Corinda Library 641 Oxley Road Corinda Queensland 4075 Australia;X-APPLE-RADIUS=500;X-TITLE=641 Oxley Road:geo:152.98142,-27.538881
END:VEVENT
BEGIN:VEVENT
DTSTART;TZID=Australia/Brisbane:20250911T153000
DTEND;TZID=Australia/Brisbane:20250911T163000
DTSTAMP:20260424T194859
CREATED:20250723T014054Z
LAST-MODIFIED:20250723T014116Z
UID:30313-1757604600-1757608200@nicolejohnston.com.au
SUMMARY:Corinda Library | Family STEAM
DESCRIPTION:Join us for an afternoon of games and activities exploring science\, technology\, reading and art. Each month there will be different activities to challenge your thinking and bring out your creative side in a fun environment. Ideal for children aged 7-12 years. \nBookings required. Phone Corinda Library on 07 3407 7701 to reserve your place.
URL:https://nicolejohnston.com.au/event/corinda-library-family-steam-4/
LOCATION:Corinda Library\, 641 Oxley Road\, Corinda\, Queensland\, 4075\, Australia
GEO:-27.538881;152.98142
X-APPLE-STRUCTURED-LOCATION;VALUE=URI;X-ADDRESS=Corinda Library 641 Oxley Road Corinda Queensland 4075 Australia;X-APPLE-RADIUS=500;X-TITLE=641 Oxley Road:geo:152.98142,-27.538881
END:VEVENT
BEGIN:VEVENT
DTSTART;TZID=Australia/Brisbane:20250911T091500
DTEND;TZID=Australia/Brisbane:20250911T094500
DTSTAMP:20260424T194859
CREATED:20250723T013904Z
LAST-MODIFIED:20250723T013904Z
UID:30311-1757582100-1757583900@nicolejohnston.com.au
SUMMARY:Corinda Library | First 5 Forever Toddler Time
DESCRIPTION:Meet other parents and toddlers for a fun session of singing\, clapping and dancing. Learn action rhymes and songs which will help your child’s pre-literacy\, communication\, language and social skills. Ideal for babies and toddlers aged 1-2 years.
URL:https://nicolejohnston.com.au/event/corinda-library-first-5-forever-toddler-time-48/
LOCATION:Corinda Library\, 641 Oxley Road\, Corinda\, Queensland\, 4075\, Australia
GEO:-27.538881;152.98142
X-APPLE-STRUCTURED-LOCATION;VALUE=URI;X-ADDRESS=Corinda Library 641 Oxley Road Corinda Queensland 4075 Australia;X-APPLE-RADIUS=500;X-TITLE=641 Oxley Road:geo:152.98142,-27.538881
END:VEVENT
BEGIN:VEVENT
DTSTART;TZID=Australia/Brisbane:20250905T091500
DTEND;TZID=Australia/Brisbane:20250905T094500
DTSTAMP:20260424T194859
CREATED:20250723T013617Z
LAST-MODIFIED:20250723T013617Z
UID:30309-1757063700-1757065500@nicolejohnston.com.au
SUMMARY:Corinda Library | First 5 Forever Babies\, Books and Rhymes
DESCRIPTION:Meet other parents and babies for a fun session of singing\, clapping and dancing. Learn songs and action rhymes to nurture your baby’s pre-literacy\, communication\, language and social skills. Ideal for babies aged up to one year.
URL:https://nicolejohnston.com.au/event/corinda-library-first-5-forever-babies-books-and-rhymes-47/
LOCATION:Corinda Library\, 641 Oxley Road\, Corinda\, Queensland\, 4075\, Australia
GEO:-27.538881;152.98142
X-APPLE-STRUCTURED-LOCATION;VALUE=URI;X-ADDRESS=Corinda Library 641 Oxley Road Corinda Queensland 4075 Australia;X-APPLE-RADIUS=500;X-TITLE=641 Oxley Road:geo:152.98142,-27.538881
END:VEVENT
BEGIN:VEVENT
DTSTART;TZID=Australia/Brisbane:20250904T091500
DTEND;TZID=Australia/Brisbane:20250904T094500
DTSTAMP:20260424T194859
CREATED:20250723T013523Z
LAST-MODIFIED:20250723T013523Z
UID:30307-1756977300-1756979100@nicolejohnston.com.au
SUMMARY:Corinda Library | First 5 Forever Toddler Time
DESCRIPTION:Meet other parents and toddlers for a fun session of singing\, clapping and dancing. Learn action rhymes and songs which will help your child’s pre-literacy\, communication\, language and social skills. Ideal for babies and toddlers aged 1-2 years.
URL:https://nicolejohnston.com.au/event/corinda-library-first-5-forever-toddler-time-47/
LOCATION:Corinda Library\, 641 Oxley Road\, Corinda\, Queensland\, 4075\, Australia
GEO:-27.538881;152.98142
X-APPLE-STRUCTURED-LOCATION;VALUE=URI;X-ADDRESS=Corinda Library 641 Oxley Road Corinda Queensland 4075 Australia;X-APPLE-RADIUS=500;X-TITLE=641 Oxley Road:geo:152.98142,-27.538881
END:VEVENT
BEGIN:VEVENT
DTSTART;TZID=Australia/Brisbane:20250829T091500
DTEND;TZID=Australia/Brisbane:20250829T094500
DTSTAMP:20260424T194859
CREATED:20250723T013427Z
LAST-MODIFIED:20250723T013427Z
UID:30305-1756458900-1756460700@nicolejohnston.com.au
SUMMARY:Corinda Library | First 5 Forever Babies\, Books and Rhymes
DESCRIPTION:Meet other parents and babies for a fun session of singing\, clapping and dancing. Learn songs and action rhymes to nurture your baby’s pre-literacy\, communication\, language and social skills. Ideal for babies aged up to one year.
URL:https://nicolejohnston.com.au/event/corinda-library-first-5-forever-babies-books-and-rhymes-46/
LOCATION:Corinda Library\, 641 Oxley Road\, Corinda\, Queensland\, 4075\, Australia
GEO:-27.538881;152.98142
X-APPLE-STRUCTURED-LOCATION;VALUE=URI;X-ADDRESS=Corinda Library 641 Oxley Road Corinda Queensland 4075 Australia;X-APPLE-RADIUS=500;X-TITLE=641 Oxley Road:geo:152.98142,-27.538881
END:VEVENT
BEGIN:VEVENT
DTSTART;TZID=Australia/Brisbane:20250828T091500
DTEND;TZID=Australia/Brisbane:20250828T094500
DTSTAMP:20260424T194859
CREATED:20250723T013304Z
LAST-MODIFIED:20250723T013304Z
UID:30303-1756372500-1756374300@nicolejohnston.com.au
SUMMARY:Corinda Library | First 5 Forever Toddler Time
DESCRIPTION:Meet other parents and toddlers for a fun session of singing\, clapping and dancing. Learn action rhymes and songs which will help your child’s pre-literacy\, communication\, language and social skills. Ideal for babies and toddlers aged 1-2 years.
URL:https://nicolejohnston.com.au/event/corinda-library-first-5-forever-toddler-time-46/
LOCATION:Corinda Library\, 641 Oxley Road\, Corinda\, Queensland\, 4075\, Australia
GEO:-27.538881;152.98142
X-APPLE-STRUCTURED-LOCATION;VALUE=URI;X-ADDRESS=Corinda Library 641 Oxley Road Corinda Queensland 4075 Australia;X-APPLE-RADIUS=500;X-TITLE=641 Oxley Road:geo:152.98142,-27.538881
END:VEVENT
BEGIN:VEVENT
DTSTART;TZID=Australia/Brisbane:20250822T091500
DTEND;TZID=Australia/Brisbane:20250822T094500
DTSTAMP:20260424T194859
CREATED:20250723T013023Z
LAST-MODIFIED:20250723T013023Z
UID:30301-1755854100-1755855900@nicolejohnston.com.au
SUMMARY:Corinda Library | First 5 Forever Babies\, Books and Rhymes
DESCRIPTION:Meet other parents and babies for a fun session of singing\, clapping and dancing. Learn songs and action rhymes to nurture your baby’s pre-literacy\, communication\, language and social skills. Ideal for babies aged up to one year.
URL:https://nicolejohnston.com.au/event/corinda-library-first-5-forever-babies-books-and-rhymes-45/
LOCATION:Corinda Library\, 641 Oxley Road\, Corinda\, Queensland\, 4075\, Australia
GEO:-27.538881;152.98142
X-APPLE-STRUCTURED-LOCATION;VALUE=URI;X-ADDRESS=Corinda Library 641 Oxley Road Corinda Queensland 4075 Australia;X-APPLE-RADIUS=500;X-TITLE=641 Oxley Road:geo:152.98142,-27.538881
END:VEVENT
BEGIN:VEVENT
DTSTART;TZID=Australia/Brisbane:20250821T091500
DTEND;TZID=Australia/Brisbane:20250821T094500
DTSTAMP:20260424T194859
CREATED:20250723T012925Z
LAST-MODIFIED:20250723T012925Z
UID:30299-1755767700-1755769500@nicolejohnston.com.au
SUMMARY:Corinda Library | First 5 Forever Toddler Time
DESCRIPTION:Meet other parents and toddlers for a fun session of singing\, clapping and dancing. Learn action rhymes and songs which will help your child’s pre-literacy\, communication\, language and social skills. Ideal for babies and toddlers aged 1-2 years.
URL:https://nicolejohnston.com.au/event/corinda-library-first-5-forever-toddler-time-45/
LOCATION:Corinda Library\, 641 Oxley Road\, Corinda\, Queensland\, 4075\, Australia
GEO:-27.538881;152.98142
X-APPLE-STRUCTURED-LOCATION;VALUE=URI;X-ADDRESS=Corinda Library 641 Oxley Road Corinda Queensland 4075 Australia;X-APPLE-RADIUS=500;X-TITLE=641 Oxley Road:geo:152.98142,-27.538881
END:VEVENT
BEGIN:VEVENT
DTSTART;TZID=Australia/Brisbane:20250815T091500
DTEND;TZID=Australia/Brisbane:20250815T094500
DTSTAMP:20260424T194859
CREATED:20250723T012827Z
LAST-MODIFIED:20250723T012827Z
UID:30297-1755249300-1755251100@nicolejohnston.com.au
SUMMARY:Corinda Library | First 5 Forever Babies\, Books and Rhymes
DESCRIPTION:Meet other parents and babies for a fun session of singing\, clapping and dancing. Learn songs and action rhymes to nurture your baby’s pre-literacy\, communication\, language and social skills. Ideal for babies aged up to one year.
URL:https://nicolejohnston.com.au/event/corinda-library-first-5-forever-babies-books-and-rhymes-44/
LOCATION:Corinda Library\, 641 Oxley Road\, Corinda\, Queensland\, 4075\, Australia
GEO:-27.538881;152.98142
X-APPLE-STRUCTURED-LOCATION;VALUE=URI;X-ADDRESS=Corinda Library 641 Oxley Road Corinda Queensland 4075 Australia;X-APPLE-RADIUS=500;X-TITLE=641 Oxley Road:geo:152.98142,-27.538881
END:VEVENT
BEGIN:VEVENT
DTSTART;TZID=Australia/Brisbane:20250814T153000
DTEND;TZID=Australia/Brisbane:20250814T163000
DTSTAMP:20260424T194859
CREATED:20250723T012658Z
LAST-MODIFIED:20250723T012658Z
UID:30295-1755185400-1755189000@nicolejohnston.com.au
SUMMARY:Corinda Library | Family STEAM
DESCRIPTION:Join us for an afternoon of games and activities exploring science\, technology\, reading and art. Each month there will be different activities to challenge your thinking and bring out your creative side in a fun environment. Ideal for children aged 7-12 years. \nBookings required. Phone Corinda Library on 07 3407 7701 to reserve your place.
URL:https://nicolejohnston.com.au/event/corinda-library-family-steam-3/
LOCATION:Corinda Library\, 641 Oxley Road\, Corinda\, Queensland\, 4075\, Australia
GEO:-27.538881;152.98142
X-APPLE-STRUCTURED-LOCATION;VALUE=URI;X-ADDRESS=Corinda Library 641 Oxley Road Corinda Queensland 4075 Australia;X-APPLE-RADIUS=500;X-TITLE=641 Oxley Road:geo:152.98142,-27.538881
END:VEVENT
BEGIN:VEVENT
DTSTART;TZID=Australia/Brisbane:20250814T091500
DTEND;TZID=Australia/Brisbane:20250814T094500
DTSTAMP:20260424T194859
CREATED:20250723T012547Z
LAST-MODIFIED:20250723T012547Z
UID:30293-1755162900-1755164700@nicolejohnston.com.au
SUMMARY:Corinda Library | First 5 Forever Toddler Time
DESCRIPTION:Meet other parents and toddlers for a fun session of singing\, clapping and dancing. Learn action rhymes and songs which will help your child’s pre-literacy\, communication\, language and social skills. Ideal for babies and toddlers aged 1-2 years.
URL:https://nicolejohnston.com.au/event/corinda-library-first-5-forever-toddler-time-44/
LOCATION:Corinda Library\, 641 Oxley Road\, Corinda\, Queensland\, 4075\, Australia
GEO:-27.538881;152.98142
X-APPLE-STRUCTURED-LOCATION;VALUE=URI;X-ADDRESS=Corinda Library 641 Oxley Road Corinda Queensland 4075 Australia;X-APPLE-RADIUS=500;X-TITLE=641 Oxley Road:geo:152.98142,-27.538881
END:VEVENT
BEGIN:VEVENT
DTSTART;TZID=Australia/Brisbane:20250808T091500
DTEND;TZID=Australia/Brisbane:20250808T094500
DTSTAMP:20260424T194859
CREATED:20250723T012443Z
LAST-MODIFIED:20250723T012443Z
UID:30291-1754644500-1754646300@nicolejohnston.com.au
SUMMARY:Corinda Library | First 5 Forever Babies\, Books and Rhymes
DESCRIPTION:Meet other parents and babies for a fun session of singing\, clapping and dancing. Learn songs and action rhymes to nurture your baby’s pre-literacy\, communication\, language and social skills. Ideal for babies aged up to one year.
URL:https://nicolejohnston.com.au/event/corinda-library-first-5-forever-babies-books-and-rhymes-43/
LOCATION:Corinda Library\, 641 Oxley Road\, Corinda\, Queensland\, 4075\, Australia
GEO:-27.538881;152.98142
X-APPLE-STRUCTURED-LOCATION;VALUE=URI;X-ADDRESS=Corinda Library 641 Oxley Road Corinda Queensland 4075 Australia;X-APPLE-RADIUS=500;X-TITLE=641 Oxley Road:geo:152.98142,-27.538881
END:VEVENT
BEGIN:VEVENT
DTSTART;TZID=Australia/Brisbane:20250807T091500
DTEND;TZID=Australia/Brisbane:20250807T094500
DTSTAMP:20260424T194859
CREATED:20250723T012128Z
LAST-MODIFIED:20250723T012128Z
UID:30289-1754558100-1754559900@nicolejohnston.com.au
SUMMARY:Corinda Library | First 5 Forever Toddler Time
DESCRIPTION:Meet other parents and toddlers for a fun session of singing\, clapping and dancing. Learn action rhymes and songs which will help your child’s pre-literacy\, communication\, language and social skills. Ideal for babies and toddlers aged 1-2 years.
URL:https://nicolejohnston.com.au/event/corinda-library-first-5-forever-toddler-time-43/
LOCATION:Corinda Library\, 641 Oxley Road\, Corinda\, Queensland\, 4075\, Australia
GEO:-27.538881;152.98142
X-APPLE-STRUCTURED-LOCATION;VALUE=URI;X-ADDRESS=Corinda Library 641 Oxley Road Corinda Queensland 4075 Australia;X-APPLE-RADIUS=500;X-TITLE=641 Oxley Road:geo:152.98142,-27.538881
END:VEVENT
BEGIN:VEVENT
DTSTART;TZID=Australia/Brisbane:20250801T091500
DTEND;TZID=Australia/Brisbane:20250801T094500
DTSTAMP:20260424T194859
CREATED:20250723T011947Z
LAST-MODIFIED:20250723T011947Z
UID:30287-1754039700-1754041500@nicolejohnston.com.au
SUMMARY:Corinda Library | First 5 Forever Babies\, Books and Rhymes
DESCRIPTION:Meet other parents and babies for a fun session of singing\, clapping and dancing. Learn songs and action rhymes to nurture your baby’s pre-literacy\, communication\, language and social skills. Ideal for babies aged up to one year.
URL:https://nicolejohnston.com.au/event/corinda-library-first-5-forever-babies-books-and-rhymes-42/
LOCATION:Corinda Library\, 641 Oxley Road\, Corinda\, Queensland\, 4075\, Australia
GEO:-27.538881;152.98142
X-APPLE-STRUCTURED-LOCATION;VALUE=URI;X-ADDRESS=Corinda Library 641 Oxley Road Corinda Queensland 4075 Australia;X-APPLE-RADIUS=500;X-TITLE=641 Oxley Road:geo:152.98142,-27.538881
END:VEVENT
BEGIN:VEVENT
DTSTART;TZID=Australia/Brisbane:20250731T091500
DTEND;TZID=Australia/Brisbane:20250731T094500
DTSTAMP:20260424T194859
CREATED:20250516T033033Z
LAST-MODIFIED:20250516T033033Z
UID:29742-1753953300-1753955100@nicolejohnston.com.au
SUMMARY:Corinda Library | First 5 Forever Toddler Time
DESCRIPTION:Meet other parents and toddlers for a fun session of singing\, clapping and dancing. Learn action rhymes and songs which will help your child’s pre-literacy\, communication\, language and social skills. Ideal for babies and toddlers aged 1-2 years.
URL:https://nicolejohnston.com.au/event/corinda-library-first-5-forever-toddler-time-42/
LOCATION:Corinda Library\, 641 Oxley Road\, Corinda\, Queensland\, 4075\, Australia
GEO:-27.538881;152.98142
X-APPLE-STRUCTURED-LOCATION;VALUE=URI;X-ADDRESS=Corinda Library 641 Oxley Road Corinda Queensland 4075 Australia;X-APPLE-RADIUS=500;X-TITLE=641 Oxley Road:geo:152.98142,-27.538881
END:VEVENT
BEGIN:VEVENT
DTSTART;TZID=Australia/Brisbane:20250725T091500
DTEND;TZID=Australia/Brisbane:20250725T094500
DTSTAMP:20260424T194859
CREATED:20250516T032940Z
LAST-MODIFIED:20250516T032940Z
UID:29740-1753434900-1753436700@nicolejohnston.com.au
SUMMARY:Corinda Library | First 5 Forever Babies\, Books and Rhymes
DESCRIPTION:Meet other parents and babies for a fun session of singing\, clapping and dancing. Learn songs and action rhymes to nurture your baby’s pre-literacy\, communication\, language and social skills. Ideal for babies aged up to one year.
URL:https://nicolejohnston.com.au/event/corinda-library-first-5-forever-babies-books-and-rhymes-41/
LOCATION:Corinda Library\, 641 Oxley Road\, Corinda\, Queensland\, 4075\, Australia
GEO:-27.538881;152.98142
X-APPLE-STRUCTURED-LOCATION;VALUE=URI;X-ADDRESS=Corinda Library 641 Oxley Road Corinda Queensland 4075 Australia;X-APPLE-RADIUS=500;X-TITLE=641 Oxley Road:geo:152.98142,-27.538881
END:VEVENT
BEGIN:VEVENT
DTSTART;TZID=Australia/Brisbane:20250724T091500
DTEND;TZID=Australia/Brisbane:20250724T094500
DTSTAMP:20260424T194859
CREATED:20250516T032838Z
LAST-MODIFIED:20250516T032838Z
UID:29738-1753348500-1753350300@nicolejohnston.com.au
SUMMARY:Corinda Library | First 5 Forever Toddler Time
DESCRIPTION:Meet other parents and toddlers for a fun session of singing\, clapping and dancing. Learn action rhymes and songs which will help your child’s pre-literacy\, communication\, language and social skills. Ideal for babies and toddlers aged 1-2 years.
URL:https://nicolejohnston.com.au/event/corinda-library-first-5-forever-toddler-time-41/
LOCATION:Corinda Library\, 641 Oxley Road\, Corinda\, Queensland\, 4075\, Australia
GEO:-27.538881;152.98142
X-APPLE-STRUCTURED-LOCATION;VALUE=URI;X-ADDRESS=Corinda Library 641 Oxley Road Corinda Queensland 4075 Australia;X-APPLE-RADIUS=500;X-TITLE=641 Oxley Road:geo:152.98142,-27.538881
END:VEVENT
BEGIN:VEVENT
DTSTART;TZID=Australia/Brisbane:20250718T091500
DTEND;TZID=Australia/Brisbane:20250718T094500
DTSTAMP:20260424T194859
CREATED:20250516T032532Z
LAST-MODIFIED:20250516T032532Z
UID:29736-1752830100-1752831900@nicolejohnston.com.au
SUMMARY:Corinda Library | First 5 Forever Babies\, Books and Rhymes
DESCRIPTION:Meet other parents and babies for a fun session of singing\, clapping and dancing. Learn songs and action rhymes to nurture your baby’s pre-literacy\, communication\, language and social skills. Ideal for babies aged up to one year.
URL:https://nicolejohnston.com.au/event/corinda-library-first-5-forever-babies-books-and-rhymes-40/
LOCATION:Corinda Library\, 641 Oxley Road\, Corinda\, Queensland\, 4075\, Australia
GEO:-27.538881;152.98142
X-APPLE-STRUCTURED-LOCATION;VALUE=URI;X-ADDRESS=Corinda Library 641 Oxley Road Corinda Queensland 4075 Australia;X-APPLE-RADIUS=500;X-TITLE=641 Oxley Road:geo:152.98142,-27.538881
END:VEVENT
BEGIN:VEVENT
DTSTART;TZID=Australia/Brisbane:20250717T140000
DTEND;TZID=Australia/Brisbane:20250717T150000
DTSTAMP:20260424T194859
CREATED:20250516T032434Z
LAST-MODIFIED:20250516T032434Z
UID:29734-1752760800-1752764400@nicolejohnston.com.au
SUMMARY:Corinda Library | Tea and Trivia
DESCRIPTION:Join us for an afternoon testing your knowledge with trivia questions. Individuals and groups welcome. \nBookings required. Phone Corinda Library on 07 3407 7701 to reserve your place.
URL:https://nicolejohnston.com.au/event/corinda-library-tea-and-trivia-4/
LOCATION:Corinda Library\, 641 Oxley Road\, Corinda\, Queensland\, 4075\, Australia
GEO:-27.538881;152.98142
X-APPLE-STRUCTURED-LOCATION;VALUE=URI;X-ADDRESS=Corinda Library 641 Oxley Road Corinda Queensland 4075 Australia;X-APPLE-RADIUS=500;X-TITLE=641 Oxley Road:geo:152.98142,-27.538881
END:VEVENT
BEGIN:VEVENT
DTSTART;TZID=Australia/Brisbane:20250717T091500
DTEND;TZID=Australia/Brisbane:20250717T094500
DTSTAMP:20260424T194859
CREATED:20250516T032324Z
LAST-MODIFIED:20250516T032324Z
UID:29732-1752743700-1752745500@nicolejohnston.com.au
SUMMARY:Corinda Library | First 5 Forever Toddler Time
DESCRIPTION:Meet other parents and toddlers for a fun session of singing\, clapping and dancing. Learn action rhymes and songs which will help your child’s pre-literacy\, communication\, language and social skills. Ideal for babies and toddlers aged 1-2 years.
URL:https://nicolejohnston.com.au/event/corinda-library-first-5-forever-toddler-time-40/
LOCATION:Corinda Library\, 641 Oxley Road\, Corinda\, Queensland\, 4075\, Australia
GEO:-27.538881;152.98142
X-APPLE-STRUCTURED-LOCATION;VALUE=URI;X-ADDRESS=Corinda Library 641 Oxley Road Corinda Queensland 4075 Australia;X-APPLE-RADIUS=500;X-TITLE=641 Oxley Road:geo:152.98142,-27.538881
END:VEVENT
BEGIN:VEVENT
DTSTART;TZID=Australia/Brisbane:20250711T091500
DTEND;TZID=Australia/Brisbane:20250711T094500
DTSTAMP:20260424T194859
CREATED:20250516T032201Z
LAST-MODIFIED:20250516T032201Z
UID:29730-1752225300-1752227100@nicolejohnston.com.au
SUMMARY:Corinda Library | First 5 Forever Babies\, Books and Rhymes
DESCRIPTION:Meet other parents and babies for a fun session of singing\, clapping and dancing. Learn songs and action rhymes to nurture your baby’s pre-literacy\, communication\, language and social skills. Ideal for babies aged up to one year.
URL:https://nicolejohnston.com.au/event/corinda-library-first-5-forever-babies-books-and-rhymes-39/
LOCATION:Corinda Library\, 641 Oxley Road\, Corinda\, Queensland\, 4075\, Australia
GEO:-27.538881;152.98142
X-APPLE-STRUCTURED-LOCATION;VALUE=URI;X-ADDRESS=Corinda Library 641 Oxley Road Corinda Queensland 4075 Australia;X-APPLE-RADIUS=500;X-TITLE=641 Oxley Road:geo:152.98142,-27.538881
END:VEVENT
BEGIN:VEVENT
DTSTART;TZID=Australia/Brisbane:20250710T130000
DTEND;TZID=Australia/Brisbane:20250710T143000
DTSTAMP:20260424T194859
CREATED:20250516T031846Z
LAST-MODIFIED:20250516T031846Z
UID:29727-1752152400-1752157800@nicolejohnston.com.au
SUMMARY:Corinda Library | CPR Awareness
DESCRIPTION:This free workshop will give you the confidence to help keep someone alive using CPR while the ambulance is on its way. Presented by qualified trainers from the Queensland Local Ambulance Committee\, in partnership with the Queensland Ambulance Services. \nBookings required. Phone Corinda Library on 07 3407 7701 to reserve your place.
URL:https://nicolejohnston.com.au/event/corinda-library-cpr-awareness/
LOCATION:Corinda Library\, 641 Oxley Road\, Corinda\, Queensland\, 4075\, Australia
GEO:-27.538881;152.98142
X-APPLE-STRUCTURED-LOCATION;VALUE=URI;X-ADDRESS=Corinda Library 641 Oxley Road Corinda Queensland 4075 Australia;X-APPLE-RADIUS=500;X-TITLE=641 Oxley Road:geo:152.98142,-27.538881
END:VEVENT
BEGIN:VEVENT
DTSTART;TZID=Australia/Brisbane:20250710T091500
DTEND;TZID=Australia/Brisbane:20250710T094500
DTSTAMP:20260424T194859
CREATED:20250516T031711Z
LAST-MODIFIED:20250516T031711Z
UID:29725-1752138900-1752140700@nicolejohnston.com.au
SUMMARY:Corinda Library | First 5 Forever Toddler Time
DESCRIPTION:Meet other parents and toddlers for a fun session of singing\, clapping and dancing. Learn action rhymes and songs which will help your child’s pre-literacy\, communication\, language and social skills. Ideal for babies and toddlers aged 1-2 years.
URL:https://nicolejohnston.com.au/event/corinda-library-first-5-forever-toddler-time-39/
LOCATION:Corinda Library\, 641 Oxley Road\, Corinda\, Queensland\, 4075\, Australia
GEO:-27.538881;152.98142
X-APPLE-STRUCTURED-LOCATION;VALUE=URI;X-ADDRESS=Corinda Library 641 Oxley Road Corinda Queensland 4075 Australia;X-APPLE-RADIUS=500;X-TITLE=641 Oxley Road:geo:152.98142,-27.538881
END:VEVENT
BEGIN:VEVENT
DTSTART;TZID=Australia/Brisbane:20250704T091500
DTEND;TZID=Australia/Brisbane:20250704T094500
DTSTAMP:20260424T194859
CREATED:20250516T031611Z
LAST-MODIFIED:20250516T031611Z
UID:29723-1751620500-1751622300@nicolejohnston.com.au
SUMMARY:Corinda Library | First 5 Forever Babies\, Books and Rhymes
DESCRIPTION:Meet other parents and babies for a fun session of singing\, clapping and dancing. Learn songs and action rhymes to nurture your baby’s pre-literacy\, communication\, language and social skills. Ideal for babies aged up to one year.
URL:https://nicolejohnston.com.au/event/corinda-library-first-5-forever-babies-books-and-rhymes-38/
LOCATION:Corinda Library\, 641 Oxley Road\, Corinda\, Queensland\, 4075\, Australia
GEO:-27.538881;152.98142
X-APPLE-STRUCTURED-LOCATION;VALUE=URI;X-ADDRESS=Corinda Library 641 Oxley Road Corinda Queensland 4075 Australia;X-APPLE-RADIUS=500;X-TITLE=641 Oxley Road:geo:152.98142,-27.538881
END:VEVENT
END:VCALENDAR