BEGIN:VCALENDAR
VERSION:2.0
PRODID:-//Nicole Johnston - ECPv6.15.20//NONSGML v1.0//EN
CALSCALE:GREGORIAN
METHOD:PUBLISH
X-WR-CALNAME:Nicole Johnston
X-ORIGINAL-URL:https://nicolejohnston.com.au
X-WR-CALDESC:Events for Nicole Johnston
REFRESH-INTERVAL;VALUE=DURATION:PT1H
X-Robots-Tag:noindex
X-PUBLISHED-TTL:PT1H
BEGIN:VTIMEZONE
TZID:Australia/Brisbane
BEGIN:STANDARD
TZOFFSETFROM:+1000
TZOFFSETTO:+1000
TZNAME:AEST
DTSTART:20150101T000000
END:STANDARD
END:VTIMEZONE
BEGIN:VEVENT
DTSTART;TZID=Australia/Brisbane:20160625T090000
DTEND;TZID=Australia/Brisbane:20160625T140000
DTSTAMP:20260424T180035
CREATED:20160613T043115Z
LAST-MODIFIED:20160613T044641Z
UID:9329-1466845200-1466863200@nicolejohnston.com.au
SUMMARY:Annerley Junction Jumble Goes Global
DESCRIPTION:Stalls and performances by people with refugee backgrounds bring a global feel to the Annerley Junction Jumble Sale\, celebrating diversity and the contribution of new arrivals to the local community.
URL:https://nicolejohnston.com.au/event/annerley-junction-jumble-goes-global/
LOCATION:Annerley Junction\, Crn Ipswich & Annerley Rd\, Annerley\, Qld\, 4103\, Australia
GEO:-27.509933;153.0327917
X-APPLE-STRUCTURED-LOCATION;VALUE=URI;X-ADDRESS=Annerley Junction Crn Ipswich & Annerley Rd Annerley Qld 4103 Australia;X-APPLE-RADIUS=500;X-TITLE=Crn Ipswich & Annerley Rd:geo:153.0327917,-27.509933
END:VEVENT
BEGIN:VEVENT
DTSTART;TZID=Australia/Brisbane:20160619T150000
DTEND;TZID=Australia/Brisbane:20160619T180000
DTSTAMP:20260424T180035
CREATED:20160613T042851Z
LAST-MODIFIED:20160613T042858Z
UID:9327-1466348400-1466359200@nicolejohnston.com.au
SUMMARY:Culture on the Green
DESCRIPTION:An afternoon of barefoot bowls and cultural conversation. Learn more about some of the communities that have made Brisbane their home and share in an afternoon of music\, facts\, culture and welcome.
URL:https://nicolejohnston.com.au/event/culture-on-the-green/
LOCATION:Club Oxley\, Englefield Rd\, Oxley\, Qld\, 4075\, Australia
GEO:-27.5587802;152.9694162
X-APPLE-STRUCTURED-LOCATION;VALUE=URI;X-ADDRESS=Club Oxley Englefield Rd Oxley Qld 4075 Australia;X-APPLE-RADIUS=500;X-TITLE=Englefield Rd:geo:152.9694162,-27.5587802
END:VEVENT
END:VCALENDAR