BEGIN:VCALENDAR
VERSION:2.0
PRODID:-//Nicole Johnston - ECPv6.15.20//NONSGML v1.0//EN
CALSCALE:GREGORIAN
METHOD:PUBLISH
X-ORIGINAL-URL:https://nicolejohnston.com.au
X-WR-CALDESC:Events for Nicole Johnston
REFRESH-INTERVAL;VALUE=DURATION:PT1H
X-Robots-Tag:noindex
X-PUBLISHED-TTL:PT1H
BEGIN:VTIMEZONE
TZID:Australia/Brisbane
BEGIN:STANDARD
TZOFFSETFROM:+1000
TZOFFSETTO:+1000
TZNAME:AEST
DTSTART:20150101T000000
END:STANDARD
END:VTIMEZONE
BEGIN:VEVENT
DTSTART;TZID=Australia/Brisbane:20260217T070000
DTEND;TZID=Australia/Brisbane:20260217T090000
DTSTAMP:20260424T095614
CREATED:20260119T012619Z
LAST-MODIFIED:20260119T012619Z
UID:31714-1771311600-1771318800@nicolejohnston.com.au
SUMMARY:Rocklea | Oxley Creek Tuesday Common Carers
DESCRIPTION:Weeding and planting to improve habitat.  Tools provided. Contact Mary Lou on 0429 911 555.
URL:https://nicolejohnston.com.au/event/rocklea-oxley-creek-tuesday-common-carers/2026-02-17/
LOCATION:Oxley Creek Common\, 271 Sherwood Rd\, Rocklea\, Qld\, 4106\, Australia
ORGANIZER;CN="Friends of Oxley Creek Common":MAILTO:friendsofoxleycreekcommon@gmail.com
GEO:-27.535636;152.993047
X-APPLE-STRUCTURED-LOCATION;VALUE=URI;X-ADDRESS=Oxley Creek Common 271 Sherwood Rd Rocklea Qld 4106 Australia;X-APPLE-RADIUS=500;X-TITLE=271 Sherwood Rd:geo:152.993047,-27.535636
END:VEVENT
BEGIN:VEVENT
DTSTART;TZID=Australia/Brisbane:20260210T070000
DTEND;TZID=Australia/Brisbane:20260210T090000
DTSTAMP:20260424T095614
CREATED:20260119T012619Z
LAST-MODIFIED:20260119T012619Z
UID:31713-1770706800-1770714000@nicolejohnston.com.au
SUMMARY:Rocklea | Oxley Creek Tuesday Common Carers
DESCRIPTION:Weeding and planting to improve habitat.  Tools provided. Contact Mary Lou on 0429 911 555.
URL:https://nicolejohnston.com.au/event/rocklea-oxley-creek-tuesday-common-carers/2026-02-10/
LOCATION:Oxley Creek Common\, 271 Sherwood Rd\, Rocklea\, Qld\, 4106\, Australia
ORGANIZER;CN="Friends of Oxley Creek Common":MAILTO:friendsofoxleycreekcommon@gmail.com
GEO:-27.535636;152.993047
X-APPLE-STRUCTURED-LOCATION;VALUE=URI;X-ADDRESS=Oxley Creek Common 271 Sherwood Rd Rocklea Qld 4106 Australia;X-APPLE-RADIUS=500;X-TITLE=271 Sherwood Rd:geo:152.993047,-27.535636
END:VEVENT
BEGIN:VEVENT
DTSTART;TZID=Australia/Brisbane:20260203T070000
DTEND;TZID=Australia/Brisbane:20260203T090000
DTSTAMP:20260424T095614
CREATED:20260119T012619Z
LAST-MODIFIED:20260119T012619Z
UID:31712-1770102000-1770109200@nicolejohnston.com.au
SUMMARY:Rocklea | Oxley Creek Tuesday Common Carers
DESCRIPTION:Weeding and planting to improve habitat.  Tools provided. Contact Mary Lou on 0429 911 555.
URL:https://nicolejohnston.com.au/event/rocklea-oxley-creek-tuesday-common-carers/2026-02-03/
LOCATION:Oxley Creek Common\, 271 Sherwood Rd\, Rocklea\, Qld\, 4106\, Australia
ORGANIZER;CN="Friends of Oxley Creek Common":MAILTO:friendsofoxleycreekcommon@gmail.com
GEO:-27.535636;152.993047
X-APPLE-STRUCTURED-LOCATION;VALUE=URI;X-ADDRESS=Oxley Creek Common 271 Sherwood Rd Rocklea Qld 4106 Australia;X-APPLE-RADIUS=500;X-TITLE=271 Sherwood Rd:geo:152.993047,-27.535636
END:VEVENT
BEGIN:VEVENT
DTSTART;TZID=Australia/Brisbane:20240825T063000
DTEND;TZID=Australia/Brisbane:20240825T093000
DTSTAMP:20260424T095614
CREATED:20240820T063022Z
LAST-MODIFIED:20240820T063022Z
UID:27998-1724567400-1724578200@nicolejohnston.com.au
SUMMARY:Rocklea | Friends of Oxley Creek Common Guided Bird Walk
DESCRIPTION:We invite you to join us to hear and see the fantastic birdlife that the Oxley Creek Common has to offer. FOOCC President\, eminent scientist and avid birdwatcher\, Prof. Hugh Possingham will lead the walk. \nBookings essential. Register via Eventbrite here. \nNumbers are limited to ensure an enjoyable walk for all participants\, so please select a ticket for everyone in your party who would like to attend (adults AND children please). There will be refreshments after the walk at 9:30\, and you are welcome to join us for our General Meeting between 10:00 and 11:00 if you wish. No need to register for the meeting\, only for the bird walk.
URL:https://nicolejohnston.com.au/event/rocklea-friends-of-oxley-creek-common-guided-bird-walk/
LOCATION:Oxley Creek Common\, 271 Sherwood Rd\, Rocklea\, Qld\, 4106\, Australia
ORGANIZER;CN="Friends of Oxley Creek Common":MAILTO:friendsofoxleycreekcommon@gmail.com
GEO:-27.535636;152.993047
X-APPLE-STRUCTURED-LOCATION;VALUE=URI;X-ADDRESS=Oxley Creek Common 271 Sherwood Rd Rocklea Qld 4106 Australia;X-APPLE-RADIUS=500;X-TITLE=271 Sherwood Rd:geo:152.993047,-27.535636
END:VEVENT
BEGIN:VEVENT
DTSTART;TZID=Australia/Brisbane:20220227T063000
DTEND;TZID=Australia/Brisbane:20220227T100000
DTSTAMP:20260424T095614
CREATED:20220222T232628Z
LAST-MODIFIED:20220222T232628Z
UID:25376-1645943400-1645956000@nicolejohnston.com.au
SUMMARY:Rocklea | Friends of Oxley Creek Common Bird Walk
DESCRIPTION:Join Friends of Oxley Creek Common and Prof. Hugh Possingham (UQ & QLD Chief Scientist) for a bird walk followed by their committee general meeting. 6:30 – 9:40am for the bird walk\, 10:00 – 11:00am for the committee meeting. Remember to bring your hat\, binoculars and sunscreen if you are going on the walk.
URL:https://nicolejohnston.com.au/event/rocklea-friends-of-oxley-creek-common-bird-walk/
LOCATION:Oxley Creek Common\, 271 Sherwood Rd\, Rocklea\, Qld\, 4106\, Australia
ORGANIZER;CN="Friends of Oxley Creek Common":MAILTO:friendsofoxleycreekcommon@gmail.com
GEO:-27.535636;152.993047
X-APPLE-STRUCTURED-LOCATION;VALUE=URI;X-ADDRESS=Oxley Creek Common 271 Sherwood Rd Rocklea Qld 4106 Australia;X-APPLE-RADIUS=500;X-TITLE=271 Sherwood Rd:geo:152.993047,-27.535636
END:VEVENT
BEGIN:VEVENT
DTSTART;TZID=Australia/Brisbane:20160422T070000
DTEND;TZID=Australia/Brisbane:20160422T100000
DTSTAMP:20260424T095614
CREATED:20160428T050530Z
LAST-MODIFIED:20160428T050530Z
UID:9068-1461308400-1461319200@nicolejohnston.com.au
SUMMARY:Autumn Bird Walk
DESCRIPTION:
URL:https://nicolejohnston.com.au/event/autumn-bird-walk/
LOCATION:Oxley Creek Common\, 271 Sherwood Rd\, Rocklea\, Qld\, 4106\, Australia
ORGANIZER;CN="Friends of Oxley Creek Common":MAILTO:friendsofoxleycreekcommon@gmail.com
GEO:-27.535636;152.993047
X-APPLE-STRUCTURED-LOCATION;VALUE=URI;X-ADDRESS=Oxley Creek Common 271 Sherwood Rd Rocklea Qld 4106 Australia;X-APPLE-RADIUS=500;X-TITLE=271 Sherwood Rd:geo:152.993047,-27.535636
END:VEVENT
END:VCALENDAR