BEGIN:VCALENDAR
VERSION:2.0
PRODID:-//Nicole Johnston - ECPv6.15.20//NONSGML v1.0//EN
CALSCALE:GREGORIAN
METHOD:PUBLISH
X-ORIGINAL-URL:https://nicolejohnston.com.au
X-WR-CALDESC:Events for Nicole Johnston
REFRESH-INTERVAL;VALUE=DURATION:PT1H
X-Robots-Tag:noindex
X-PUBLISHED-TTL:PT1H
BEGIN:VTIMEZONE
TZID:Australia/Brisbane
BEGIN:STANDARD
TZOFFSETFROM:+1000
TZOFFSETTO:+1000
TZNAME:AEST
DTSTART:20230101T000000
END:STANDARD
END:VTIMEZONE
BEGIN:VEVENT
DTSTART;TZID=Australia/Brisbane:20260131T093000
DTEND;TZID=Australia/Brisbane:20260131T110000
DTSTAMP:20260424T140307
CREATED:20260107T014244Z
LAST-MODIFIED:20260107T014244Z
UID:31493-1769851800-1769857200@nicolejohnston.com.au
SUMMARY:Sherwood Arboretum | Sherwood Arboretum Guided Walk
DESCRIPTION:Sherwood Arboretum\, established in 1925\, is Brisbane’s only botanic garden dedicated exclusively to growing Australian native trees. The Arboretum holds scientific and cultural values with many of the original plantings undertaken by prominent citizens of Brisbane. The guided walk will be led by the Volunteer Guides of the Brisbane Botanic Gardens Mt Coot-tha and the Friends of Sherwood Arboretum. \n\nRequirements: Please wear a hat\, enclosed walking shoes\, and be sure to bring a water bottle and sunscreen.\nMeeting point: Meet at the shelter adjacent to the main carpark off Jolimont Street\, Sherwood.\nAge: Open to all ages. Children must be accompanied by an adult.\nVenue: Sherwood Arboretum\, 87 Jolimont Street\, Sherwood.
URL:https://nicolejohnston.com.au/event/sherwood-arboretum-sherwood-arboretum-guided-walk/
LOCATION:Sherwood Arboretum\, 57 Dewar Terrace\, Sherwood\, Queensland\, 4075\, Australia
ORGANIZER;CN="Friends of Sherwood Arboretum":MAILTO:secretaryatfosa@gmail.com
GEO:-27.532253;152.977305
X-APPLE-STRUCTURED-LOCATION;VALUE=URI;X-ADDRESS=Sherwood Arboretum 57 Dewar Terrace Sherwood Queensland 4075 Australia;X-APPLE-RADIUS=500;X-TITLE=57 Dewar Terrace:geo:152.977305,-27.532253
END:VEVENT
BEGIN:VEVENT
DTSTART;TZID=Australia/Brisbane:20251116T080000
DTEND;TZID=Australia/Brisbane:20251116T100000
DTSTAMP:20260424T140307
CREATED:20250910T014000Z
LAST-MODIFIED:20250910T014000Z
UID:30825-1763280000-1763287200@nicolejohnston.com.au
SUMMARY:Sherwood | Friends of Sherwood Arboretum Bushcare Working Bee
DESCRIPTION:Friends of Sherwood Arboretum meet regularly on the third Sunday of the month at 8am in summer and 8.30am in winter. \nFor more information\, contact volunteer group leader Carole Bristow on 07 3379 1453 or send an email.
URL:https://nicolejohnston.com.au/event/sherwood-friends-of-sherwood-arboretum-bushcare-working-bee-3/
LOCATION:Sherwood Arboretum\, 57 Dewar Terrace\, Sherwood\, Queensland\, 4075\, Australia
ORGANIZER;CN="Friends of Sherwood Arboretum":MAILTO:secretaryatfosa@gmail.com
GEO:-27.532253;152.977305
X-APPLE-STRUCTURED-LOCATION;VALUE=URI;X-ADDRESS=Sherwood Arboretum 57 Dewar Terrace Sherwood Queensland 4075 Australia;X-APPLE-RADIUS=500;X-TITLE=57 Dewar Terrace:geo:152.977305,-27.532253
END:VEVENT
BEGIN:VEVENT
DTSTART;TZID=Australia/Brisbane:20251026T093000
DTEND;TZID=Australia/Brisbane:20251026T110000
DTSTAMP:20260424T140307
CREATED:20250909T033735Z
LAST-MODIFIED:20250909T033735Z
UID:30717-1761471000-1761476400@nicolejohnston.com.au
SUMMARY:Sherwood | Sherwood Arboretum Guided Walk
DESCRIPTION:Sherwood Arboretum\, established in 1925\, is Brisbane’s only botanic garden dedicated exclusively to growing Australian native trees. The Arboretum holds scientific and cultural values with many of the original plantings undertaken by prominent citizens of Brisbane. The guided walk will be led by the volunteer guides of Brisbane Botanic Gardens Mt Coot-tha and the Friends of Sherwood Arboretum. \n\nRequirements: Wear a hat\, enclosed walking shoes\, and be sure to bring a water bottle and sunscreen.\nMeeting point: Meet at the shelter adjacent to the main carpark off Jolimont Street\, Sherwood.\nAge: Open to all ages. Children must be accompanied by an adult.\n\nNote: Walks may be subject to environmental conditions and guide capacity on the day. \nBookings required via Eventbrite.
URL:https://nicolejohnston.com.au/event/sherwood-sherwood-arboretum-guided-walk-7/
LOCATION:Sherwood Arboretum\, 57 Dewar Terrace\, Sherwood\, Queensland\, 4075\, Australia
GEO:-27.532253;152.977305
X-APPLE-STRUCTURED-LOCATION;VALUE=URI;X-ADDRESS=Sherwood Arboretum 57 Dewar Terrace Sherwood Queensland 4075 Australia;X-APPLE-RADIUS=500;X-TITLE=57 Dewar Terrace:geo:152.977305,-27.532253
END:VEVENT
BEGIN:VEVENT
DTSTART;TZID=Australia/Brisbane:20251019T080000
DTEND;TZID=Australia/Brisbane:20251019T100000
DTSTAMP:20260424T140307
CREATED:20250910T012731Z
LAST-MODIFIED:20250910T012731Z
UID:30815-1760860800-1760868000@nicolejohnston.com.au
SUMMARY:Sherwood | Friends of Sherwood Arboretum Bushcare Working Bee
DESCRIPTION:Friends of Sherwood Arboretum meet regularly on the third Sunday of the month at 8am in summer and 8.30am in winter. \nFor more information\, contact volunteer group leader Carole Bristow on 07 3379 1453 or send an email.
URL:https://nicolejohnston.com.au/event/sherwood-friends-of-sherwood-arboretum-bushcare-working-bee-2/
LOCATION:Sherwood Arboretum\, 57 Dewar Terrace\, Sherwood\, Queensland\, 4075\, Australia
ORGANIZER;CN="Friends of Sherwood Arboretum":MAILTO:secretaryatfosa@gmail.com
GEO:-27.532253;152.977305
X-APPLE-STRUCTURED-LOCATION;VALUE=URI;X-ADDRESS=Sherwood Arboretum 57 Dewar Terrace Sherwood Queensland 4075 Australia;X-APPLE-RADIUS=500;X-TITLE=57 Dewar Terrace:geo:152.977305,-27.532253
END:VEVENT
BEGIN:VEVENT
DTSTART;TZID=Australia/Brisbane:20250927T093000
DTEND;TZID=Australia/Brisbane:20250927T110000
DTSTAMP:20260424T140307
CREATED:20250610T060939Z
LAST-MODIFIED:20250610T060939Z
UID:30180-1758965400-1758970800@nicolejohnston.com.au
SUMMARY:Sherwood | Sherwood Arboretum Guided Walk
DESCRIPTION:Sherwood Arboretum\, established in 1925\, is Brisbane’s only botanic garden dedicated exclusively to growing Australian native trees. The Arboretum holds scientific and cultural values with many of the original plantings undertaken by prominent citizens of Brisbane. The guided walk will be led by the volunteer guides of Brisbane Botanic Gardens Mt Coot-tha and the Friends of Sherwood Arboretum. \nWear a hat\, enclosed walking shoes\, and be sure to bring a water bottle and sunscreen. \nMeet at the shelter adjacent to the main carpark off Jolimont Street\, Sherwood. \nOpen to all ages. Children must be accompanied by an adult. \nNote: Walks may be subject to environmental conditions and guide capacity on the day. \nBookings required via Eventbrite.
URL:https://nicolejohnston.com.au/event/sherwood-sherwood-arboretum-guided-walk-6/
LOCATION:Sherwood Arboretum\, 57 Dewar Terrace\, Sherwood\, Queensland\, 4075\, Australia
GEO:-27.532253;152.977305
X-APPLE-STRUCTURED-LOCATION;VALUE=URI;X-ADDRESS=Sherwood Arboretum 57 Dewar Terrace Sherwood Queensland 4075 Australia;X-APPLE-RADIUS=500;X-TITLE=57 Dewar Terrace:geo:152.977305,-27.532253
END:VEVENT
BEGIN:VEVENT
DTSTART;TZID=Australia/Brisbane:20250921T080000
DTEND;TZID=Australia/Brisbane:20250921T100000
DTSTAMP:20260424T140307
CREATED:20250910T005455Z
LAST-MODIFIED:20250910T005455Z
UID:30796-1758441600-1758448800@nicolejohnston.com.au
SUMMARY:Sherwood | Friends of Sherwood Arboretum Bushcare Working Bee
DESCRIPTION:Friends of Sherwood Arboretum meet regularly on the third Sunday of the month at 8am in summer and 8.30am in winter. \nFor more information\, contact volunteer group leader Carole Bristow on 07 3379 1453 or send an email.
URL:https://nicolejohnston.com.au/event/sherwood-friends-of-sherwood-arboretum-bushcare-working-bee/
LOCATION:Sherwood Arboretum\, 57 Dewar Terrace\, Sherwood\, Queensland\, 4075\, Australia
ORGANIZER;CN="Friends of Sherwood Arboretum":MAILTO:secretaryatfosa@gmail.com
GEO:-27.532253;152.977305
X-APPLE-STRUCTURED-LOCATION;VALUE=URI;X-ADDRESS=Sherwood Arboretum 57 Dewar Terrace Sherwood Queensland 4075 Australia;X-APPLE-RADIUS=500;X-TITLE=57 Dewar Terrace:geo:152.977305,-27.532253
END:VEVENT
BEGIN:VEVENT
DTSTART;TZID=Australia/Brisbane:20250615T103000
DTEND;TZID=Australia/Brisbane:20250615T113000
DTSTAMP:20260424T140307
CREATED:20250612T055353Z
LAST-MODIFIED:20250612T055353Z
UID:30193-1749983400-1749987000@nicolejohnston.com.au
SUMMARY:Sherwood | Friends of Sherwood Arboretum AGM
DESCRIPTION:
URL:https://nicolejohnston.com.au/event/sherwood-friends-of-sherwood-arboretum-agm-2/
LOCATION:Sherwood Arboretum\, 57 Dewar Terrace\, Sherwood\, Queensland\, 4075\, Australia
CATEGORIES:Community Event
ATTACH;FMTTYPE=image/jpeg:https://nicolejohnston.com.au/wp-content/uploads/2025/06/AGM-NEW-POSTER-23-May25-LR-scaled.jpg
ORGANIZER;CN="Friends of Sherwood Arboretum":MAILTO:secretaryatfosa@gmail.com
GEO:-27.532253;152.977305
X-APPLE-STRUCTURED-LOCATION;VALUE=URI;X-ADDRESS=Sherwood Arboretum 57 Dewar Terrace Sherwood Queensland 4075 Australia;X-APPLE-RADIUS=500;X-TITLE=57 Dewar Terrace:geo:152.977305,-27.532253
END:VEVENT
BEGIN:VEVENT
DTSTART;TZID=Australia/Brisbane:20250413T080000
DTEND;TZID=Australia/Brisbane:20250413T100000
DTSTAMP:20260424T140307
CREATED:20250408T033522Z
LAST-MODIFIED:20250408T033632Z
UID:29577-1744531200-1744538400@nicolejohnston.com.au
SUMMARY:Sherwood | Sherwood Arboretum Community Planting Day
DESCRIPTION:Join us for a community planting event at Sherwood Arboretum as we enhance wildlife habitat and create a greener space for everyone to enjoy. This is a great opportunity to connect with your community\, support the local environment\, and make a lasting impact. All planting holes will be pre-dug\, and all tools will be supplied. \nMeet at the new nature-inspired playground. Morning tea will be provided. \nFor your comfort and safety\, please wear sturdy shoes\, a hat\, and sunscreen\, and bring a reusable water bottle.
URL:https://nicolejohnston.com.au/event/sherwood-sherwood-arboretum-community-planting-day/
LOCATION:Sherwood Arboretum\, 57 Dewar Terrace\, Sherwood\, Queensland\, 4075\, Australia
CATEGORIES:Community Event
ATTACH;FMTTYPE=image/jpeg:https://nicolejohnston.com.au/wp-content/uploads/2025/04/Sherwood-Arboretum-Planting-Bee.jpg
ORGANIZER;CN="Friends of Sherwood Arboretum":MAILTO:secretaryatfosa@gmail.com
GEO:-27.532253;152.977305
X-APPLE-STRUCTURED-LOCATION;VALUE=URI;X-ADDRESS=Sherwood Arboretum 57 Dewar Terrace Sherwood Queensland 4075 Australia;X-APPLE-RADIUS=500;X-TITLE=57 Dewar Terrace:geo:152.977305,-27.532253
END:VEVENT
BEGIN:VEVENT
DTSTART;TZID=Australia/Brisbane:20250329T093000
DTEND;TZID=Australia/Brisbane:20250329T110000
DTSTAMP:20260424T140307
CREATED:20250317T055719Z
LAST-MODIFIED:20250317T055719Z
UID:29314-1743240600-1743246000@nicolejohnston.com.au
SUMMARY:Sherwood | Sherwood Arboretum Guided Walk
DESCRIPTION:Sherwood Arboretum\, established in 1925\, is Brisbane’s only botanic garden dedicated exclusively to growing Australian native trees. The Arboretum holds scientific and cultural values with many of the original plantings undertaken by prominent citizens of Brisbane. \nThe guided walk will be led by the volunteer guides of Brisbane Botanic Gardens Mt Coot-tha and the Friends of Sherwood Arboretum. \n\nRequirements: Wear a hat\, enclosed walking shoes\, and be sure to bring a water bottle and sunscreen.\nMeeting point: Meet at the shelter adjacent to the main carpark off Jolimont Street\, Sherwood.\nAge: Open to all ages. Children must be accompanied by an adult.\n\nNote: Walks may be subject to environmental conditions and guide capacity on the day. \nBookings required via Eventbrite.
URL:https://nicolejohnston.com.au/event/sherwood-sherwood-arboretum-guided-walk-5/
LOCATION:Sherwood Arboretum\, 57 Dewar Terrace\, Sherwood\, Queensland\, 4075\, Australia
ORGANIZER;CN="Friends of Sherwood Arboretum":MAILTO:secretaryatfosa@gmail.com
GEO:-27.532253;152.977305
X-APPLE-STRUCTURED-LOCATION;VALUE=URI;X-ADDRESS=Sherwood Arboretum 57 Dewar Terrace Sherwood Queensland 4075 Australia;X-APPLE-RADIUS=500;X-TITLE=57 Dewar Terrace:geo:152.977305,-27.532253
END:VEVENT
BEGIN:VEVENT
DTSTART;TZID=Australia/Brisbane:20241123T093000
DTEND;TZID=Australia/Brisbane:20241123T110000
DTSTAMP:20260424T140307
CREATED:20240813T062427Z
LAST-MODIFIED:20240813T062428Z
UID:27788-1732354200-1732359600@nicolejohnston.com.au
SUMMARY:Sherwood | Sherwood Arboretum Guided Walk
DESCRIPTION:Sherwood Arboretum\, established in 1925\, is Brisbane’s only botanic garden dedicated exclusively to growing Australian native trees. The Arboretum holds scientific and cultural values with many of the original plantings undertaken by prominent citizens of Brisbane. \nThe guided walk will be led by the Volunteer Guides of the Brisbane Botanic Gardens Mt Coot-tha and the Friends of Sherwood Arboretum. \nRequirements: Please wear a hat\, enclosed walking shoes\, and be sure to bring a water bottle and sunscreen. \nMeeting point: Meet at the shelter adjacent to the main carpark off Jolimont Street\, Sherwood. \nAge: Open to all ages. Children must be accompanied by an adult. \nNote: Walks may be subject to environmental conditions and guide capacity on the day. \nBookings required via Eventbrite. For more information call (07) 3403 2535. For more events please see Council’s website.
URL:https://nicolejohnston.com.au/event/sherwood-sherwood-arboretum-guided-walk-4/
LOCATION:Sherwood Arboretum\, 57 Dewar Terrace\, Sherwood\, Queensland\, 4075\, Australia
ORGANIZER;CN="Friends of Sherwood Arboretum":MAILTO:secretaryatfosa@gmail.com
GEO:-27.532253;152.977305
X-APPLE-STRUCTURED-LOCATION;VALUE=URI;X-ADDRESS=Sherwood Arboretum 57 Dewar Terrace Sherwood Queensland 4075 Australia;X-APPLE-RADIUS=500;X-TITLE=57 Dewar Terrace:geo:152.977305,-27.532253
END:VEVENT
BEGIN:VEVENT
DTSTART;TZID=Australia/Brisbane:20241027T093000
DTEND;TZID=Australia/Brisbane:20241027T110000
DTSTAMP:20260424T140307
CREATED:20240813T062315Z
LAST-MODIFIED:20240813T062317Z
UID:27786-1730021400-1730026800@nicolejohnston.com.au
SUMMARY:Sherwood | Sherwood Arboretum Guided Walk
DESCRIPTION:Sherwood Arboretum\, established in 1925\, is Brisbane’s only botanic garden dedicated exclusively to growing Australian native trees. The Arboretum holds scientific and cultural values with many of the original plantings undertaken by prominent citizens of Brisbane. \nThe guided walk will be led by the Volunteer Guides of the Brisbane Botanic Gardens Mt Coot-tha and the Friends of Sherwood Arboretum. \nRequirements: Please wear a hat\, enclosed walking shoes\, and be sure to bring a water bottle and sunscreen. \nMeeting point: Meet at the shelter adjacent to the main carpark off Jolimont Street\, Sherwood. \nAge: Open to all ages. Children must be accompanied by an adult. \nNote: Walks may be subject to environmental conditions and guide capacity on the day. \nBookings required via Eventbrite. For more information call (07) 3403 2535. For more events please see Council’s website.
URL:https://nicolejohnston.com.au/event/sherwood-sherwood-arboretum-guided-walk-3/
LOCATION:Sherwood Arboretum\, 57 Dewar Terrace\, Sherwood\, Queensland\, 4075\, Australia
ORGANIZER;CN="Friends of Sherwood Arboretum":MAILTO:secretaryatfosa@gmail.com
GEO:-27.532253;152.977305
X-APPLE-STRUCTURED-LOCATION;VALUE=URI;X-ADDRESS=Sherwood Arboretum 57 Dewar Terrace Sherwood Queensland 4075 Australia;X-APPLE-RADIUS=500;X-TITLE=57 Dewar Terrace:geo:152.977305,-27.532253
END:VEVENT
BEGIN:VEVENT
DTSTART;TZID=Australia/Brisbane:20240921T093000
DTEND;TZID=Australia/Brisbane:20240921T110000
DTSTAMP:20260424T140307
CREATED:20240813T062152Z
LAST-MODIFIED:20240813T062153Z
UID:27784-1726911000-1726916400@nicolejohnston.com.au
SUMMARY:Sherwood | Sherwood Arboretum Guided Walk
DESCRIPTION:Sherwood Arboretum\, established in 1925\, is Brisbane’s only botanic garden dedicated exclusively to growing Australian native trees. The Arboretum holds scientific and cultural values with many of the original plantings undertaken by prominent citizens of Brisbane. \nThe guided walk will be led by the Volunteer Guides of the Brisbane Botanic Gardens Mt Coot-tha and the Friends of Sherwood Arboretum. \nRequirements: Please wear a hat\, enclosed walking shoes\, and be sure to bring a water bottle and sunscreen. \nMeeting point: Meet at the shelter adjacent to the main carpark off Jolimont Street\, Sherwood. \nAge: Open to all ages. Children must be accompanied by an adult. \nNote: Walks may be subject to environmental conditions and guide capacity on the day. \nBookings required via Eventbrite. For more information call (07) 3403 2535. For more events please see Council’s website.
URL:https://nicolejohnston.com.au/event/sherwood-sherwood-arboretum-guided-walk-2/
LOCATION:Sherwood Arboretum\, 57 Dewar Terrace\, Sherwood\, Queensland\, 4075\, Australia
ORGANIZER;CN="Friends of Sherwood Arboretum":MAILTO:secretaryatfosa@gmail.com
GEO:-27.532253;152.977305
X-APPLE-STRUCTURED-LOCATION;VALUE=URI;X-ADDRESS=Sherwood Arboretum 57 Dewar Terrace Sherwood Queensland 4075 Australia;X-APPLE-RADIUS=500;X-TITLE=57 Dewar Terrace:geo:152.977305,-27.532253
END:VEVENT
BEGIN:VEVENT
DTSTART;TZID=Australia/Brisbane:20240825T093000
DTEND;TZID=Australia/Brisbane:20240825T110000
DTSTAMP:20260424T140307
CREATED:20240813T061944Z
LAST-MODIFIED:20240813T061945Z
UID:27782-1724578200-1724583600@nicolejohnston.com.au
SUMMARY:Sherwood | Sherwood Arboretum Guided Walk
DESCRIPTION:Sherwood Arboretum\, established in 1925\, is Brisbane’s only botanic garden dedicated exclusively to growing Australian native trees. The Arboretum holds scientific and cultural values with many of the original plantings undertaken by prominent citizens of Brisbane. \nThe guided walk will be led by the Volunteer Guides of the Brisbane Botanic Gardens Mt Coot-tha and the Friends of Sherwood Arboretum. \nRequirements: Please wear a hat\, enclosed walking shoes\, and be sure to bring a water bottle and sunscreen. \nMeeting point: Meet at the shelter adjacent to the main carpark off Jolimont Street\, Sherwood. \nAge: Open to all ages. Children must be accompanied by an adult. \nNote: Walks may be subject to environmental conditions and guide capacity on the day. \nBookings required via Eventbrite. For more information call (07) 3403 2535. For more events please see Council’s website.
URL:https://nicolejohnston.com.au/event/sherwood-sherwood-arboretum-guided-walk/
LOCATION:Sherwood Arboretum\, 57 Dewar Terrace\, Sherwood\, Queensland\, 4075\, Australia
ORGANIZER;CN="Friends of Sherwood Arboretum":MAILTO:secretaryatfosa@gmail.com
GEO:-27.532253;152.977305
X-APPLE-STRUCTURED-LOCATION;VALUE=URI;X-ADDRESS=Sherwood Arboretum 57 Dewar Terrace Sherwood Queensland 4075 Australia;X-APPLE-RADIUS=500;X-TITLE=57 Dewar Terrace:geo:152.977305,-27.532253
END:VEVENT
BEGIN:VEVENT
DTSTART;TZID=Australia/Brisbane:20240616T103000
DTEND;TZID=Australia/Brisbane:20240616T110000
DTSTAMP:20260424T140307
CREATED:20240612T063002Z
LAST-MODIFIED:20240612T063005Z
UID:27301-1718533800-1718535600@nicolejohnston.com.au
SUMMARY:Sherwood | Friends of Sherwood Arboretum AGM
DESCRIPTION:You are warmly invited to share some 30 minutes of your time with us on Sunday morning to catch up with the news about one of your favourite local treasures – Sherwood Arboretum. \nThe Friends of Sherwood Arboretum is holding their annual meeting\, with a morning tea to follow\, at the Arboretum Garden Shed near the Joseph Street (northern) entry.
URL:https://nicolejohnston.com.au/event/sherwood-friends-of-sherwood-arboretum-agm/
LOCATION:Sherwood Arboretum\, 57 Dewar Terrace\, Sherwood\, Queensland\, 4075\, Australia
CATEGORIES:Community Event
ATTACH;FMTTYPE=image/jpeg:https://nicolejohnston.com.au/wp-content/uploads/2024/06/FOSA-AGM-Sun-16-June-2024.jpg
ORGANIZER;CN="Friends of Sherwood Arboretum":MAILTO:secretaryatfosa@gmail.com
GEO:-27.532253;152.977305
X-APPLE-STRUCTURED-LOCATION;VALUE=URI;X-ADDRESS=Sherwood Arboretum 57 Dewar Terrace Sherwood Queensland 4075 Australia;X-APPLE-RADIUS=500;X-TITLE=57 Dewar Terrace:geo:152.977305,-27.532253
END:VEVENT
END:VCALENDAR