BEGIN:VCALENDAR
VERSION:2.0
PRODID:-//Nicole Johnston - ECPv6.15.20//NONSGML v1.0//EN
CALSCALE:GREGORIAN
METHOD:PUBLISH
X-ORIGINAL-URL:https://nicolejohnston.com.au
X-WR-CALDESC:Events for Nicole Johnston
REFRESH-INTERVAL;VALUE=DURATION:PT1H
X-Robots-Tag:noindex
X-PUBLISHED-TTL:PT1H
BEGIN:VTIMEZONE
TZID:Australia/Brisbane
BEGIN:STANDARD
TZOFFSETFROM:+1000
TZOFFSETTO:+1000
TZNAME:AEST
DTSTART:20170101T000000
END:STANDARD
END:VTIMEZONE
BEGIN:VEVENT
DTSTART;TZID=Australia/Brisbane:20250926T163000
DTEND;TZID=Australia/Brisbane:20250926T183000
DTSTAMP:20260424T175422
CREATED:20250909T021723Z
LAST-MODIFIED:20250909T021723Z
UID:30683-1758904200-1758911400@nicolejohnston.com.au
SUMMARY:Graceville | Graceville Croquet Club Beginners Croquet
DESCRIPTION:Beginners croquet at Graceville Croquet Club. Come and try the sport of Croquet. \nBookings required by contacting 0428 070 861 via phone or text.
URL:https://nicolejohnston.com.au/event/graceville-graceville-croquet-club-beginners-croquet-6/
LOCATION:Graceville Croquet Club\, 53a Appel St\, Chelmer\, Qld\, 4068\, Australia
ORGANIZER;CN="Graceville Croquet Club":MAILTO:graceville@croquetqld.org
GEO:-27.5170685;152.9742136
X-APPLE-STRUCTURED-LOCATION;VALUE=URI;X-ADDRESS=Graceville Croquet Club 53a Appel St Chelmer Qld 4068 Australia;X-APPLE-RADIUS=500;X-TITLE=53a Appel St:geo:152.9742136,-27.5170685
END:VEVENT
BEGIN:VEVENT
DTSTART;TZID=Australia/Brisbane:20250925T163000
DTEND;TZID=Australia/Brisbane:20250925T183000
DTSTAMP:20260424T175422
CREATED:20250909T021617Z
LAST-MODIFIED:20250909T021617Z
UID:30681-1758817800-1758825000@nicolejohnston.com.au
SUMMARY:Graceville | Graceville Croquet Club Beginners Croquet
DESCRIPTION:Beginners croquet at Graceville Croquet Club. Come and try the sport of Croquet. \nBookings required by contacting 0428 070 861 via phone or text.
URL:https://nicolejohnston.com.au/event/graceville-graceville-croquet-club-beginners-croquet-5/
LOCATION:Graceville Croquet Club\, 53a Appel St\, Chelmer\, Qld\, 4068\, Australia
ORGANIZER;CN="Graceville Croquet Club":MAILTO:graceville@croquetqld.org
GEO:-27.5170685;152.9742136
X-APPLE-STRUCTURED-LOCATION;VALUE=URI;X-ADDRESS=Graceville Croquet Club 53a Appel St Chelmer Qld 4068 Australia;X-APPLE-RADIUS=500;X-TITLE=53a Appel St:geo:152.9742136,-27.5170685
END:VEVENT
BEGIN:VEVENT
DTSTART;TZID=Australia/Brisbane:20250924T163000
DTEND;TZID=Australia/Brisbane:20250924T183000
DTSTAMP:20260424T175422
CREATED:20250909T021358Z
LAST-MODIFIED:20250909T021358Z
UID:30679-1758731400-1758738600@nicolejohnston.com.au
SUMMARY:Graceville | Graceville Croquet Club Beginners Croquet
DESCRIPTION:Beginners croquet at Graceville Croquet Club. Come and try the sport of Croquet. \nBookings required by contacting 0428 070 861 via phone or text.
URL:https://nicolejohnston.com.au/event/graceville-graceville-croquet-club-beginners-croquet-4/
LOCATION:Graceville Croquet Club\, 53a Appel St\, Chelmer\, Qld\, 4068\, Australia
ORGANIZER;CN="Graceville Croquet Club":MAILTO:graceville@croquetqld.org
GEO:-27.5170685;152.9742136
X-APPLE-STRUCTURED-LOCATION;VALUE=URI;X-ADDRESS=Graceville Croquet Club 53a Appel St Chelmer Qld 4068 Australia;X-APPLE-RADIUS=500;X-TITLE=53a Appel St:geo:152.9742136,-27.5170685
END:VEVENT
BEGIN:VEVENT
DTSTART;TZID=Australia/Brisbane:20250923T163000
DTEND;TZID=Australia/Brisbane:20250923T183000
DTSTAMP:20260424T175422
CREATED:20250909T021114Z
LAST-MODIFIED:20250909T021114Z
UID:30675-1758645000-1758652200@nicolejohnston.com.au
SUMMARY:Graceville | Graceville Croquet Club Beginners Croquet
DESCRIPTION:Beginners croquet at Graceville Croquet Club. Come and try the sport of Croquet. \nBookings required by contacting 0428 070 861 via phone or text.
URL:https://nicolejohnston.com.au/event/graceville-graceville-croquet-club-beginners-croquet-3/
LOCATION:Graceville Croquet Club\, 53a Appel St\, Chelmer\, Qld\, 4068\, Australia
ORGANIZER;CN="Graceville Croquet Club":MAILTO:graceville@croquetqld.org
GEO:-27.5170685;152.9742136
X-APPLE-STRUCTURED-LOCATION;VALUE=URI;X-ADDRESS=Graceville Croquet Club 53a Appel St Chelmer Qld 4068 Australia;X-APPLE-RADIUS=500;X-TITLE=53a Appel St:geo:152.9742136,-27.5170685
END:VEVENT
BEGIN:VEVENT
DTSTART;TZID=Australia/Brisbane:20250922T163000
DTEND;TZID=Australia/Brisbane:20250922T183000
DTSTAMP:20260424T175422
CREATED:20250909T020955Z
LAST-MODIFIED:20250909T020955Z
UID:30673-1758558600-1758565800@nicolejohnston.com.au
SUMMARY:Graceville | Graceville Croquet Club Beginners Croquet
DESCRIPTION:Beginners croquet at Graceville Croquet Club. Come and try the sport of Croquet. \nBookings required by contacting 0428 070 861 via phone or text.
URL:https://nicolejohnston.com.au/event/graceville-graceville-croquet-club-beginners-croquet-2/
LOCATION:Graceville Croquet Club\, 53a Appel St\, Chelmer\, Qld\, 4068\, Australia
ORGANIZER;CN="Graceville Croquet Club":MAILTO:graceville@croquetqld.org
GEO:-27.5170685;152.9742136
X-APPLE-STRUCTURED-LOCATION;VALUE=URI;X-ADDRESS=Graceville Croquet Club 53a Appel St Chelmer Qld 4068 Australia;X-APPLE-RADIUS=500;X-TITLE=53a Appel St:geo:152.9742136,-27.5170685
END:VEVENT
BEGIN:VEVENT
DTSTART;TZID=Australia/Brisbane:20250921T163000
DTEND;TZID=Australia/Brisbane:20250921T183000
DTSTAMP:20260424T175422
CREATED:20250909T020836Z
LAST-MODIFIED:20250909T020836Z
UID:30671-1758472200-1758479400@nicolejohnston.com.au
SUMMARY:Graceville | Graceville Croquet Club Beginners Croquet
DESCRIPTION:Beginners croquet at Graceville Croquet Club. Come and try the sport of Croquet. \nBookings required by contacting 0428 070 861 via phone or text.
URL:https://nicolejohnston.com.au/event/graceville-graceville-croquet-club-beginners-croquet/
LOCATION:Graceville Croquet Club\, 53a Appel St\, Chelmer\, Qld\, 4068\, Australia
ORGANIZER;CN="Graceville Croquet Club":MAILTO:graceville@croquetqld.org
GEO:-27.5170685;152.9742136
X-APPLE-STRUCTURED-LOCATION;VALUE=URI;X-ADDRESS=Graceville Croquet Club 53a Appel St Chelmer Qld 4068 Australia;X-APPLE-RADIUS=500;X-TITLE=53a Appel St:geo:152.9742136,-27.5170685
END:VEVENT
BEGIN:VEVENT
DTSTART;TZID=Australia/Brisbane:20230625T100000
DTEND;TZID=Australia/Brisbane:20230625T123000
DTSTAMP:20260424T175422
CREATED:20230530T003422Z
LAST-MODIFIED:20230530T003423Z
UID:26161-1687687200-1687696200@nicolejohnston.com.au
SUMMARY:Graceville | Graceville Croquet Come and Try Day
DESCRIPTION:
URL:https://nicolejohnston.com.au/event/graceville-graceville-croquet-come-and-try-day/
LOCATION:Graceville Croquet Club\, 53a Appel St\, Chelmer\, Qld\, 4068\, Australia
CATEGORIES:Community Event
ATTACH;FMTTYPE=image/png:https://nicolejohnston.com.au/wp-content/uploads/2023/05/Graceville-Croquet-Come-and-Try-Day.png
ORGANIZER;CN="Graceville Croquet Club":MAILTO:graceville@croquetqld.org
GEO:-27.5170685;152.9742136
X-APPLE-STRUCTURED-LOCATION;VALUE=URI;X-ADDRESS=Graceville Croquet Club 53a Appel St Chelmer Qld 4068 Australia;X-APPLE-RADIUS=500;X-TITLE=53a Appel St:geo:152.9742136,-27.5170685
END:VEVENT
BEGIN:VEVENT
DTSTART;TZID=Australia/Brisbane:20180505T140000
DTEND;TZID=Australia/Brisbane:20180505T160000
DTSTAMP:20260424T175422
CREATED:20180326T051154Z
LAST-MODIFIED:20180326T051154Z
UID:15286-1525528800-1525536000@nicolejohnston.com.au
SUMMARY:Graceville | Come and Play Croquet Day
DESCRIPTION:Come along to the Graceville Croquet Club at 53 Appel St\, Graceville from 2-4pm on Saturday\, 5 May for a “Come and Play” croquet day to celebrate Word Croquet Day. \nEveryone is welcome and will be introduced to the fun of croquet by a friendly club member. Afternoon tea will also be provided. \nPlease wear soft soled shoes and sun protective clothes. A gold coin donation is appreciated. \nPlease email Graceville Croquet Club at graceville@croquetqld.org if you would like to come along.
URL:https://nicolejohnston.com.au/event/graceville-come-and-play-croquet-day/
LOCATION:Graceville Croquet Club\, 53a Appel St\, Chelmer\, Qld\, 4068\, Australia
ORGANIZER;CN="Graceville Croquet Club":MAILTO:graceville@croquetqld.org
GEO:-27.5170685;152.9742136
X-APPLE-STRUCTURED-LOCATION;VALUE=URI;X-ADDRESS=Graceville Croquet Club 53a Appel St Chelmer Qld 4068 Australia;X-APPLE-RADIUS=500;X-TITLE=53a Appel St:geo:152.9742136,-27.5170685
END:VEVENT
END:VCALENDAR