BEGIN:VCALENDAR
VERSION:2.0
PRODID:-//Nicole Johnston - ECPv6.15.20//NONSGML v1.0//EN
CALSCALE:GREGORIAN
METHOD:PUBLISH
X-ORIGINAL-URL:https://nicolejohnston.com.au
X-WR-CALDESC:Events for Nicole Johnston
REFRESH-INTERVAL;VALUE=DURATION:PT1H
X-Robots-Tag:noindex
X-PUBLISHED-TTL:PT1H
BEGIN:VTIMEZONE
TZID:Australia/Brisbane
BEGIN:STANDARD
TZOFFSETFROM:+1000
TZOFFSETTO:+1000
TZNAME:AEST
DTSTART:20140101T000000
END:STANDARD
END:VTIMEZONE
BEGIN:VEVENT
DTSTART;TZID=Australia/Brisbane:20251122T140000
DTEND;TZID=Australia/Brisbane:20251122T200000
DTSTAMP:20260424T141340
CREATED:20251016T011803Z
LAST-MODIFIED:20251016T011803Z
UID:31058-1763820000-1763841600@nicolejohnston.com.au
SUMMARY:Graceville | Graceville State School Christmas Market & Movie Night
DESCRIPTION:🕑 Market 2–6pm | 🎬 Movie at dusk \n🎟️ Movie Tickets: $15 per family – all funds go directly to support our incredible School Chaplaincy Program\, which provides vital care and connection for our students and families.
URL:https://nicolejohnston.com.au/event/graceville-graceville-state-school-christmas-market-movie-night/
LOCATION:Graceville State School\, 23 Acacia Avenue\, Graceville\, Queensland\, 4075\, Australia
CATEGORIES:Community Event
ATTACH;FMTTYPE=image/jpeg:https://nicolejohnston.com.au/wp-content/uploads/2025/10/Graceville-SS-Chaplaincy-Christmas-Market.jpg
GEO:-27.51779;152.979029
X-APPLE-STRUCTURED-LOCATION;VALUE=URI;X-ADDRESS=Graceville State School 23 Acacia Avenue Graceville Queensland 4075 Australia;X-APPLE-RADIUS=500;X-TITLE=23 Acacia Avenue:geo:152.979029,-27.51779
END:VEVENT
BEGIN:VEVENT
DTSTART;TZID=Australia/Brisbane:20250802T110000
DTEND;TZID=Australia/Brisbane:20250802T183000
DTSTAMP:20260424T141340
CREATED:20250604T054431Z
LAST-MODIFIED:20250721T012342Z
UID:29884-1754132400-1754159400@nicolejohnston.com.au
SUMMARY:Graceville | Graceville State School Fair
DESCRIPTION:Bazaar + Cakes 11AM | Food 11.30AM | Rides 12PM – 6PM Fireworks 6.30PM
URL:https://nicolejohnston.com.au/event/graceville-graceville-state-school-fair-2/
LOCATION:Graceville State School\, 23 Acacia Avenue\, Graceville\, Queensland\, 4075\, Australia
CATEGORIES:Community Event
ATTACH;FMTTYPE=image/jpeg:https://nicolejohnston.com.au/wp-content/uploads/2025/06/GSS-Fair-Promo.jpg
GEO:-27.51779;152.979029
X-APPLE-STRUCTURED-LOCATION;VALUE=URI;X-ADDRESS=Graceville State School 23 Acacia Avenue Graceville Queensland 4075 Australia;X-APPLE-RADIUS=500;X-TITLE=23 Acacia Avenue:geo:152.979029,-27.51779
END:VEVENT
BEGIN:VEVENT
DTSTART;TZID=Australia/Brisbane:20240803T100000
DTEND;TZID=Australia/Brisbane:20240803T200000
DTSTAMP:20260424T141340
CREATED:20240610T041828Z
LAST-MODIFIED:20240610T041829Z
UID:27291-1722679200-1722715200@nicolejohnston.com.au
SUMMARY:Graceville | Graceville SS Fair
DESCRIPTION:Food\, entertainment\, stalls\, rides\, animals\, ponies\, bar and fireworks.
URL:https://nicolejohnston.com.au/event/graceville-graceville-ss-fair/
LOCATION:Graceville State School\, 23 Acacia Avenue\, Graceville\, Queensland\, 4075\, Australia
CATEGORIES:Community Event
ATTACH;FMTTYPE=image/jpeg:https://nicolejohnston.com.au/wp-content/uploads/2024/06/Graceville-SS-Fete-2024.jpg
GEO:-27.51779;152.979029
X-APPLE-STRUCTURED-LOCATION;VALUE=URI;X-ADDRESS=Graceville State School 23 Acacia Avenue Graceville Queensland 4075 Australia;X-APPLE-RADIUS=500;X-TITLE=23 Acacia Avenue:geo:152.979029,-27.51779
END:VEVENT
BEGIN:VEVENT
DTSTART;TZID=Australia/Brisbane:20231021T170000
DTEND;TZID=Australia/Brisbane:20231021T203000
DTSTAMP:20260424T141340
CREATED:20230925T033105Z
LAST-MODIFIED:20230925T033105Z
UID:26937-1697907600-1697920200@nicolejohnston.com.au
SUMMARY:Graceville | Movie in the Park: 'Minions: The Rise of Gru'
DESCRIPTION:Enjoy a FREE screening of ‘Minions: The Rise of Gru’ on the Graceville State School oval. Bring along a picnic blanket or camping chairs and enjoy a family-friendly night out under the stars. \nSouth Brisbane Federal Band will perform from 5pm\, followed by the movie screening after sunset. \nFood will be available to purchase on the night\, or BYO picnic. \nProudly supported by Cr Nicole Johnston\, Councillor for Tennyson Ward and the Lord Mayor’s Community Fund.
URL:https://nicolejohnston.com.au/event/graceville-movie-in-the-park-minions-the-rise-of-gru/
LOCATION:Graceville State School\, 23 Acacia Avenue\, Graceville\, Queensland\, 4075\, Australia
CATEGORIES:Community Event
ATTACH;FMTTYPE=image/png:https://nicolejohnston.com.au/wp-content/uploads/2023/09/Graceville-SS-MIP.png
GEO:-27.51779;152.979029
X-APPLE-STRUCTURED-LOCATION;VALUE=URI;X-ADDRESS=Graceville State School 23 Acacia Avenue Graceville Queensland 4075 Australia;X-APPLE-RADIUS=500;X-TITLE=23 Acacia Avenue:geo:152.979029,-27.51779
END:VEVENT
BEGIN:VEVENT
DTSTART;TZID=Australia/Brisbane:20230826T110000
DTEND;TZID=Australia/Brisbane:20230826T193000
DTSTAMP:20260424T141340
CREATED:20230712T233950Z
LAST-MODIFIED:20230801T000502Z
UID:26656-1693047600-1693078200@nicolejohnston.com.au
SUMMARY:Graceville | Graceville State School Fair
DESCRIPTION:Rides\, market stalls\, food\, fireworks and more.
URL:https://nicolejohnston.com.au/event/graceville-graceville-state-school-fair/
LOCATION:Graceville State School\, 23 Acacia Avenue\, Graceville\, Queensland\, 4075\, Australia
CATEGORIES:Community Event
ATTACH;FMTTYPE=image/jpeg:https://nicolejohnston.com.au/wp-content/uploads/2023/07/GSS-Fair-Tennyson-Newsletter-2023-scaled.jpg
GEO:-27.51779;152.979029
X-APPLE-STRUCTURED-LOCATION;VALUE=URI;X-ADDRESS=Graceville State School 23 Acacia Avenue Graceville Queensland 4075 Australia;X-APPLE-RADIUS=500;X-TITLE=23 Acacia Avenue:geo:152.979029,-27.51779
END:VEVENT
BEGIN:VEVENT
DTSTART;TZID=Australia/Brisbane:20220827T110000
DTEND;TZID=Australia/Brisbane:20220827T193000
DTSTAMP:20260424T141340
CREATED:20220817T033543Z
LAST-MODIFIED:20220817T033544Z
UID:25727-1661598000-1661628600@nicolejohnston.com.au
SUMMARY:Graceville State School Spring Fair
DESCRIPTION:Come along and join in for a day filled with family\, food\, rides\, lots of fun\, and the traditional Fireworks to end the day!
URL:https://nicolejohnston.com.au/event/graceville-state-school-spring-fair/
LOCATION:Graceville State School\, 23 Acacia Avenue\, Graceville\, Queensland\, 4075\, Australia
CATEGORIES:Community Event
GEO:-27.51779;152.979029
X-APPLE-STRUCTURED-LOCATION;VALUE=URI;X-ADDRESS=Graceville State School 23 Acacia Avenue Graceville Queensland 4075 Australia;X-APPLE-RADIUS=500;X-TITLE=23 Acacia Avenue:geo:152.979029,-27.51779
END:VEVENT
BEGIN:VEVENT
DTSTART;TZID=Australia/Brisbane:20160827T060000
DTEND;TZID=Australia/Brisbane:20160827T200000
DTSTAMP:20260424T141340
CREATED:20160805T033606Z
LAST-MODIFIED:20160805T033606Z
UID:9805-1472277600-1472328000@nicolejohnston.com.au
SUMMARY:Graceville State School Fete
DESCRIPTION:Fun\, family\, fireworks – Graceville State School fete a great day out \n  \nPut it in your diary now. The popular Graceville State School fete is on Saturday\, August 27\, and will be a fiesta of food\, rides\, entertainment and fireworks. \nBargain hunters are in for a treat\, with the Garage Sale starting proceedings at 6am\, while a wonderful selection of stalls will offer everything from home-made jams\, sweets and cakes through to clothes\, toys and artworks. Great food options will be on the menu for hungry patrons\, including a barbecue\, Mexican\, pizza\, sushi and calamari and chips. \nFor the children\, the highlight will be the rides. The popular\, gravity-defying Round Up is making a comeback and will join a host of other attractions for big kids and littlies. \nSome fabulous raffle prizes will be up for grabs on the day\, including a $1000 holiday package for Tangalooma Island Resort. So don’t miss out. \n  \nWhat: Graceville State School fete \nWhen: August 27\, 2016 \n\n6am: Garage sale\n11am: Stalls open\n12.30pm: Rides begin\n3pm: Auction\n7pm: Fireworks\n8pm: Fete ends\n\nWhere: Graceville State School\, 23 Acacia Ave\, Graceville\, 4075
URL:https://nicolejohnston.com.au/event/graceville-state-school-fete-2/
LOCATION:Graceville State School\, 23 Acacia Avenue\, Graceville\, Queensland\, 4075\, Australia
GEO:-27.51779;152.979029
X-APPLE-STRUCTURED-LOCATION;VALUE=URI;X-ADDRESS=Graceville State School 23 Acacia Avenue Graceville Queensland 4075 Australia;X-APPLE-RADIUS=500;X-TITLE=23 Acacia Avenue:geo:152.979029,-27.51779
END:VEVENT
BEGIN:VEVENT
DTSTART;TZID=Australia/Brisbane:20151213T173000
DTEND;TZID=Australia/Brisbane:20151213T210000
DTSTAMP:20260424T141340
CREATED:20151110T095937Z
LAST-MODIFIED:20151110T095937Z
UID:5503-1450027800-1450040400@nicolejohnston.com.au
SUMMARY:Graceville Carols
DESCRIPTION:Activities from 5.30pm / Carols from 6pm \nBring the family along and join in the fun.
URL:https://nicolejohnston.com.au/event/graceville-carols/
LOCATION:Graceville State School\, 23 Acacia Avenue\, Graceville\, Queensland\, 4075\, Australia
GEO:-27.51779;152.979029
X-APPLE-STRUCTURED-LOCATION;VALUE=URI;X-ADDRESS=Graceville State School 23 Acacia Avenue Graceville Queensland 4075 Australia;X-APPLE-RADIUS=500;X-TITLE=23 Acacia Avenue:geo:152.979029,-27.51779
END:VEVENT
BEGIN:VEVENT
DTSTART;TZID=Australia/Brisbane:20150829T100000
DTEND;TZID=Australia/Brisbane:20150829T150000
DTSTAMP:20260424T141340
CREATED:20150720T061334Z
LAST-MODIFIED:20150720T061334Z
UID:3526-1440842400-1440860400@nicolejohnston.com.au
SUMMARY:Graceville State School Fete
DESCRIPTION:Click here to keep up with the latest! \nRides ~ Stalls ~ Entertainment  ~ Food ~ Raffles
URL:https://nicolejohnston.com.au/event/graceville-state-school-fete/
LOCATION:Graceville State School\, 23 Acacia Avenue\, Graceville\, Queensland\, 4075\, Australia
GEO:-27.51779;152.979029
X-APPLE-STRUCTURED-LOCATION;VALUE=URI;X-ADDRESS=Graceville State School 23 Acacia Avenue Graceville Queensland 4075 Australia;X-APPLE-RADIUS=500;X-TITLE=23 Acacia Avenue:geo:152.979029,-27.51779
END:VEVENT
END:VCALENDAR