BEGIN:VCALENDAR
VERSION:2.0
PRODID:-//Nicole Johnston - ECPv6.15.20//NONSGML v1.0//EN
CALSCALE:GREGORIAN
METHOD:PUBLISH
X-ORIGINAL-URL:https://nicolejohnston.com.au
X-WR-CALDESC:Events for Nicole Johnston
REFRESH-INTERVAL;VALUE=DURATION:PT1H
X-Robots-Tag:noindex
X-PUBLISHED-TTL:PT1H
BEGIN:VTIMEZONE
TZID:Australia/Brisbane
BEGIN:STANDARD
TZOFFSETFROM:+1000
TZOFFSETTO:+1000
TZNAME:AEST
DTSTART:20160101T000000
END:STANDARD
END:VTIMEZONE
BEGIN:VEVENT
DTSTART;TZID=Australia/Brisbane:20170901T094500
DTEND;TZID=Australia/Brisbane:20170901T170000
DTSTAMP:20260425T020411
CREATED:20170703T225806Z
LAST-MODIFIED:20170703T225806Z
UID:12989-1504259100-1504285200@nicolejohnston.com.au
SUMMARY:Milperra State High School Art Exhibition
DESCRIPTION:
URL:https://nicolejohnston.com.au/event/milperra-state-high-school-art-exhibition/
LOCATION:Graceville Uniting Church\, 215 Oxley Rd\, Graceville\, Qld\, 4075\, Australia
ORGANIZER;CN="Milperra State High School":MAILTO:admin@milperashs.eq.edu.au
GEO:-27.5206728;152.9790538
X-APPLE-STRUCTURED-LOCATION;VALUE=URI;X-ADDRESS=Graceville Uniting Church 215 Oxley Rd Graceville Qld 4075 Australia;X-APPLE-RADIUS=500;X-TITLE=215 Oxley Rd:geo:152.9790538,-27.5206728
END:VEVENT
END:VCALENDAR