BEGIN:VCALENDAR
VERSION:2.0
PRODID:-//Nicole Johnston - ECPv6.15.20//NONSGML v1.0//EN
CALSCALE:GREGORIAN
METHOD:PUBLISH
X-WR-CALNAME:Nicole Johnston
X-ORIGINAL-URL:https://nicolejohnston.com.au
X-WR-CALDESC:Events for Nicole Johnston
REFRESH-INTERVAL;VALUE=DURATION:PT1H
X-Robots-Tag:noindex
X-PUBLISHED-TTL:PT1H
BEGIN:VTIMEZONE
TZID:Australia/Brisbane
BEGIN:STANDARD
TZOFFSETFROM:+1000
TZOFFSETTO:+1000
TZNAME:AEST
DTSTART:20250101T000000
END:STANDARD
END:VTIMEZONE
BEGIN:VEVENT
DTSTART;TZID=Australia/Brisbane:20260604T070000
DTEND;TZID=Australia/Brisbane:20260604T090000
DTSTAMP:20260424T082631
CREATED:20260119T013448Z
LAST-MODIFIED:20260119T013448Z
UID:31790-1780556400-1780563600@nicolejohnston.com.au
SUMMARY:Corinda | Creekcare: Nosworthy Park
DESCRIPTION:OCCA’s CreekCare Team is a roving group of volunteers that assists both OCCA Bushcare and Habitat Brisbane groups in Oxley Creek Catchment. The group meets at different regeneration sites each Thursday morning from 7 am to 9 am. \nCome along and enjoy the company of this hard working group of volunteers\, contribute to the maintenance of some significant sites in the catchment and share in morning tea. \nIf you are interested in being involved\, please contact the coordinator: Trevor Armstrong on 0414 691 264 or trevor.r.armstrong@gmail.com to confirm details of the next group.
URL:https://nicolejohnston.com.au/event/corinda-creekcare-nosworthy-park/2026-06-04/
LOCATION:Nosworthy Park\, Corinda\, 2 Hall Ave\, Corinda\, 4075\, Australia
ORGANIZER;CN="OCCA Creekcare Team":MAILTO:trevor.r.armstrong@gmail.com
END:VEVENT
BEGIN:VEVENT
DTSTART;TZID=Australia/Brisbane:20260910T070000
DTEND;TZID=Australia/Brisbane:20260910T090000
DTSTAMP:20260424T082631
CREATED:20260119T013448Z
LAST-MODIFIED:20260119T013448Z
UID:31791-1789023600-1789030800@nicolejohnston.com.au
SUMMARY:Corinda | Creekcare: Nosworthy Park
DESCRIPTION:OCCA’s CreekCare Team is a roving group of volunteers that assists both OCCA Bushcare and Habitat Brisbane groups in Oxley Creek Catchment. The group meets at different regeneration sites each Thursday morning from 7 am to 9 am. \nCome along and enjoy the company of this hard working group of volunteers\, contribute to the maintenance of some significant sites in the catchment and share in morning tea. \nIf you are interested in being involved\, please contact the coordinator: Trevor Armstrong on 0414 691 264 or trevor.r.armstrong@gmail.com to confirm details of the next group.
URL:https://nicolejohnston.com.au/event/corinda-creekcare-nosworthy-park/2026-09-10/
LOCATION:Nosworthy Park\, Corinda\, 2 Hall Ave\, Corinda\, 4075\, Australia
ORGANIZER;CN="OCCA Creekcare Team":MAILTO:trevor.r.armstrong@gmail.com
END:VEVENT
BEGIN:VEVENT
DTSTART;TZID=Australia/Brisbane:20261217T070000
DTEND;TZID=Australia/Brisbane:20261217T090000
DTSTAMP:20260424T082631
CREATED:20260119T013448Z
LAST-MODIFIED:20260119T013448Z
UID:31792-1797490800-1797498000@nicolejohnston.com.au
SUMMARY:Corinda | Creekcare: Nosworthy Park
DESCRIPTION:OCCA’s CreekCare Team is a roving group of volunteers that assists both OCCA Bushcare and Habitat Brisbane groups in Oxley Creek Catchment. The group meets at different regeneration sites each Thursday morning from 7 am to 9 am. \nCome along and enjoy the company of this hard working group of volunteers\, contribute to the maintenance of some significant sites in the catchment and share in morning tea. \nIf you are interested in being involved\, please contact the coordinator: Trevor Armstrong on 0414 691 264 or trevor.r.armstrong@gmail.com to confirm details of the next group.
URL:https://nicolejohnston.com.au/event/corinda-creekcare-nosworthy-park/2026-12-17/
LOCATION:Nosworthy Park\, Corinda\, 2 Hall Ave\, Corinda\, 4075\, Australia
ORGANIZER;CN="OCCA Creekcare Team":MAILTO:trevor.r.armstrong@gmail.com
END:VEVENT
END:VCALENDAR