BEGIN:VCALENDAR
VERSION:2.0
PRODID:-//Nicole Johnston - ECPv6.15.20//NONSGML v1.0//EN
CALSCALE:GREGORIAN
METHOD:PUBLISH
X-ORIGINAL-URL:https://nicolejohnston.com.au
X-WR-CALDESC:Events for Nicole Johnston
REFRESH-INTERVAL;VALUE=DURATION:PT1H
X-Robots-Tag:noindex
X-PUBLISHED-TTL:PT1H
BEGIN:VTIMEZONE
TZID:Australia/Brisbane
BEGIN:STANDARD
TZOFFSETFROM:+1000
TZOFFSETTO:+1000
TZNAME:AEST
DTSTART:20140101T000000
END:STANDARD
END:VTIMEZONE
BEGIN:VEVENT
DTSTART;TZID=Australia/Brisbane:20151119T110000
DTEND;TZID=Australia/Brisbane:20151119T123000
DTSTAMP:20260424T195951
CREATED:20151012T113841Z
LAST-MODIFIED:20151012T113841Z
UID:4419-1447930800-1447936200@nicolejohnston.com.au
SUMMARY:GOLD ~ Orienteering
DESCRIPTION:GOLD PROGRAMME – For those over 50 years of age. \nNavigate your way walking or running around local parklands and bush with a custom made map.  Full instructions provided. \nBookings not required\, however please wear comfortable walking boots or shoes and bring a bottle of water.
URL:https://nicolejohnston.com.au/event/gold-orienteering/
LOCATION:Faulkner Park\, Waratah Avenue\, Graceville\, Qld\, 4075\, Australia
GEO:-27.5180351;152.9824596
X-APPLE-STRUCTURED-LOCATION;VALUE=URI;X-ADDRESS=Faulkner Park Waratah Avenue Graceville Qld 4075 Australia;X-APPLE-RADIUS=500;X-TITLE=Waratah Avenue:geo:152.9824596,-27.5180351
END:VEVENT
END:VCALENDAR