BEGIN:VCALENDAR
VERSION:2.0
PRODID:-//Nicole Johnston - ECPv6.15.20//NONSGML v1.0//EN
CALSCALE:GREGORIAN
METHOD:PUBLISH
X-WR-CALNAME:Nicole Johnston
X-ORIGINAL-URL:https://nicolejohnston.com.au
X-WR-CALDESC:Events for Nicole Johnston
REFRESH-INTERVAL;VALUE=DURATION:PT1H
X-Robots-Tag:noindex
X-PUBLISHED-TTL:PT1H
BEGIN:VTIMEZONE
TZID:Australia/Brisbane
BEGIN:STANDARD
TZOFFSETFROM:+1000
TZOFFSETTO:+1000
TZNAME:AEST
DTSTART:20150101T000000
END:STANDARD
END:VTIMEZONE
BEGIN:VEVENT
DTSTART;TZID=Australia/Brisbane:20160219T090000
DTEND;TZID=Australia/Brisbane:20160219T110000
DTSTAMP:20260425T005657
CREATED:20160210T123942Z
LAST-MODIFIED:20160210T123942Z
UID:6343-1455872400-1455879600@nicolejohnston.com.au
SUMMARY:Oxley-Chelmer History Group
DESCRIPTION:~Preserving out past\, sharing our memories~ \nThe Oxley-Chelmer History Group Inc meets eight times a year\, on the third Friday of the month excluding Jan\, May\, July\, November.  The December meeting will be held at a different venue TBA. \nContributions to the local history collection are welcome. \nProjects include displays\, workshops\, talks and heritage tours.  All are welcome.
URL:https://nicolejohnston.com.au/event/oxley-chelmer-history-group/2016-02-19/
LOCATION:Corinda RSL\, Clewley St\, Corinda\, Qld\, 4075\, Australia
GEO:-27.5383287;152.9839763
X-APPLE-STRUCTURED-LOCATION;VALUE=URI;X-ADDRESS=Corinda RSL Clewley St Corinda Qld 4075 Australia;X-APPLE-RADIUS=500;X-TITLE=Clewley St:geo:152.9839763,-27.5383287
END:VEVENT
END:VCALENDAR