BEGIN:VCALENDAR
VERSION:2.0
PRODID:-//Nicole Johnston - ECPv6.15.20//NONSGML v1.0//EN
CALSCALE:GREGORIAN
METHOD:PUBLISH
X-WR-CALNAME:Nicole Johnston
X-ORIGINAL-URL:https://nicolejohnston.com.au
X-WR-CALDESC:Events for Nicole Johnston
REFRESH-INTERVAL;VALUE=DURATION:PT1H
X-Robots-Tag:noindex
X-PUBLISHED-TTL:PT1H
BEGIN:VTIMEZONE
TZID:Australia/Brisbane
BEGIN:STANDARD
TZOFFSETFROM:+1000
TZOFFSETTO:+1000
TZNAME:AEST
DTSTART:20220101T000000
END:STANDARD
END:VTIMEZONE
BEGIN:VEVENT
DTSTART;TZID=Australia/Brisbane:20241208T140000
DTEND;TZID=Australia/Brisbane:20241208T160000
DTSTAMP:20260424T120714
CREATED:20241202T041657Z
LAST-MODIFIED:20241202T041657Z
UID:28624-1733666400-1733673600@nicolejohnston.com.au
SUMMARY:Oxley | QCWA Oxley Christmas Baking Competition
DESCRIPTION:Join us Sunday 8th December for our Annual QCWA Oxley Bake Off at the CWA Hall in Cawonga Park (Lincoln Street).\nJust $5 to enter 1 of 4 Categories:\n1. Rumballs (pls supply 6)2. Fruit Mince Pies (pls supply 4)3. Uniced Christmas Fruitcake (1)4. Gluten free versions of any of the above.\nFree entry for Kids Bake Off category:\n1. Kids Decorated Christmas Cupcakes (kids under 12) (pls supply 4)\nPlease drop off your items for judging by 1.45pm.\nFor all community members attending you will be welcome to taste some of the winning baked items plus QCWA products and recipe books will be available to buy.\nA $5 donation to join us for afternoon tea and taste test the results!!
URL:https://nicolejohnston.com.au/event/oxley-qcwa-oxley-christmas-baking-competition-2/
LOCATION:QCWA Oxley Hall\, 76 Lincoln St\, Oxley\, QLD\, 4075\, Australia
CATEGORIES:Community Event
ORGANIZER;CN="QCWA Oxley":MAILTO:qcwaoxley@gmail.com
END:VEVENT
BEGIN:VEVENT
DTSTART;TZID=Australia/Brisbane:20241109T080000
DTEND;TZID=Australia/Brisbane:20241109T140000
DTSTAMP:20260424T120714
CREATED:20241029T062716Z
LAST-MODIFIED:20241029T062718Z
UID:28380-1731139200-1731160800@nicolejohnston.com.au
SUMMARY:Oxley | QCWA Oxley Annual Christmas Stall
DESCRIPTION:Please join us outside Woolies from 8am – 2pm (or until sold out) for your favourite jams\, craft\, cookbooks\, sweets\, and Christmas stocking stuffers.
URL:https://nicolejohnston.com.au/event/oxley-qcwa-oxley-annual-christmas-stall-2/
LOCATION:The Station Oxley\, 157 Oxley Station Rd\, Oxley\, QLD\, 4075\, Australia
CATEGORIES:Community Event
ATTACH;FMTTYPE=image/jpeg:https://nicolejohnston.com.au/wp-content/uploads/2024/10/Oxley-QCWA-Christmas-Stall.jpg
ORGANIZER;CN="QCWA Oxley":MAILTO:qcwaoxley@gmail.com
END:VEVENT
BEGIN:VEVENT
DTSTART;TZID=Australia/Brisbane:20241027T100000
DTEND;TZID=Australia/Brisbane:20241027T123000
DTSTAMP:20260424T120714
CREATED:20241021T051850Z
LAST-MODIFIED:20241021T051853Z
UID:28343-1730023200-1730032200@nicolejohnston.com.au
SUMMARY:Oxley | Oxley QCWA "More Than Tea and Scones" Play
DESCRIPTION:Join Oxley QCWA for a performance of – More that tea and scones – an honest\, heartfelt and hilarious play sharing real stories from the women of the QCWA. \nBook your tickets online for $20 \nCoffee and cake available for sale by QCWA Oxley Team – at Club Oxley from 10 am – play starts at 11am.
URL:https://nicolejohnston.com.au/event/oxley-oxley-qcwa-more-than-tea-and-scones-play/
LOCATION:Oxley Bowls Club\, Englefield Road\, Oxley\, QLD\, 4075\, Australia
CATEGORIES:Community Event
ORGANIZER;CN="QCWA Oxley":MAILTO:qcwaoxley@gmail.com
END:VEVENT
BEGIN:VEVENT
DTSTART;TZID=Australia/Brisbane:20240914T140000
DTEND;TZID=Australia/Brisbane:20240914T160000
DTSTAMP:20260424T120714
CREATED:20240821T003543Z
LAST-MODIFIED:20240821T003545Z
UID:28010-1726322400-1726329600@nicolejohnston.com.au
SUMMARY:Oxley | Learn to Crochet with the QCWA
DESCRIPTION:Booking for this event is to simply email us at oxleybranch@qcwa.org.au.\n\nJoin us to celebrate International Crochet Day and learn to crochet either:\n\n1. Granny square for $10 – Beginners2pm sold out – starting a second group for 3pm; or\n\n2. Hanging 5 x hand towel places\, up to 10 scrunchie or make upremover for $15 – Experienced crocheters\n\nAll materials including wool\, crochet hook included!\n\nDevonshire afternoon tea of scones\, jam and cream and tea or coffee served.\n\nWe look forward to seeing you there.
URL:https://nicolejohnston.com.au/event/oxley-learn-to-crochet-with-the-qcwa/
LOCATION:QCWA Oxley Hall\, 76 Lincoln St\, Oxley\, QLD\, 4075\, Australia
CATEGORIES:Community Event
ATTACH;FMTTYPE=image/jpeg:https://nicolejohnston.com.au/wp-content/uploads/2024/08/Oxley-QCWA-Crochet.jpg
ORGANIZER;CN="QCWA Oxley":MAILTO:qcwaoxley@gmail.com
END:VEVENT
BEGIN:VEVENT
DTSTART;TZID=Australia/Brisbane:20240828T100000
DTEND;TZID=Australia/Brisbane:20240828T120000
DTSTAMP:20260424T120714
CREATED:20240821T003010Z
LAST-MODIFIED:20240822T015453Z
UID:28007-1724839200-1724846400@nicolejohnston.com.au
SUMMARY:Oxley | Oxley QCWA 78th Birthday Celebrations 'Easy Healthy Birthdays'
DESCRIPTION:QCWA Oxley Branch invites you to join us for our Birthday Celebration on Wednesday 28 August from 10.00am at the Oxley Bowls Club\, 24 A Englefield Road\, Oxley.\n\nAdmission is just $15 per person and includes:\n• cookery demonstration and tastings of easy healthy celebration treats for Morning tea and Lunch from our country kitchens convenors• a musical presentation of songs from our choir• fun activities• a lucky door prize\n\nRSVP is essential for catering purposes please email oxleybranch@qcwa.org.au or message our page before 24 August 2023.\nWe hope to see you there!
URL:https://nicolejohnston.com.au/event/oxley-oxley-qcwa-78th-birthday-celebrations-easy-healthy-birthdays/
LOCATION:Oxley Bowls Club\, Englefield Road\, Oxley\, QLD\, 4075\, Australia
CATEGORIES:Community Event
ATTACH;FMTTYPE=image/png:https://nicolejohnston.com.au/wp-content/uploads/2024/08/Oxley-QCWA-Birthday-Flyer.png
ORGANIZER;CN="QCWA Oxley":MAILTO:qcwaoxley@gmail.com
END:VEVENT
BEGIN:VEVENT
DTSTART;TZID=Australia/Brisbane:20240619T093000
DTEND;TZID=Australia/Brisbane:20240619T133000
DTSTAMP:20260424T120714
CREATED:20240605T002200Z
LAST-MODIFIED:20240612T003213Z
UID:27277-1718789400-1718803800@nicolejohnston.com.au
SUMMARY:Oxley | QCWA Oxley Day Trivia
DESCRIPTION:Join us for a fun Day of Trivia and friends.\n$15 per person and 4 per table.\nMorning tea on arrivalLunch includedA fun day out – raffles and prizes !!\nTo book a table email oxleybranch@qcwa.org.au
URL:https://nicolejohnston.com.au/event/oxley-qcwa-oxley-day-trivia/
LOCATION:Oxley Bowls Club\, Englefield Road\, Oxley\, QLD\, 4075\, Australia
CATEGORIES:Community Event
ATTACH;FMTTYPE=image/png:https://nicolejohnston.com.au/wp-content/uploads/2024/06/Oxley-QCWA-Day-Trivia.png
ORGANIZER;CN="QCWA Oxley":MAILTO:qcwaoxley@gmail.com
END:VEVENT
BEGIN:VEVENT
DTSTART;TZID=Australia/Brisbane:20231203T140000
DTEND;TZID=Australia/Brisbane:20231203T160000
DTSTAMP:20260424T120714
CREATED:20231026T050055Z
LAST-MODIFIED:20231026T050057Z
UID:27023-1701612000-1701619200@nicolejohnston.com.au
SUMMARY:Oxley | QCWA Oxley Christmas Baking Competition
DESCRIPTION:Join us Sunday 3rd December for our Annual QCWA Oxley Bake Off at the CWA Hall in Cawonga Park (Lincoln Street).\n\nJust $5 to enter 1 of 5 Categories:\n1. Rumballs\n2. Fruit Mince Pies\n3. Uniced Christmas Fruitcake\n4. Kids Iced Milk Arrowroot Biscuits (kids under 12)\n5. Gluten free versions of any of the above\n\nPlease drop off your items for judging by 2.30pm.\n\nFor all community members attending you will be welcome to taste some of the winning baked items plus QCWA products and recipe books will be available to buy.\nA gold coin donation to join us and taste test the results!!
URL:https://nicolejohnston.com.au/event/oxley-qcwa-oxley-christmas-baking-competition/
LOCATION:QCWA Oxley Hall\, 76 Lincoln St\, Oxley\, QLD\, 4075\, Australia
CATEGORIES:Community Event
ORGANIZER;CN="QCWA Oxley":MAILTO:qcwaoxley@gmail.com
END:VEVENT
BEGIN:VEVENT
DTSTART;TZID=Australia/Brisbane:20231104T080000
DTEND;TZID=Australia/Brisbane:20231104T140000
DTSTAMP:20260424T120714
CREATED:20231026T045736Z
LAST-MODIFIED:20231026T045739Z
UID:27019-1699084800-1699106400@nicolejohnston.com.au
SUMMARY:Oxley | QCWA Oxley Annual Christmas Stall
DESCRIPTION:Craft\, jams\, cookbooks\, sweets and Christmas stocking stuffers.
URL:https://nicolejohnston.com.au/event/oxley-qcwa-oxley-annual-christmas-stall/
LOCATION:The Station Oxley\, 157 Oxley Station Rd\, Oxley\, QLD\, 4075\, Australia
CATEGORIES:Community Event
ORGANIZER;CN="QCWA Oxley":MAILTO:qcwaoxley@gmail.com
END:VEVENT
END:VCALENDAR