BEGIN:VCALENDAR
VERSION:2.0
PRODID:-//Nicole Johnston - ECPv6.15.20//NONSGML v1.0//EN
CALSCALE:GREGORIAN
METHOD:PUBLISH
X-WR-CALNAME:Nicole Johnston
X-ORIGINAL-URL:https://nicolejohnston.com.au
X-WR-CALDESC:Events for Nicole Johnston
REFRESH-INTERVAL;VALUE=DURATION:PT1H
X-Robots-Tag:noindex
X-PUBLISHED-TTL:PT1H
BEGIN:VTIMEZONE
TZID:Australia/Brisbane
BEGIN:STANDARD
TZOFFSETFROM:+1000
TZOFFSETTO:+1000
TZNAME:AEST
DTSTART:20150101T000000
END:STANDARD
END:VTIMEZONE
BEGIN:VEVENT
DTSTART;TZID=Australia/Brisbane:20220910T160000
DTEND;TZID=Australia/Brisbane:20220910T200000
DTSTAMP:20260424T181758
CREATED:20220906T032440Z
LAST-MODIFIED:20220906T032440Z
UID:25775-1662825600-1662840000@nicolejohnston.com.au
SUMMARY:Oxley | QCWA Oxley Centenary Games Night
DESCRIPTION:Join the Oxley QCWA this Saturday Sept 10 from 4pm at Club Oxley for a Family Fun Centenary Games Night –\nSpeed Gaming tables with Australian games including Hoy\, Knuckles\, Squatter\,\nAustralian monopoly\, Cards\, Battleships and Bingo.\n$5 entry and $15 per family\nRaffle prizes!!\nSausage Sizzle and Baking by QCWA Oxley.
URL:https://nicolejohnston.com.au/event/oxley-qcwa-oxley-centenary-games-night/
LOCATION:Oxley Bowls Club\, Englefield Road\, Oxley\, QLD\, 4075\, Australia
CATEGORIES:Community Event
ATTACH;FMTTYPE=image/jpeg:https://nicolejohnston.com.au/wp-content/uploads/2022/09/305220231_447458710748160_7132419425549891743_n.jpg
END:VEVENT
BEGIN:VEVENT
DTSTART;TZID=Australia/Brisbane:20160916T100000
DTEND;TZID=Australia/Brisbane:20160916T140000
DTSTAMP:20260424T181758
CREATED:20160913T002509Z
LAST-MODIFIED:20160913T002509Z
UID:10040-1474020000-1474034400@nicolejohnston.com.au
SUMMARY:Yeronga | Fashion Parade
DESCRIPTION:Join the Annerley Yeronga Qld Country Women’s Association at 10am on 16 September in celebrating their 88th Birthday via a Fashion Parade showcasing “Fashions on Mayfield” at the QCWA Hall\, 9 School Rd\, Yeronga. Admission is $0 and includes a light luncheon to follow the show. \nPlease RSVP to Iris on 3262 1160 or Beverley on 3848 1486.
URL:https://nicolejohnston.com.au/event/yeronga-fashion-parade/
LOCATION:QCWA Hall\, 9 School Rd\, Yeronga\, Qld\, 4104\, Australia
GEO:-27.5219447;153.0246226
X-APPLE-STRUCTURED-LOCATION;VALUE=URI;X-ADDRESS=QCWA Hall 9 School Rd Yeronga Qld 4104 Australia;X-APPLE-RADIUS=500;X-TITLE=9 School Rd:geo:153.0246226,-27.5219447
END:VEVENT
END:VCALENDAR