BEGIN:VCALENDAR
VERSION:2.0
PRODID:-//Nicole Johnston - ECPv6.15.20//NONSGML v1.0//EN
CALSCALE:GREGORIAN
METHOD:PUBLISH
X-WR-CALNAME:Nicole Johnston
X-ORIGINAL-URL:https://nicolejohnston.com.au
X-WR-CALDESC:Events for Nicole Johnston
REFRESH-INTERVAL;VALUE=DURATION:PT1H
X-Robots-Tag:noindex
X-PUBLISHED-TTL:PT1H
BEGIN:VTIMEZONE
TZID:Australia/Brisbane
BEGIN:STANDARD
TZOFFSETFROM:+1000
TZOFFSETTO:+1000
TZNAME:AEST
DTSTART:20140101T000000
END:STANDARD
END:VTIMEZONE
BEGIN:VEVENT
DTSTART;TZID=Australia/Brisbane:20150816T140000
DTEND;TZID=Australia/Brisbane:20150816T153000
DTSTAMP:20260424T200719
CREATED:20150727T015742Z
LAST-MODIFIED:20150727T015742Z
UID:3581-1439733600-1439739000@nicolejohnston.com.au
SUMMARY:Lord Mayor's Seniors Gala Cabaret
DESCRIPTION:Enjoy an afternoon of entertainment with Brisbane’s most talented seniors and celebrity guests including Rhonda Burchmore and Rachael Beck in the beautiful City Hall. \nTo book\, contact QTIX on 136 246.
URL:https://nicolejohnston.com.au/event/lord-mayors-seniors-gala-cabaret-2/
LOCATION:Brisbane City Hall\, King George Square\, Brisbane\, Queensland\, 4000\, Australia
GEO:-27.468239;153.023736
X-APPLE-STRUCTURED-LOCATION;VALUE=URI;X-ADDRESS=Brisbane City Hall King George Square Brisbane Queensland 4000 Australia;X-APPLE-RADIUS=500;X-TITLE=King George Square:geo:153.023736,-27.468239
END:VEVENT
END:VCALENDAR