BEGIN:VCALENDAR
VERSION:2.0
PRODID:-//Nicole Johnston - ECPv6.15.20//NONSGML v1.0//EN
CALSCALE:GREGORIAN
METHOD:PUBLISH
X-ORIGINAL-URL:https://nicolejohnston.com.au
X-WR-CALDESC:Events for Nicole Johnston
REFRESH-INTERVAL;VALUE=DURATION:PT1H
X-Robots-Tag:noindex
X-PUBLISHED-TTL:PT1H
BEGIN:VTIMEZONE
TZID:Australia/Brisbane
BEGIN:STANDARD
TZOFFSETFROM:+1000
TZOFFSETTO:+1000
TZNAME:AEST
DTSTART:20200101T000000
END:STANDARD
END:VTIMEZONE
BEGIN:VEVENT
DTSTART;TZID=Australia/Brisbane:20251207T163000
DTEND;TZID=Australia/Brisbane:20251207T190000
DTSTAMP:20260424T124816
CREATED:20251023T065931Z
LAST-MODIFIED:20251023T065931Z
UID:31080-1765125000-1765134000@nicolejohnston.com.au
SUMMARY:Chelmer | Riverside Church Christmas Carols
DESCRIPTION:
URL:https://nicolejohnston.com.au/event/chelmer-riverside-church-christmas-carols-2/2025-12-07/
LOCATION:Riverside Christian Church\, 26 Glenwood St\, Chelmer\, Qld\, 4075\, Australia
CATEGORIES:Community Event
ATTACH;FMTTYPE=image/jpeg:https://nicolejohnston.com.au/wp-content/uploads/2025/10/Riverside-Carols.jpg
GEO:-27.5122024;152.9768831
X-APPLE-STRUCTURED-LOCATION;VALUE=URI;X-ADDRESS=Riverside Christian Church 26 Glenwood St Chelmer Qld 4075 Australia;X-APPLE-RADIUS=500;X-TITLE=26 Glenwood St:geo:152.9768831,-27.5122024
END:VEVENT
BEGIN:VEVENT
DTSTART;TZID=Australia/Brisbane:20251206T171500
DTEND;TZID=Australia/Brisbane:20251206T190000
DTSTAMP:20260424T124816
CREATED:20251023T065931Z
LAST-MODIFIED:20251023T065931Z
UID:31078-1765041300-1765047600@nicolejohnston.com.au
SUMMARY:Chelmer | Riverside Church Christmas Carols
DESCRIPTION:
URL:https://nicolejohnston.com.au/event/chelmer-riverside-church-christmas-carols-2/2025-12-06/
LOCATION:Riverside Christian Church\, 26 Glenwood St\, Chelmer\, Qld\, 4075\, Australia
CATEGORIES:Community Event
ATTACH;FMTTYPE=image/jpeg:https://nicolejohnston.com.au/wp-content/uploads/2025/10/Riverside-Carols.jpg
GEO:-27.5122024;152.9768831
X-APPLE-STRUCTURED-LOCATION;VALUE=URI;X-ADDRESS=Riverside Christian Church 26 Glenwood St Chelmer Qld 4075 Australia;X-APPLE-RADIUS=500;X-TITLE=26 Glenwood St:geo:152.9768831,-27.5122024
END:VEVENT
BEGIN:VEVENT
DTSTART;TZID=Australia/Brisbane:20241214T163000
DTEND;TZID=Australia/Brisbane:20241214T200000
DTSTAMP:20260424T124816
CREATED:20241120T043522Z
LAST-MODIFIED:20241120T043522Z
UID:28608-1734193800-1734206400@nicolejohnston.com.au
SUMMARY:Chelmer | Riverside Church Carols
DESCRIPTION:
URL:https://nicolejohnston.com.au/event/chelmer-riverside-church-carols/2024-12-14/
LOCATION:Riverside Christian Church\, 26 Glenwood St\, Chelmer\, Qld\, 4075\, Australia
ATTACH;FMTTYPE=image/jpeg:https://nicolejohnston.com.au/wp-content/uploads/2024/11/Riverside-Carols-scaled.jpg
GEO:-27.5122024;152.9768831
X-APPLE-STRUCTURED-LOCATION;VALUE=URI;X-ADDRESS=Riverside Christian Church 26 Glenwood St Chelmer Qld 4075 Australia;X-APPLE-RADIUS=500;X-TITLE=26 Glenwood St:geo:152.9768831,-27.5122024
END:VEVENT
BEGIN:VEVENT
DTSTART;TZID=Australia/Brisbane:20241213T171500
DTEND;TZID=Australia/Brisbane:20241213T200000
DTSTAMP:20260424T124816
CREATED:20241120T043522Z
LAST-MODIFIED:20241120T043525Z
UID:28605-1734110100-1734120000@nicolejohnston.com.au
SUMMARY:Chelmer | Riverside Church Carols
DESCRIPTION:
URL:https://nicolejohnston.com.au/event/chelmer-riverside-church-carols/2024-12-13/
LOCATION:Riverside Christian Church\, 26 Glenwood St\, Chelmer\, Qld\, 4075\, Australia
ATTACH;FMTTYPE=image/jpeg:https://nicolejohnston.com.au/wp-content/uploads/2024/11/Riverside-Carols-scaled.jpg
GEO:-27.5122024;152.9768831
X-APPLE-STRUCTURED-LOCATION;VALUE=URI;X-ADDRESS=Riverside Christian Church 26 Glenwood St Chelmer Qld 4075 Australia;X-APPLE-RADIUS=500;X-TITLE=26 Glenwood St:geo:152.9768831,-27.5122024
END:VEVENT
BEGIN:VEVENT
DTSTART;TZID=Australia/Brisbane:20231215T171500
DTEND;TZID=Australia/Brisbane:20231215T200000
DTSTAMP:20260424T124816
CREATED:20231026T044730Z
LAST-MODIFIED:20231026T044732Z
UID:27012-1702660500-1702670400@nicolejohnston.com.au
SUMMARY:Chelmer | Riverside Carols
DESCRIPTION:
URL:https://nicolejohnston.com.au/event/chelmer-riverside-carols/2023-12-15/
LOCATION:Riverside Christian Church\, 26 Glenwood St\, Chelmer\, Qld\, 4075\, Australia
CATEGORIES:Community Event
ATTACH;FMTTYPE=image/jpeg:https://nicolejohnston.com.au/wp-content/uploads/2023/10/Riverside-Church-Carols.jpg
GEO:-27.5122024;152.9768831
X-APPLE-STRUCTURED-LOCATION;VALUE=URI;X-ADDRESS=Riverside Christian Church 26 Glenwood St Chelmer Qld 4075 Australia;X-APPLE-RADIUS=500;X-TITLE=26 Glenwood St:geo:152.9768831,-27.5122024
END:VEVENT
BEGIN:VEVENT
DTSTART;TZID=Australia/Brisbane:20221202T171500
DTEND;TZID=Australia/Brisbane:20221202T193000
DTSTAMP:20260424T124816
CREATED:20221108T034009Z
LAST-MODIFIED:20221108T034010Z
UID:25850-1670001300-1670009400@nicolejohnston.com.au
SUMMARY:Chelmer | Riverside Community Carols
DESCRIPTION:Friday 2 December\nSausage sizzle from 5.15pm\nCarols from 6pm \nSaturday 3 December\nFood trucks\, petting zoo and jumping castle from 5pm\nCarols from 6pm
URL:https://nicolejohnston.com.au/event/chelmer-riverside-community-carols-2/2022-12-02/
LOCATION:Riverside Christian Church\, 26 Glenwood St\, Chelmer\, Qld\, 4075\, Australia
CATEGORIES:Community Event
ATTACH;FMTTYPE=image/jpeg:https://nicolejohnston.com.au/wp-content/uploads/2022/11/Riverside.jpg
GEO:-27.5122024;152.9768831
X-APPLE-STRUCTURED-LOCATION;VALUE=URI;X-ADDRESS=Riverside Christian Church 26 Glenwood St Chelmer Qld 4075 Australia;X-APPLE-RADIUS=500;X-TITLE=26 Glenwood St:geo:152.9768831,-27.5122024
END:VEVENT
BEGIN:VEVENT
DTSTART;TZID=Australia/Brisbane:20211211T173000
DTEND;TZID=Australia/Brisbane:20211211T200000
DTSTAMP:20260424T124816
CREATED:20211109T053952Z
LAST-MODIFIED:20211109T053952Z
UID:25164-1639243800-1639252800@nicolejohnston.com.au
SUMMARY:Chelmer | Riverside Community Carols
DESCRIPTION:
URL:https://nicolejohnston.com.au/event/chelmer-riverside-community-carols/
LOCATION:Riverside Christian Church\, 26 Glenwood St\, Chelmer\, Qld\, 4075\, Australia
CATEGORIES:Community Event
ATTACH;FMTTYPE=image/png:https://nicolejohnston.com.au/wp-content/uploads/2021/11/Riverside-Community-Carols.png
GEO:-27.5122024;152.9768831
X-APPLE-STRUCTURED-LOCATION;VALUE=URI;X-ADDRESS=Riverside Christian Church 26 Glenwood St Chelmer Qld 4075 Australia;X-APPLE-RADIUS=500;X-TITLE=26 Glenwood St:geo:152.9768831,-27.5122024
END:VEVENT
END:VCALENDAR