BEGIN:VCALENDAR
VERSION:2.0
PRODID:-//Nicole Johnston - ECPv6.15.20//NONSGML v1.0//EN
CALSCALE:GREGORIAN
METHOD:PUBLISH
X-WR-CALNAME:Nicole Johnston
X-ORIGINAL-URL:https://nicolejohnston.com.au
X-WR-CALDESC:Events for Nicole Johnston
REFRESH-INTERVAL;VALUE=DURATION:PT1H
X-Robots-Tag:noindex
X-PUBLISHED-TTL:PT1H
BEGIN:VTIMEZONE
TZID:Australia/Brisbane
BEGIN:STANDARD
TZOFFSETFROM:+1000
TZOFFSETTO:+1000
TZNAME:AEST
DTSTART:20150101T000000
END:STANDARD
END:VTIMEZONE
BEGIN:VEVENT
DTSTART;TZID=Australia/Brisbane:20160227T150000
DTEND;TZID=Australia/Brisbane:20160227T170000
DTSTAMP:20260424T195747
CREATED:20160127T112240Z
LAST-MODIFIED:20160127T112240Z
UID:6288-1456585200-1456592400@nicolejohnston.com.au
SUMMARY:Basic Bicycle Skills - Sherwood
DESCRIPTION:Bookings required.  Suitable for ages 14+. \nLearn some basic skills and techniques to be safer with bicycle handling.  See how to master those pesky cleats.  This session includes a one hour ride to test your skills. \nPlease wear suitable clothing and shoes and bring along your bike\, helmet\, sun protection and water. \nPresented as part of Brisbane City Council’s Cycling Brisbane programme.
URL:https://nicolejohnston.com.au/event/basic-bicycle-skills-sherwood/
LOCATION:Sherwood Arboretum\, 57 Dewar Terrace\, Sherwood\, Queensland\, 4075\, Australia
GEO:-27.532253;152.977305
X-APPLE-STRUCTURED-LOCATION;VALUE=URI;X-ADDRESS=Sherwood Arboretum 57 Dewar Terrace Sherwood Queensland 4075 Australia;X-APPLE-RADIUS=500;X-TITLE=57 Dewar Terrace:geo:152.977305,-27.532253
END:VEVENT
END:VCALENDAR