BEGIN:VCALENDAR
VERSION:2.0
PRODID:-//Nicole Johnston - ECPv6.15.20//NONSGML v1.0//EN
CALSCALE:GREGORIAN
METHOD:PUBLISH
X-WR-CALNAME:Nicole Johnston
X-ORIGINAL-URL:https://nicolejohnston.com.au
X-WR-CALDESC:Events for Nicole Johnston
REFRESH-INTERVAL;VALUE=DURATION:PT1H
X-Robots-Tag:noindex
X-PUBLISHED-TTL:PT1H
BEGIN:VTIMEZONE
TZID:Australia/Brisbane
BEGIN:STANDARD
TZOFFSETFROM:+1000
TZOFFSETTO:+1000
TZNAME:AEST
DTSTART:20230101T000000
END:STANDARD
END:VTIMEZONE
BEGIN:VEVENT
DTSTART;TZID=Australia/Brisbane:20240728T090000
DTEND;TZID=Australia/Brisbane:20240728T160000
DTSTAMP:20260424T161123
CREATED:20240611T054915Z
LAST-MODIFIED:20240611T054917Z
UID:27294-1722157200-1722182400@nicolejohnston.com.au
SUMMARY:Sherwood | Sherwood Afternoon Stamp Society Open Day
DESCRIPTION:
URL:https://nicolejohnston.com.au/event/sherwood-sherwood-afternoon-stamp-society-open-day/
LOCATION:Sherwood State School\, 464 Oxley Rd\, Sherwood\, Qld\, 4075\, Australia
CATEGORIES:Community Event
ATTACH;FMTTYPE=image/png:https://nicolejohnston.com.au/wp-content/uploads/2024/06/Sherwood-Afternoon-Stamp-Society.png
GEO:-27.5317202;152.9831449
X-APPLE-STRUCTURED-LOCATION;VALUE=URI;X-ADDRESS=Sherwood State School 464 Oxley Rd Sherwood Qld 4075 Australia;X-APPLE-RADIUS=500;X-TITLE=464 Oxley Rd:geo:152.9831449,-27.5317202
END:VEVENT
END:VCALENDAR