BEGIN:VCALENDAR
VERSION:2.0
PRODID:-//Nicole Johnston - ECPv6.15.20//NONSGML v1.0//EN
CALSCALE:GREGORIAN
METHOD:PUBLISH
X-ORIGINAL-URL:https://nicolejohnston.com.au
X-WR-CALDESC:Events for Nicole Johnston
REFRESH-INTERVAL;VALUE=DURATION:PT1H
X-Robots-Tag:noindex
X-PUBLISHED-TTL:PT1H
BEGIN:VTIMEZONE
TZID:Australia/Brisbane
BEGIN:STANDARD
TZOFFSETFROM:+1000
TZOFFSETTO:+1000
TZNAME:AEST
DTSTART:20140101T000000
END:STANDARD
END:VTIMEZONE
BEGIN:VEVENT
DTSTART;TZID=Australia/Brisbane:20151113T173000
DTEND;TZID=Australia/Brisbane:20151113T210000
DTSTAMP:20260424T121021
CREATED:20151015T083243Z
LAST-MODIFIED:20151015T083243Z
UID:4505-1447435800-1447448400@nicolejohnston.com.au
SUMMARY:Sherwood Community Festival
DESCRIPTION:The count down to this years 20th Birthday celebration has begun!  \nWe Kick off with our ever popular Raffle – Tickets ON SALE from Saturday 24 October 9am – 3pm outside Woolworths Sherwood. Great Prizes to be won! \n\n  \nCome along as your favourite character or celebrity and dress up on Friday\, 13 November to celebrate the 20th anniversary of the Sherwood Community Festival!\n\nA time to celebrate\, have some fun and enjoy loads of free entertainment\, rides and stalls!\n\nProudly supported by Cr Nicole Johnston\, Tennyson Ward and the Lord Mayor’s Suburban Initiative Fund.
URL:https://nicolejohnston.com.au/event/sherwood-community-festival/
LOCATION:Sherwood Community Festival\, Sherwood Rd (Between Oxley Rd & Hedges Ave)\, Sherwood\, Qld\, 4075\, Australia
ORGANIZER;CN="Sherwood Community Festival":MAILTO:enquiries@sherwoodfestival.com
GEO:-27.5317339;152.9799266
X-APPLE-STRUCTURED-LOCATION;VALUE=URI;X-ADDRESS=Sherwood Community Festival Sherwood Rd (Between Oxley Rd & Hedges Ave) Sherwood Qld 4075 Australia;X-APPLE-RADIUS=500;X-TITLE=Sherwood Rd (Between Oxley Rd & Hedges Ave):geo:152.9799266,-27.5317339
END:VEVENT
END:VCALENDAR