BEGIN:VCALENDAR
VERSION:2.0
PRODID:-//Nicole Johnston - ECPv6.15.20//NONSGML v1.0//EN
CALSCALE:GREGORIAN
METHOD:PUBLISH
X-ORIGINAL-URL:https://nicolejohnston.com.au
X-WR-CALDESC:Events for Nicole Johnston
REFRESH-INTERVAL;VALUE=DURATION:PT1H
X-Robots-Tag:noindex
X-PUBLISHED-TTL:PT1H
BEGIN:VTIMEZONE
TZID:Australia/Brisbane
BEGIN:STANDARD
TZOFFSETFROM:+1000
TZOFFSETTO:+1000
TZNAME:AEST
DTSTART:20240101T000000
END:STANDARD
END:VTIMEZONE
BEGIN:VEVENT
DTSTART;TZID=Australia/Brisbane:20251012T150000
DTEND;TZID=Australia/Brisbane:20251012T180000
DTSTAMP:20260424T162436
CREATED:20250924T053251Z
LAST-MODIFIED:20250924T053254Z
UID:31009-1760281200-1760292000@nicolejohnston.com.au
SUMMARY:Sherwood | Sherwood District Girl Guides 100th Birthday Community Day and Campfire
DESCRIPTION:Join us as we celebrate 100 years in the Sherwood community.\nTry your hand at the activities through the park.Have a sausage sizzle or a go at the tombola.Walk though a display of our history.Finish a fine afternoon with a Guiding campfire.
URL:https://nicolejohnston.com.au/event/sherwood-sherwood-district-girl-guides-100th-birthday-community-day-and-campfire/
LOCATION:Hives Park\, 37 Quarry Rd\, Sherwood\, Qld\, 4075\, Australia
CATEGORIES:Community Event
ATTACH;FMTTYPE=image/png:https://nicolejohnston.com.au/wp-content/uploads/2025/09/Sherwood-Girl-Guides-100.png
ORGANIZER;CN="Sherwood Girl Guides":MAILTO:sherwooddm@guidesqld.org
END:VEVENT
END:VCALENDAR