BEGIN:VCALENDAR
VERSION:2.0
PRODID:-//Nicole Johnston - ECPv6.15.20//NONSGML v1.0//EN
CALSCALE:GREGORIAN
METHOD:PUBLISH
X-WR-CALNAME:Nicole Johnston
X-ORIGINAL-URL:https://nicolejohnston.com.au
X-WR-CALDESC:Events for Nicole Johnston
REFRESH-INTERVAL;VALUE=DURATION:PT1H
X-Robots-Tag:noindex
X-PUBLISHED-TTL:PT1H
BEGIN:VTIMEZONE
TZID:Australia/Brisbane
BEGIN:STANDARD
TZOFFSETFROM:+1000
TZOFFSETTO:+1000
TZNAME:AEST
DTSTART:20240101T000000
END:STANDARD
END:VTIMEZONE
BEGIN:VEVENT
DTSTART;TZID=Australia/Brisbane:20251125T093000
DTEND;TZID=Australia/Brisbane:20251125T120000
DTSTAMP:20260424T141511
CREATED:20250908T064630Z
LAST-MODIFIED:20250908T064630Z
UID:30566-1764063000-1764072000@nicolejohnston.com.au
SUMMARY:Sherwood | Sherwood Indoor Bowls
DESCRIPTION:A fun\, social sport suitable for seniors. Meet at the Sherwood Uniting Church Hall (access off Thallon St).\nTea & biscuits provided. First game is free. Contact Ann for more information.
URL:https://nicolejohnston.com.au/event/sherwood-sherwood-indoor-bowls/2025-11-25/
LOCATION:Sherwood Uniting Church Hall\, Cnr Sherwood Rd & Thallon St\, Sherwood\, Qld\, 4075\, Australia
CATEGORIES:Recurring
GEO:-27.5320991;152.9806216
X-APPLE-STRUCTURED-LOCATION;VALUE=URI;X-ADDRESS=Sherwood Uniting Church Hall Cnr Sherwood Rd & Thallon St Sherwood Qld 4075 Australia;X-APPLE-RADIUS=500;X-TITLE=Cnr Sherwood Rd & Thallon St:geo:152.9806216,-27.5320991
END:VEVENT
BEGIN:VEVENT
DTSTART;TZID=Australia/Brisbane:20251118T093000
DTEND;TZID=Australia/Brisbane:20251118T120000
DTSTAMP:20260424T141511
CREATED:20250908T064630Z
LAST-MODIFIED:20250908T064630Z
UID:30564-1763458200-1763467200@nicolejohnston.com.au
SUMMARY:Sherwood | Sherwood Indoor Bowls
DESCRIPTION:A fun\, social sport suitable for seniors. Meet at the Sherwood Uniting Church Hall (access off Thallon St).\nTea & biscuits provided. First game is free. Contact Ann for more information.
URL:https://nicolejohnston.com.au/event/sherwood-sherwood-indoor-bowls/2025-11-18/
LOCATION:Sherwood Uniting Church Hall\, Cnr Sherwood Rd & Thallon St\, Sherwood\, Qld\, 4075\, Australia
CATEGORIES:Recurring
GEO:-27.5320991;152.9806216
X-APPLE-STRUCTURED-LOCATION;VALUE=URI;X-ADDRESS=Sherwood Uniting Church Hall Cnr Sherwood Rd & Thallon St Sherwood Qld 4075 Australia;X-APPLE-RADIUS=500;X-TITLE=Cnr Sherwood Rd & Thallon St:geo:152.9806216,-27.5320991
END:VEVENT
BEGIN:VEVENT
DTSTART;TZID=Australia/Brisbane:20251111T093000
DTEND;TZID=Australia/Brisbane:20251111T120000
DTSTAMP:20260424T141511
CREATED:20250908T064630Z
LAST-MODIFIED:20250908T064630Z
UID:30563-1762853400-1762862400@nicolejohnston.com.au
SUMMARY:Sherwood | Sherwood Indoor Bowls
DESCRIPTION:A fun\, social sport suitable for seniors. Meet at the Sherwood Uniting Church Hall (access off Thallon St).\nTea & biscuits provided. First game is free. Contact Ann for more information.
URL:https://nicolejohnston.com.au/event/sherwood-sherwood-indoor-bowls/2025-11-11/
LOCATION:Sherwood Uniting Church Hall\, Cnr Sherwood Rd & Thallon St\, Sherwood\, Qld\, 4075\, Australia
CATEGORIES:Recurring
GEO:-27.5320991;152.9806216
X-APPLE-STRUCTURED-LOCATION;VALUE=URI;X-ADDRESS=Sherwood Uniting Church Hall Cnr Sherwood Rd & Thallon St Sherwood Qld 4075 Australia;X-APPLE-RADIUS=500;X-TITLE=Cnr Sherwood Rd & Thallon St:geo:152.9806216,-27.5320991
END:VEVENT
BEGIN:VEVENT
DTSTART;TZID=Australia/Brisbane:20251104T093000
DTEND;TZID=Australia/Brisbane:20251104T120000
DTSTAMP:20260424T141511
CREATED:20250908T064630Z
LAST-MODIFIED:20250908T064630Z
UID:30562-1762248600-1762257600@nicolejohnston.com.au
SUMMARY:Sherwood | Sherwood Indoor Bowls
DESCRIPTION:A fun\, social sport suitable for seniors. Meet at the Sherwood Uniting Church Hall (access off Thallon St).\nTea & biscuits provided. First game is free. Contact Ann for more information.
URL:https://nicolejohnston.com.au/event/sherwood-sherwood-indoor-bowls/2025-11-04/
LOCATION:Sherwood Uniting Church Hall\, Cnr Sherwood Rd & Thallon St\, Sherwood\, Qld\, 4075\, Australia
CATEGORIES:Recurring
GEO:-27.5320991;152.9806216
X-APPLE-STRUCTURED-LOCATION;VALUE=URI;X-ADDRESS=Sherwood Uniting Church Hall Cnr Sherwood Rd & Thallon St Sherwood Qld 4075 Australia;X-APPLE-RADIUS=500;X-TITLE=Cnr Sherwood Rd & Thallon St:geo:152.9806216,-27.5320991
END:VEVENT
BEGIN:VEVENT
DTSTART;TZID=Australia/Brisbane:20251028T093000
DTEND;TZID=Australia/Brisbane:20251028T120000
DTSTAMP:20260424T141511
CREATED:20250908T064630Z
LAST-MODIFIED:20250908T064630Z
UID:30561-1761643800-1761652800@nicolejohnston.com.au
SUMMARY:Sherwood | Sherwood Indoor Bowls
DESCRIPTION:A fun\, social sport suitable for seniors. Meet at the Sherwood Uniting Church Hall (access off Thallon St).\nTea & biscuits provided. First game is free. Contact Ann for more information.
URL:https://nicolejohnston.com.au/event/sherwood-sherwood-indoor-bowls/2025-10-28/
LOCATION:Sherwood Uniting Church Hall\, Cnr Sherwood Rd & Thallon St\, Sherwood\, Qld\, 4075\, Australia
CATEGORIES:Recurring
GEO:-27.5320991;152.9806216
X-APPLE-STRUCTURED-LOCATION;VALUE=URI;X-ADDRESS=Sherwood Uniting Church Hall Cnr Sherwood Rd & Thallon St Sherwood Qld 4075 Australia;X-APPLE-RADIUS=500;X-TITLE=Cnr Sherwood Rd & Thallon St:geo:152.9806216,-27.5320991
END:VEVENT
BEGIN:VEVENT
DTSTART;TZID=Australia/Brisbane:20251021T093000
DTEND;TZID=Australia/Brisbane:20251021T120000
DTSTAMP:20260424T141511
CREATED:20250908T064630Z
LAST-MODIFIED:20250908T064630Z
UID:30560-1761039000-1761048000@nicolejohnston.com.au
SUMMARY:Sherwood | Sherwood Indoor Bowls
DESCRIPTION:A fun\, social sport suitable for seniors. Meet at the Sherwood Uniting Church Hall (access off Thallon St).\nTea & biscuits provided. First game is free. Contact Ann for more information.
URL:https://nicolejohnston.com.au/event/sherwood-sherwood-indoor-bowls/2025-10-21/
LOCATION:Sherwood Uniting Church Hall\, Cnr Sherwood Rd & Thallon St\, Sherwood\, Qld\, 4075\, Australia
CATEGORIES:Recurring
GEO:-27.5320991;152.9806216
X-APPLE-STRUCTURED-LOCATION;VALUE=URI;X-ADDRESS=Sherwood Uniting Church Hall Cnr Sherwood Rd & Thallon St Sherwood Qld 4075 Australia;X-APPLE-RADIUS=500;X-TITLE=Cnr Sherwood Rd & Thallon St:geo:152.9806216,-27.5320991
END:VEVENT
BEGIN:VEVENT
DTSTART;TZID=Australia/Brisbane:20251014T093000
DTEND;TZID=Australia/Brisbane:20251014T120000
DTSTAMP:20260424T141511
CREATED:20250908T064630Z
LAST-MODIFIED:20250908T064630Z
UID:30559-1760434200-1760443200@nicolejohnston.com.au
SUMMARY:Sherwood | Sherwood Indoor Bowls
DESCRIPTION:A fun\, social sport suitable for seniors. Meet at the Sherwood Uniting Church Hall (access off Thallon St).\nTea & biscuits provided. First game is free. Contact Ann for more information.
URL:https://nicolejohnston.com.au/event/sherwood-sherwood-indoor-bowls/2025-10-14/
LOCATION:Sherwood Uniting Church Hall\, Cnr Sherwood Rd & Thallon St\, Sherwood\, Qld\, 4075\, Australia
CATEGORIES:Recurring
GEO:-27.5320991;152.9806216
X-APPLE-STRUCTURED-LOCATION;VALUE=URI;X-ADDRESS=Sherwood Uniting Church Hall Cnr Sherwood Rd & Thallon St Sherwood Qld 4075 Australia;X-APPLE-RADIUS=500;X-TITLE=Cnr Sherwood Rd & Thallon St:geo:152.9806216,-27.5320991
END:VEVENT
BEGIN:VEVENT
DTSTART;TZID=Australia/Brisbane:20251007T093000
DTEND;TZID=Australia/Brisbane:20251007T120000
DTSTAMP:20260424T141511
CREATED:20250908T064630Z
LAST-MODIFIED:20250908T064630Z
UID:30558-1759829400-1759838400@nicolejohnston.com.au
SUMMARY:Sherwood | Sherwood Indoor Bowls
DESCRIPTION:A fun\, social sport suitable for seniors. Meet at the Sherwood Uniting Church Hall (access off Thallon St).\nTea & biscuits provided. First game is free. Contact Ann for more information.
URL:https://nicolejohnston.com.au/event/sherwood-sherwood-indoor-bowls/2025-10-07/
LOCATION:Sherwood Uniting Church Hall\, Cnr Sherwood Rd & Thallon St\, Sherwood\, Qld\, 4075\, Australia
CATEGORIES:Recurring
GEO:-27.5320991;152.9806216
X-APPLE-STRUCTURED-LOCATION;VALUE=URI;X-ADDRESS=Sherwood Uniting Church Hall Cnr Sherwood Rd & Thallon St Sherwood Qld 4075 Australia;X-APPLE-RADIUS=500;X-TITLE=Cnr Sherwood Rd & Thallon St:geo:152.9806216,-27.5320991
END:VEVENT
BEGIN:VEVENT
DTSTART;TZID=Australia/Brisbane:20250930T093000
DTEND;TZID=Australia/Brisbane:20250930T120000
DTSTAMP:20260424T141511
CREATED:20250908T064630Z
LAST-MODIFIED:20250908T064630Z
UID:30557-1759224600-1759233600@nicolejohnston.com.au
SUMMARY:Sherwood | Sherwood Indoor Bowls
DESCRIPTION:A fun\, social sport suitable for seniors. Meet at the Sherwood Uniting Church Hall (access off Thallon St).\nTea & biscuits provided. First game is free. Contact Ann for more information.
URL:https://nicolejohnston.com.au/event/sherwood-sherwood-indoor-bowls/2025-09-30/
LOCATION:Sherwood Uniting Church Hall\, Cnr Sherwood Rd & Thallon St\, Sherwood\, Qld\, 4075\, Australia
CATEGORIES:Recurring
GEO:-27.5320991;152.9806216
X-APPLE-STRUCTURED-LOCATION;VALUE=URI;X-ADDRESS=Sherwood Uniting Church Hall Cnr Sherwood Rd & Thallon St Sherwood Qld 4075 Australia;X-APPLE-RADIUS=500;X-TITLE=Cnr Sherwood Rd & Thallon St:geo:152.9806216,-27.5320991
END:VEVENT
BEGIN:VEVENT
DTSTART;TZID=Australia/Brisbane:20250923T093000
DTEND;TZID=Australia/Brisbane:20250923T120000
DTSTAMP:20260424T141511
CREATED:20250908T064630Z
LAST-MODIFIED:20250908T064630Z
UID:30556-1758619800-1758628800@nicolejohnston.com.au
SUMMARY:Sherwood | Sherwood Indoor Bowls
DESCRIPTION:A fun\, social sport suitable for seniors. Meet at the Sherwood Uniting Church Hall (access off Thallon St).\nTea & biscuits provided. First game is free. Contact Ann for more information.
URL:https://nicolejohnston.com.au/event/sherwood-sherwood-indoor-bowls/2025-09-23/
LOCATION:Sherwood Uniting Church Hall\, Cnr Sherwood Rd & Thallon St\, Sherwood\, Qld\, 4075\, Australia
CATEGORIES:Recurring
GEO:-27.5320991;152.9806216
X-APPLE-STRUCTURED-LOCATION;VALUE=URI;X-ADDRESS=Sherwood Uniting Church Hall Cnr Sherwood Rd & Thallon St Sherwood Qld 4075 Australia;X-APPLE-RADIUS=500;X-TITLE=Cnr Sherwood Rd & Thallon St:geo:152.9806216,-27.5320991
END:VEVENT
BEGIN:VEVENT
DTSTART;TZID=Australia/Brisbane:20250916T093000
DTEND;TZID=Australia/Brisbane:20250916T120000
DTSTAMP:20260424T141511
CREATED:20250908T064630Z
LAST-MODIFIED:20250908T064630Z
UID:30555-1758015000-1758024000@nicolejohnston.com.au
SUMMARY:Sherwood | Sherwood Indoor Bowls
DESCRIPTION:A fun\, social sport suitable for seniors. Meet at the Sherwood Uniting Church Hall (access off Thallon St).\nTea & biscuits provided. First game is free. Contact Ann for more information.
URL:https://nicolejohnston.com.au/event/sherwood-sherwood-indoor-bowls/2025-09-16/
LOCATION:Sherwood Uniting Church Hall\, Cnr Sherwood Rd & Thallon St\, Sherwood\, Qld\, 4075\, Australia
CATEGORIES:Recurring
GEO:-27.5320991;152.9806216
X-APPLE-STRUCTURED-LOCATION;VALUE=URI;X-ADDRESS=Sherwood Uniting Church Hall Cnr Sherwood Rd & Thallon St Sherwood Qld 4075 Australia;X-APPLE-RADIUS=500;X-TITLE=Cnr Sherwood Rd & Thallon St:geo:152.9806216,-27.5320991
END:VEVENT
BEGIN:VEVENT
DTSTART;TZID=Australia/Brisbane:20250909T093000
DTEND;TZID=Australia/Brisbane:20250909T120000
DTSTAMP:20260424T141511
CREATED:20250908T064630Z
LAST-MODIFIED:20250908T064630Z
UID:30553-1757410200-1757419200@nicolejohnston.com.au
SUMMARY:Sherwood | Sherwood Indoor Bowls
DESCRIPTION:A fun\, social sport suitable for seniors. Meet at the Sherwood Uniting Church Hall (access off Thallon St).\nTea & biscuits provided. First game is free. Contact Ann for more information.
URL:https://nicolejohnston.com.au/event/sherwood-sherwood-indoor-bowls/2025-09-09/
LOCATION:Sherwood Uniting Church Hall\, Cnr Sherwood Rd & Thallon St\, Sherwood\, Qld\, 4075\, Australia
CATEGORIES:Recurring
GEO:-27.5320991;152.9806216
X-APPLE-STRUCTURED-LOCATION;VALUE=URI;X-ADDRESS=Sherwood Uniting Church Hall Cnr Sherwood Rd & Thallon St Sherwood Qld 4075 Australia;X-APPLE-RADIUS=500;X-TITLE=Cnr Sherwood Rd & Thallon St:geo:152.9806216,-27.5320991
END:VEVENT
END:VCALENDAR