BEGIN:VCALENDAR
VERSION:2.0
PRODID:-//Nicole Johnston - ECPv6.15.20//NONSGML v1.0//EN
CALSCALE:GREGORIAN
METHOD:PUBLISH
X-ORIGINAL-URL:https://nicolejohnston.com.au
X-WR-CALDESC:Events for Nicole Johnston
REFRESH-INTERVAL;VALUE=DURATION:PT1H
X-Robots-Tag:noindex
X-PUBLISHED-TTL:PT1H
BEGIN:VTIMEZONE
TZID:Australia/Brisbane
BEGIN:STANDARD
TZOFFSETFROM:+1000
TZOFFSETTO:+1000
TZNAME:AEST
DTSTART:20250101T000000
END:STANDARD
END:VTIMEZONE
BEGIN:VEVENT
DTSTART;TZID=Australia/Brisbane:20260429T140000
DTEND;TZID=Australia/Brisbane:20260429T150000
DTSTAMP:20260424T081118
CREATED:20260302T050603Z
LAST-MODIFIED:20260302T050603Z
UID:32196-1777471200-1777474800@nicolejohnston.com.au
SUMMARY:Sherwood | GOLD Belly Dance
DESCRIPTION:Enjoy gentle dance focused on fitness\, coordination\, flexibility\, relaxation and fun. Belly dance provides physical\, emotional and psychological benefits. Suitable for all levels. Bring a belly dance belt if you have one. \nThis is a GOLD event suitable for seniors. \nBookings essential. To book email Sherwood Neighbourhood Centre. For more information phone 07 3379 6963.
URL:https://nicolejohnston.com.au/event/sherwood-gold-belly-dance-31/
LOCATION:Sherwood Neighbourhood Centre\, 38 Thallon Street\, Sherwood\, Queensland\, 4075\, Australia
GEO:-27.53402;152.981098
X-APPLE-STRUCTURED-LOCATION;VALUE=URI;X-ADDRESS=Sherwood Neighbourhood Centre 38 Thallon Street Sherwood Queensland 4075 Australia;X-APPLE-RADIUS=500;X-TITLE=38 Thallon Street:geo:152.981098,-27.53402
END:VEVENT
BEGIN:VEVENT
DTSTART;TZID=Australia/Brisbane:20260506T140000
DTEND;TZID=Australia/Brisbane:20260506T150000
DTSTAMP:20260424T081118
CREATED:20260302T053440Z
LAST-MODIFIED:20260302T053440Z
UID:32218-1778076000-1778079600@nicolejohnston.com.au
SUMMARY:Sherwood | GOLD Belly Dance
DESCRIPTION:Enjoy gentle dance focused on fitness\, coordination\, flexibility\, relaxation and fun. Belly dance provides physical\, emotional and psychological benefits. Suitable for all levels. Bring a belly dance belt if you have one. \nThis is a GOLD event suitable for seniors. \nBookings essential. To book email Sherwood Neighbourhood Centre. For more information phone 07 3379 6963.
URL:https://nicolejohnston.com.au/event/sherwood-gold-belly-dance-32/
LOCATION:Sherwood Neighbourhood Centre\, 38 Thallon Street\, Sherwood\, Queensland\, 4075\, Australia
GEO:-27.53402;152.981098
X-APPLE-STRUCTURED-LOCATION;VALUE=URI;X-ADDRESS=Sherwood Neighbourhood Centre 38 Thallon Street Sherwood Queensland 4075 Australia;X-APPLE-RADIUS=500;X-TITLE=38 Thallon Street:geo:152.981098,-27.53402
END:VEVENT
BEGIN:VEVENT
DTSTART;TZID=Australia/Brisbane:20260511T100000
DTEND;TZID=Australia/Brisbane:20260511T110000
DTSTAMP:20260424T081118
CREATED:20260318T044313Z
LAST-MODIFIED:20260318T044313Z
UID:32434-1778493600-1778497200@nicolejohnston.com.au
SUMMARY:Sherwood | GOLD Bollywood Fitness
DESCRIPTION:Bollywood inspired dance fitness class suitable for all abilities\, where we laugh\, move and have fun with simple\, enjoyable dance steps together. \nThis is a GOLD event suitable for seniors. \nBookings essential. To book email Sherwood Neighbourhood Centre. For more information phone 07 3379 6963.
URL:https://nicolejohnston.com.au/event/sherwood-gold-bollywood-fitness-30/
LOCATION:Sherwood Neighbourhood Centre\, 38 Thallon Street\, Sherwood\, Queensland\, 4075\, Australia
GEO:-27.53402;152.981098
X-APPLE-STRUCTURED-LOCATION;VALUE=URI;X-ADDRESS=Sherwood Neighbourhood Centre 38 Thallon Street Sherwood Queensland 4075 Australia;X-APPLE-RADIUS=500;X-TITLE=38 Thallon Street:geo:152.981098,-27.53402
END:VEVENT
BEGIN:VEVENT
DTSTART;TZID=Australia/Brisbane:20260511T111500
DTEND;TZID=Australia/Brisbane:20260511T121500
DTSTAMP:20260424T081118
CREATED:20260318T044423Z
LAST-MODIFIED:20260318T044423Z
UID:32436-1778498100-1778501700@nicolejohnston.com.au
SUMMARY:Sherwood | GOLD Yoga
DESCRIPTION:A supportive class designed to promote active\, healthy aging while calming the mind and body. Enjoy a mix of stretching\, breathing\, strength\, and balance exercises\, incorporating both standing poses and mat work. This gentle session is tailored to meet participants needs\, with no prior experience required. \nThis is a GOLD event suitable for seniors. \nBookings essential. To book email Sherwood Neighbourhood Centre. For more information phone 07 3379 6963.
URL:https://nicolejohnston.com.au/event/sherwood-gold-yoga-32/
LOCATION:Sherwood Neighbourhood Centre\, 38 Thallon Street\, Sherwood\, Queensland\, 4075\, Australia
GEO:-27.53402;152.981098
X-APPLE-STRUCTURED-LOCATION;VALUE=URI;X-ADDRESS=Sherwood Neighbourhood Centre 38 Thallon Street Sherwood Queensland 4075 Australia;X-APPLE-RADIUS=500;X-TITLE=38 Thallon Street:geo:152.981098,-27.53402
END:VEVENT
BEGIN:VEVENT
DTSTART;TZID=Australia/Brisbane:20260513T140000
DTEND;TZID=Australia/Brisbane:20260513T150000
DTSTAMP:20260424T081118
CREATED:20260318T045250Z
LAST-MODIFIED:20260318T045250Z
UID:32442-1778680800-1778684400@nicolejohnston.com.au
SUMMARY:Sherwood | GOLD Belly Dance
DESCRIPTION:Enjoy gentle dance focused on fitness\, coordination\, flexibility\, relaxation and fun. Belly dance provides physical\, emotional and psychological benefits. Suitable for all levels. Bring a belly dance belt if you have one. \nThis is a GOLD event suitable for seniors. \nTo book email Sherwood Neighbourhood Centre. For more information phone 07 3379 6963.
URL:https://nicolejohnston.com.au/event/sherwood-gold-belly-dance-33/
LOCATION:Sherwood Neighbourhood Centre\, 38 Thallon Street\, Sherwood\, Queensland\, 4075\, Australia
GEO:-27.53402;152.981098
X-APPLE-STRUCTURED-LOCATION;VALUE=URI;X-ADDRESS=Sherwood Neighbourhood Centre 38 Thallon Street Sherwood Queensland 4075 Australia;X-APPLE-RADIUS=500;X-TITLE=38 Thallon Street:geo:152.981098,-27.53402
END:VEVENT
BEGIN:VEVENT
DTSTART;TZID=Australia/Brisbane:20260518T100000
DTEND;TZID=Australia/Brisbane:20260518T110000
DTSTAMP:20260424T081118
CREATED:20260319T012550Z
LAST-MODIFIED:20260319T012550Z
UID:32459-1779098400-1779102000@nicolejohnston.com.au
SUMMARY:Sherwood | GOLD Bollywood Fitness
DESCRIPTION:Bollywood inspired dance fitness class suitable for all abilities\, where we laugh\, move and have fun with simple\, enjoyable dance steps together. \nThis is a GOLD event suitable for seniors. \nBookings essential. To book email Sherwood Neighbourhood Centre. For more information phone 07 3379 6963.
URL:https://nicolejohnston.com.au/event/sherwood-gold-bollywood-fitness-31/
LOCATION:Sherwood Neighbourhood Centre\, 38 Thallon Street\, Sherwood\, Queensland\, 4075\, Australia
GEO:-27.53402;152.981098
X-APPLE-STRUCTURED-LOCATION;VALUE=URI;X-ADDRESS=Sherwood Neighbourhood Centre 38 Thallon Street Sherwood Queensland 4075 Australia;X-APPLE-RADIUS=500;X-TITLE=38 Thallon Street:geo:152.981098,-27.53402
END:VEVENT
BEGIN:VEVENT
DTSTART;TZID=Australia/Brisbane:20260518T111500
DTEND;TZID=Australia/Brisbane:20260518T121500
DTSTAMP:20260424T081118
CREATED:20260319T012658Z
LAST-MODIFIED:20260319T012658Z
UID:32461-1779102900-1779106500@nicolejohnston.com.au
SUMMARY:Sherwood | GOLD Yoga
DESCRIPTION:A supportive class designed to promote active\, healthy aging while calming the mind and body. Enjoy a mix of stretching\, breathing\, strength\, and balance exercises\, incorporating both standing poses and mat work. This gentle session is tailored to meet participants needs\, with no prior experience required. \nThis is a GOLD event suitable for seniors. \nBookings essential. To book email Sherwood Neighbourhood Centre. For more information phone 07 3379 6963.
URL:https://nicolejohnston.com.au/event/sherwood-gold-yoga-33/
LOCATION:Sherwood Neighbourhood Centre\, 38 Thallon Street\, Sherwood\, Queensland\, 4075\, Australia
GEO:-27.53402;152.981098
X-APPLE-STRUCTURED-LOCATION;VALUE=URI;X-ADDRESS=Sherwood Neighbourhood Centre 38 Thallon Street Sherwood Queensland 4075 Australia;X-APPLE-RADIUS=500;X-TITLE=38 Thallon Street:geo:152.981098,-27.53402
END:VEVENT
BEGIN:VEVENT
DTSTART;TZID=Australia/Brisbane:20260520T140000
DTEND;TZID=Australia/Brisbane:20260520T150000
DTSTAMP:20260424T081118
CREATED:20260319T012953Z
LAST-MODIFIED:20260319T012953Z
UID:32467-1779285600-1779289200@nicolejohnston.com.au
SUMMARY:Sherwood | GOLD Belly Dance
DESCRIPTION:Enjoy gentle dance focused on fitness\, coordination\, flexibility\, relaxation and fun. Belly dance provides physical\, emotional and psychological benefits. Suitable for all levels. Bring a belly dance belt if you have one. \nThis is a GOLD event suitable for seniors. \nBookings essential. To book email Sherwood Neighbourhood Centre. For more information phone 07 3379 6963.
URL:https://nicolejohnston.com.au/event/sherwood-gold-belly-dance-34/
LOCATION:Sherwood Neighbourhood Centre\, 38 Thallon Street\, Sherwood\, Queensland\, 4075\, Australia
GEO:-27.53402;152.981098
X-APPLE-STRUCTURED-LOCATION;VALUE=URI;X-ADDRESS=Sherwood Neighbourhood Centre 38 Thallon Street Sherwood Queensland 4075 Australia;X-APPLE-RADIUS=500;X-TITLE=38 Thallon Street:geo:152.981098,-27.53402
END:VEVENT
BEGIN:VEVENT
DTSTART;TZID=Australia/Brisbane:20260525T100000
DTEND;TZID=Australia/Brisbane:20260525T110000
DTSTAMP:20260424T081118
CREATED:20260319T015820Z
LAST-MODIFIED:20260319T015820Z
UID:32485-1779703200-1779706800@nicolejohnston.com.au
SUMMARY:Sherwood | GOLD Bollywood Fitness
DESCRIPTION:Bollywood inspired dance fitness class suitable for all abilities\, where we laugh\, move and have fun with simple\, enjoyable dance steps together. \nThis is a GOLD event suitable for seniors. \nBookings essential. To book email Sherwood Neighbourhood Centre. For more information phone 07 3379 6963.
URL:https://nicolejohnston.com.au/event/sherwood-gold-bollywood-fitness-32/
LOCATION:Sherwood Neighbourhood Centre\, 38 Thallon Street\, Sherwood\, Queensland\, 4075\, Australia
GEO:-27.53402;152.981098
X-APPLE-STRUCTURED-LOCATION;VALUE=URI;X-ADDRESS=Sherwood Neighbourhood Centre 38 Thallon Street Sherwood Queensland 4075 Australia;X-APPLE-RADIUS=500;X-TITLE=38 Thallon Street:geo:152.981098,-27.53402
END:VEVENT
BEGIN:VEVENT
DTSTART;TZID=Australia/Brisbane:20260527T140000
DTEND;TZID=Australia/Brisbane:20260527T150000
DTSTAMP:20260424T081118
CREATED:20260319T021256Z
LAST-MODIFIED:20260319T021256Z
UID:32493-1779890400-1779894000@nicolejohnston.com.au
SUMMARY:Sherwood | GOLD Belly Dance
DESCRIPTION:Enjoy gentle dance focused on fitness\, coordination\, flexibility\, relaxation and fun. Belly dance provides physical\, emotional and psychological benefits. Suitable for all levels. Bring a belly dance belt if you have one. \nThis is a GOLD event suitable for seniors. \nBookings essential. To book email Sherwood Neighbourhood Centre. For more information phone 07 3379 6963.
URL:https://nicolejohnston.com.au/event/sherwood-gold-belly-dance-35/
LOCATION:Sherwood Neighbourhood Centre\, 38 Thallon Street\, Sherwood\, Queensland\, 4075\, Australia
GEO:-27.53402;152.981098
X-APPLE-STRUCTURED-LOCATION;VALUE=URI;X-ADDRESS=Sherwood Neighbourhood Centre 38 Thallon Street Sherwood Queensland 4075 Australia;X-APPLE-RADIUS=500;X-TITLE=38 Thallon Street:geo:152.981098,-27.53402
END:VEVENT
BEGIN:VEVENT
DTSTART;TZID=Australia/Brisbane:20260601T100000
DTEND;TZID=Australia/Brisbane:20260601T110000
DTSTAMP:20260424T081118
CREATED:20260319T022615Z
LAST-MODIFIED:20260319T022615Z
UID:32513-1780308000-1780311600@nicolejohnston.com.au
SUMMARY:Sherwood | GOLD Bollywood Fitness
DESCRIPTION:Bollywood inspired dance fitness class suitable for all abilities\, where we laugh\, move and have fun with simple\, enjoyable dance steps together. \nThis is a GOLD event suitable for seniors. \nBookings essential. To book email Sherwood Neighbourhood Centre. For more information phone 07 3379 6963.
URL:https://nicolejohnston.com.au/event/sherwood-gold-bollywood-fitness-33/
LOCATION:Sherwood Neighbourhood Centre\, 38 Thallon Street\, Sherwood\, Queensland\, 4075\, Australia
GEO:-27.53402;152.981098
X-APPLE-STRUCTURED-LOCATION;VALUE=URI;X-ADDRESS=Sherwood Neighbourhood Centre 38 Thallon Street Sherwood Queensland 4075 Australia;X-APPLE-RADIUS=500;X-TITLE=38 Thallon Street:geo:152.981098,-27.53402
END:VEVENT
BEGIN:VEVENT
DTSTART;TZID=Australia/Brisbane:20260601T111500
DTEND;TZID=Australia/Brisbane:20260601T121500
DTSTAMP:20260424T081118
CREATED:20260319T023124Z
LAST-MODIFIED:20260319T023124Z
UID:32515-1780312500-1780316100@nicolejohnston.com.au
SUMMARY:Sherwood | GOLD Yoga
DESCRIPTION:A supportive class designed to promote active\, healthy aging while calming the mind and body. Enjoy a mix of stretching\, breathing\, strength\, and balance exercises\, incorporating both standing poses and mat work. This gentle session is tailored to meet participants needs\, with no prior experience required. \nThis is a GOLD event suitable for seniors. \nBookings essential. To book email Sherwood Neighbourhood Centre. For more information phone 07 3379 6963.
URL:https://nicolejohnston.com.au/event/sherwood-gold-yoga-35/
LOCATION:Sherwood Neighbourhood Centre\, 38 Thallon Street\, Sherwood\, Queensland\, 4075\, Australia
GEO:-27.53402;152.981098
X-APPLE-STRUCTURED-LOCATION;VALUE=URI;X-ADDRESS=Sherwood Neighbourhood Centre 38 Thallon Street Sherwood Queensland 4075 Australia;X-APPLE-RADIUS=500;X-TITLE=38 Thallon Street:geo:152.981098,-27.53402
END:VEVENT
BEGIN:VEVENT
DTSTART;TZID=Australia/Brisbane:20260603T140000
DTEND;TZID=Australia/Brisbane:20260603T150000
DTSTAMP:20260424T081118
CREATED:20260319T033332Z
LAST-MODIFIED:20260319T033332Z
UID:32519-1780495200-1780498800@nicolejohnston.com.au
SUMMARY:Sherwood | GOLD Belly Dance
DESCRIPTION:Enjoy gentle dance focused on fitness\, coordination\, flexibility\, relaxation and fun. Belly dance provides physical\, emotional and psychological benefits. Suitable for all levels. Bring a belly dance belt if you have one. \nThis is a GOLD event suitable for seniors. \nBookings essential. To book email Sherwood Neighbourhood Centre. For more information phone 07 3379 6963.
URL:https://nicolejohnston.com.au/event/sherwood-gold-belly-dance-36/
LOCATION:Sherwood Neighbourhood Centre\, 38 Thallon Street\, Sherwood\, Queensland\, 4075\, Australia
GEO:-27.53402;152.981098
X-APPLE-STRUCTURED-LOCATION;VALUE=URI;X-ADDRESS=Sherwood Neighbourhood Centre 38 Thallon Street Sherwood Queensland 4075 Australia;X-APPLE-RADIUS=500;X-TITLE=38 Thallon Street:geo:152.981098,-27.53402
END:VEVENT
END:VCALENDAR