BEGIN:VCALENDAR
VERSION:2.0
PRODID:-//Nicole Johnston - ECPv6.15.20//NONSGML v1.0//EN
CALSCALE:GREGORIAN
METHOD:PUBLISH
X-WR-CALNAME:Nicole Johnston
X-ORIGINAL-URL:https://nicolejohnston.com.au
X-WR-CALDESC:Events for Nicole Johnston
REFRESH-INTERVAL;VALUE=DURATION:PT1H
X-Robots-Tag:noindex
X-PUBLISHED-TTL:PT1H
BEGIN:VTIMEZONE
TZID:Australia/Brisbane
BEGIN:STANDARD
TZOFFSETFROM:+1000
TZOFFSETTO:+1000
TZNAME:AEST
DTSTART:20140101T000000
END:STANDARD
END:VTIMEZONE
BEGIN:VEVENT
DTSTART;TZID=Australia/Brisbane:20151008T123000
DTEND;TZID=Australia/Brisbane:20151008T143000
DTSTAMP:20260425T112510
CREATED:20150911T103512Z
LAST-MODIFIED:20150911T104207Z
UID:4089-1444307400-1444314600@nicolejohnston.com.au
SUMMARY:Sherwood Cooking Classes
DESCRIPTION:Book now to attend affordable\, simple\, nutritious cooking classes as Sherwood Neighbourhood Centre. \n$5.00 per session which includes ingredients.
URL:https://nicolejohnston.com.au/event/sherwood-cooking-classes/
LOCATION:Sherwood Neighbourhood Centre\, 38 Thallon Street\, Sherwood\, Queensland\, 4075\, Australia
GEO:-27.53402;152.981098
X-APPLE-STRUCTURED-LOCATION;VALUE=URI;X-ADDRESS=Sherwood Neighbourhood Centre 38 Thallon Street Sherwood Queensland 4075 Australia;X-APPLE-RADIUS=500;X-TITLE=38 Thallon Street:geo:152.981098,-27.53402
END:VEVENT
BEGIN:VEVENT
DTSTART;TZID=Australia/Brisbane:20151007T133000
DTEND;TZID=Australia/Brisbane:20151007T153000
DTSTAMP:20260425T112510
CREATED:20150915T095211Z
LAST-MODIFIED:20150915T095211Z
UID:4268-1444224600-1444231800@nicolejohnston.com.au
SUMMARY:Mental Health Workshop - Sherwood
DESCRIPTION:Mental Health Week is an opportunity to promote awareness about mental health and well-being. \nRSVP by 2 October 2015.
URL:https://nicolejohnston.com.au/event/mental-health-workshop-sherwood/2015-10-07/
LOCATION:Sherwood Neighbourhood Centre\, 38 Thallon Street\, Sherwood\, Queensland\, 4075\, Australia
GEO:-27.53402;152.981098
X-APPLE-STRUCTURED-LOCATION;VALUE=URI;X-ADDRESS=Sherwood Neighbourhood Centre 38 Thallon Street Sherwood Queensland 4075 Australia;X-APPLE-RADIUS=500;X-TITLE=38 Thallon Street:geo:152.981098,-27.53402
END:VEVENT
BEGIN:VEVENT
DTSTART;TZID=Australia/Brisbane:20151007T120000
DTEND;TZID=Australia/Brisbane:20151007T160000
DTSTAMP:20260425T112510
CREATED:20150911T103247Z
LAST-MODIFIED:20150911T103247Z
UID:4088-1444219200-1444233600@nicolejohnston.com.au
SUMMARY:Celebrate Mental Health Week
DESCRIPTION:Celebrate Mental Health Week (4-10 October) at the Sherwood Neighbourhood Centre with an open afternoon. \nRSVP by 5 October – 07 3379 6963
URL:https://nicolejohnston.com.au/event/celebrate-mental-health-week/
LOCATION:Sherwood Neighbourhood Centre\, 38 Thallon Street\, Sherwood\, Queensland\, 4075\, Australia
GEO:-27.53402;152.981098
X-APPLE-STRUCTURED-LOCATION;VALUE=URI;X-ADDRESS=Sherwood Neighbourhood Centre 38 Thallon Street Sherwood Queensland 4075 Australia;X-APPLE-RADIUS=500;X-TITLE=38 Thallon Street:geo:152.981098,-27.53402
END:VEVENT
BEGIN:VEVENT
DTSTART;TZID=Australia/Brisbane:20150824T100000
DTEND;TZID=Australia/Brisbane:20150824T120000
DTSTAMP:20260425T112510
CREATED:20150702T024917Z
LAST-MODIFIED:20150702T024917Z
UID:3440-1440410400-1440417600@nicolejohnston.com.au
SUMMARY:50+ - Brain Fitness
DESCRIPTION:Bringing together the latest information on the brain and neuroplasticity with Brain Gym to explore ways to enhance mental fitness as we age.  Enjoy activating your brain through movement\, improving your focus\, concentration and mental clarity. \n*Please bring water to both sessions. \n*Bookings required and participants must attend BOTH sessions.
URL:https://nicolejohnston.com.au/event/50-brain-fitness/2015-08-24/
LOCATION:Sherwood Neighbourhood Centre\, 38 Thallon Street\, Sherwood\, Queensland\, 4075\, Australia
GEO:-27.53402;152.981098
X-APPLE-STRUCTURED-LOCATION;VALUE=URI;X-ADDRESS=Sherwood Neighbourhood Centre 38 Thallon Street Sherwood Queensland 4075 Australia;X-APPLE-RADIUS=500;X-TITLE=38 Thallon Street:geo:152.981098,-27.53402
END:VEVENT
BEGIN:VEVENT
DTSTART;TZID=Australia/Brisbane:20150810T100000
DTEND;TZID=Australia/Brisbane:20150810T123000
DTSTAMP:20260425T112510
CREATED:20150702T025323Z
LAST-MODIFIED:20150702T025323Z
UID:3443-1439200800-1439209800@nicolejohnston.com.au
SUMMARY:50+ - Ceramic Bowls & Plates
DESCRIPTION:In week 1 use formers to create bowls and plates and use coils to decorate objects.  In week 2\, glaze and finish your product to take home. \n*Bookings essential – participants must attend BOTH sessions. \n*All materials and equipment provided\, however please wear old clothes.
URL:https://nicolejohnston.com.au/event/50-ceramic-bowls-plates/2015-08-10/
LOCATION:Sherwood Neighbourhood Centre\, 38 Thallon Street\, Sherwood\, Queensland\, 4075\, Australia
GEO:-27.53402;152.981098
X-APPLE-STRUCTURED-LOCATION;VALUE=URI;X-ADDRESS=Sherwood Neighbourhood Centre 38 Thallon Street Sherwood Queensland 4075 Australia;X-APPLE-RADIUS=500;X-TITLE=38 Thallon Street:geo:152.981098,-27.53402
END:VEVENT
BEGIN:VEVENT
DTSTART;TZID=Australia/Brisbane:20150803T093000
DTEND;TZID=Australia/Brisbane:20150803T130000
DTSTAMP:20260425T112510
CREATED:20150702T025055Z
LAST-MODIFIED:20150702T025055Z
UID:3442-1438594200-1438606800@nicolejohnston.com.au
SUMMARY:50+ - Floral Acrylic Painting
DESCRIPTION:Follow clear instructions to create a modern floral painting in gorgeous easy to use acrylic colours.  A canvas ready to hang will be completed during this programme for you to take home. \n*Bookings essential – please wear old clothes or bring a cover up.
URL:https://nicolejohnston.com.au/event/50-floral-acrylic-painting/
LOCATION:Sherwood Neighbourhood Centre\, 38 Thallon Street\, Sherwood\, Queensland\, 4075\, Australia
GEO:-27.53402;152.981098
X-APPLE-STRUCTURED-LOCATION;VALUE=URI;X-ADDRESS=Sherwood Neighbourhood Centre 38 Thallon Street Sherwood Queensland 4075 Australia;X-APPLE-RADIUS=500;X-TITLE=38 Thallon Street:geo:152.981098,-27.53402
END:VEVENT
BEGIN:VEVENT
DTSTART;TZID=Australia/Brisbane:20150528T100000
DTEND;TZID=Australia/Brisbane:20150528T140000
DTSTAMP:20260425T112510
CREATED:20150511T115243Z
LAST-MODIFIED:20150511T115243Z
UID:2745-1432807200-1432821600@nicolejohnston.com.au
SUMMARY:Sherwood Community Centre Day
DESCRIPTION:All local residents\, businesses and organisations welcome. \nFree Sausage Sizzle \nDisplays & information from Government and Non-Government Agencies \nGroup Displays from Mudlarks Pottery & Western Suburbs Clayworks \nRaffle Prizes
URL:https://nicolejohnston.com.au/event/sherwood-community-centre-day/
LOCATION:Sherwood Neighbourhood Centre\, 38 Thallon Street\, Sherwood\, Queensland\, 4075\, Australia
GEO:-27.53402;152.981098
X-APPLE-STRUCTURED-LOCATION;VALUE=URI;X-ADDRESS=Sherwood Neighbourhood Centre 38 Thallon Street Sherwood Queensland 4075 Australia;X-APPLE-RADIUS=500;X-TITLE=38 Thallon Street:geo:152.981098,-27.53402
END:VEVENT
END:VCALENDAR