BEGIN:VCALENDAR
VERSION:2.0
PRODID:-//Nicole Johnston - ECPv6.15.20//NONSGML v1.0//EN
CALSCALE:GREGORIAN
METHOD:PUBLISH
X-ORIGINAL-URL:https://nicolejohnston.com.au
X-WR-CALDESC:Events for Nicole Johnston
REFRESH-INTERVAL;VALUE=DURATION:PT1H
X-Robots-Tag:noindex
X-PUBLISHED-TTL:PT1H
BEGIN:VTIMEZONE
TZID:Australia/Brisbane
BEGIN:STANDARD
TZOFFSETFROM:+1000
TZOFFSETTO:+1000
TZNAME:AEST
DTSTART:20200101T000000
END:STANDARD
END:VTIMEZONE
BEGIN:VEVENT
DTSTART;TZID=Australia/Brisbane:20211001T093000
DTEND;TZID=Australia/Brisbane:20211001T120000
DTSTAMP:20260424T174034
CREATED:20210924T062919Z
LAST-MODIFIED:20210924T062919Z
UID:24932-1633080600-1633089600@nicolejohnston.com.au
SUMMARY:Chelmer | Probus Day 2021
DESCRIPTION:Join the Brisbane Metro West Probus Clubs for a morning of fun\, friendship and fellowship to celebrate Probus Day 2021. Enjoy morning tea\, entertainment\, trivia and lucky draws.
URL:https://nicolejohnston.com.au/event/chelmer-probus-day-2021/
LOCATION:Sherwood AFL Club\, 42 Chelmer St East\, Chelmer\, Qld\, 4068\, Australia
GEO:-27.514755;152.974801
X-APPLE-STRUCTURED-LOCATION;VALUE=URI;X-ADDRESS=Sherwood AFL Club 42 Chelmer St East Chelmer Qld 4068 Australia;X-APPLE-RADIUS=500;X-TITLE=42 Chelmer St East:geo:152.974801,-27.514755
END:VEVENT
END:VCALENDAR