BEGIN:VCALENDAR
VERSION:2.0
PRODID:-//Nicole Johnston - ECPv6.15.20//NONSGML v1.0//EN
CALSCALE:GREGORIAN
METHOD:PUBLISH
X-WR-CALNAME:Nicole Johnston
X-ORIGINAL-URL:https://nicolejohnston.com.au
X-WR-CALDESC:Events for Nicole Johnston
REFRESH-INTERVAL;VALUE=DURATION:PT1H
X-Robots-Tag:noindex
X-PUBLISHED-TTL:PT1H
BEGIN:VTIMEZONE
TZID:Australia/Brisbane
BEGIN:STANDARD
TZOFFSETFROM:+1000
TZOFFSETTO:+1000
TZNAME:AEST
DTSTART:20230101T000000
END:STANDARD
END:VTIMEZONE
BEGIN:VEVENT
DTSTART;TZID=Australia/Brisbane:20260407T130000
DTEND;TZID=Australia/Brisbane:20260407T150000
DTSTAMP:20260424T080000
CREATED:20260318T011934Z
LAST-MODIFIED:20260318T011934Z
UID:32258-1775566800-1775574000@nicolejohnston.com.au
SUMMARY:Fairfield Library | Southside Community Craft Circle
DESCRIPTION:This is a craft group that makes items to support the disadvantaged in the community.
URL:https://nicolejohnston.com.au/event/fairfield-library-southside-community-craft-circle-16/
LOCATION:Fairfield Library\, Fairfield Gardens\, 180 Fairfield Rd\, Fairfield\, Queensland\, 4103\, Australia
GEO:-27.508752;153.025501
X-APPLE-STRUCTURED-LOCATION;VALUE=URI;X-ADDRESS=Fairfield Library Fairfield Gardens 180 Fairfield Rd Fairfield Queensland 4103 Australia;X-APPLE-RADIUS=500;X-TITLE=Fairfield Gardens\, 180 Fairfield Rd:geo:153.025501,-27.508752
END:VEVENT
BEGIN:VEVENT
DTSTART;TZID=Australia/Brisbane:20250401T130000
DTEND;TZID=Australia/Brisbane:20250401T150000
DTSTAMP:20260424T080000
CREATED:20250317T062350Z
LAST-MODIFIED:20250317T062350Z
UID:29336-1743512400-1743519600@nicolejohnston.com.au
SUMMARY:Fairfield Library | Southside Community Craft Circle
DESCRIPTION:This is a craft group that makes items to support the disadvantaged in the community. Please call Elinor on 0481 754 999 for more information.
URL:https://nicolejohnston.com.au/event/fairfield-library-southside-community-craft-circle-7/
LOCATION:Fairfield Library\, Fairfield Gardens\, 180 Fairfield Rd\, Fairfield\, Queensland\, 4103\, Australia
GEO:-27.508752;153.025501
X-APPLE-STRUCTURED-LOCATION;VALUE=URI;X-ADDRESS=Fairfield Library Fairfield Gardens 180 Fairfield Rd Fairfield Queensland 4103 Australia;X-APPLE-RADIUS=500;X-TITLE=Fairfield Gardens\, 180 Fairfield Rd:geo:153.025501,-27.508752
END:VEVENT
BEGIN:VEVENT
DTSTART;TZID=Australia/Brisbane:20250304T130000
DTEND;TZID=Australia/Brisbane:20250304T160000
DTSTAMP:20260424T080000
CREATED:20250108T022817Z
LAST-MODIFIED:20250108T022817Z
UID:28964-1741093200-1741104000@nicolejohnston.com.au
SUMMARY:Fairfield Library | Southside Community Craft Circle
DESCRIPTION:This is a craft group that makes items to support the disadvantaged in the community. Please call Elinor on 0481 754 999 for more information.
URL:https://nicolejohnston.com.au/event/fairfield-library-southside-community-craft-circle-6/
LOCATION:Fairfield Library\, Fairfield Gardens\, 180 Fairfield Rd\, Fairfield\, Queensland\, 4103\, Australia
GEO:-27.508752;153.025501
X-APPLE-STRUCTURED-LOCATION;VALUE=URI;X-ADDRESS=Fairfield Library Fairfield Gardens 180 Fairfield Rd Fairfield Queensland 4103 Australia;X-APPLE-RADIUS=500;X-TITLE=Fairfield Gardens\, 180 Fairfield Rd:geo:153.025501,-27.508752
END:VEVENT
BEGIN:VEVENT
DTSTART;TZID=Australia/Brisbane:20250107T130000
DTEND;TZID=Australia/Brisbane:20250107T150000
DTSTAMP:20260424T080000
CREATED:20241212T000003Z
LAST-MODIFIED:20241212T000003Z
UID:28674-1736254800-1736262000@nicolejohnston.com.au
SUMMARY:Fairfield Library | Southside Community Craft Circle
DESCRIPTION:This is a craft group that makes items to support the disadvantaged in the community. Please call Elinor on 0481 754 999 for more information.
URL:https://nicolejohnston.com.au/event/fairfield-library-southside-community-craft-circle-4/
LOCATION:Fairfield Library\, Fairfield Gardens\, 180 Fairfield Rd\, Fairfield\, Queensland\, 4103\, Australia
GEO:-27.508752;153.025501
X-APPLE-STRUCTURED-LOCATION;VALUE=URI;X-ADDRESS=Fairfield Library Fairfield Gardens 180 Fairfield Rd Fairfield Queensland 4103 Australia;X-APPLE-RADIUS=500;X-TITLE=Fairfield Gardens\, 180 Fairfield Rd:geo:153.025501,-27.508752
END:VEVENT
BEGIN:VEVENT
DTSTART;TZID=Australia/Brisbane:20241105T130000
DTEND;TZID=Australia/Brisbane:20241105T150000
DTSTAMP:20260424T080000
CREATED:20241016T021455Z
LAST-MODIFIED:20241016T021455Z
UID:28293-1730811600-1730818800@nicolejohnston.com.au
SUMMARY:Fairfield Library | Southside Community Craft Circle
DESCRIPTION:This is a craft group that makes items to support the disadvantaged in the community. Please call Elinor on 0481 754 999 for more information.
URL:https://nicolejohnston.com.au/event/fairfield-library-southside-community-craft-circle-3/
LOCATION:Fairfield Library\, Fairfield Gardens\, 180 Fairfield Rd\, Fairfield\, Queensland\, 4103\, Australia
GEO:-27.508752;153.025501
X-APPLE-STRUCTURED-LOCATION;VALUE=URI;X-ADDRESS=Fairfield Library Fairfield Gardens 180 Fairfield Rd Fairfield Queensland 4103 Australia;X-APPLE-RADIUS=500;X-TITLE=Fairfield Gardens\, 180 Fairfield Rd:geo:153.025501,-27.508752
END:VEVENT
BEGIN:VEVENT
DTSTART;TZID=Australia/Brisbane:20240702T130000
DTEND;TZID=Australia/Brisbane:20240702T140000
DTSTAMP:20260424T080000
CREATED:20240619T062911Z
LAST-MODIFIED:20240619T062922Z
UID:27395-1719925200-1719928800@nicolejohnston.com.au
SUMMARY:Fairfield Library | Southside Community Craft Circle
DESCRIPTION:This is a craft group that makes items to support the disadvantaged in the community.
URL:https://nicolejohnston.com.au/event/fairfield-library-southside-community-craft-circle/2024-07-02/
LOCATION:Fairfield Library\, Fairfield Gardens\, 180 Fairfield Rd\, Fairfield\, Queensland\, 4103\, Australia
GEO:-27.508752;153.025501
X-APPLE-STRUCTURED-LOCATION;VALUE=URI;X-ADDRESS=Fairfield Library Fairfield Gardens 180 Fairfield Rd Fairfield Queensland 4103 Australia;X-APPLE-RADIUS=500;X-TITLE=Fairfield Gardens\, 180 Fairfield Rd:geo:153.025501,-27.508752
END:VEVENT
END:VCALENDAR