BEGIN:VCALENDAR
VERSION:2.0
PRODID:-//Nicole Johnston - ECPv6.15.20//NONSGML v1.0//EN
CALSCALE:GREGORIAN
METHOD:PUBLISH
X-WR-CALNAME:Nicole Johnston
X-ORIGINAL-URL:https://nicolejohnston.com.au
X-WR-CALDESC:Events for Nicole Johnston
REFRESH-INTERVAL;VALUE=DURATION:PT1H
X-Robots-Tag:noindex
X-PUBLISHED-TTL:PT1H
BEGIN:VTIMEZONE
TZID:Australia/Brisbane
BEGIN:STANDARD
TZOFFSETFROM:+1000
TZOFFSETTO:+1000
TZNAME:AEST
DTSTART:20210101T000000
END:STANDARD
END:VTIMEZONE
BEGIN:VEVENT
DTSTART;TZID=Australia/Brisbane:20240721T090000
DTEND;TZID=Australia/Brisbane:20240721T150000
DTSTAMP:20260424T173946
CREATED:20240702T235719Z
LAST-MODIFIED:20240702T235721Z
UID:27531-1721552400-1721574000@nicolejohnston.com.au
SUMMARY:Corinda | St Joseph's School Fete
DESCRIPTION:Tasty treats\, fun games\, entertainment\, prizes\, rides\, stalls and more.
URL:https://nicolejohnston.com.au/event/corinda-st-josephs-school-fete/
LOCATION:St Joseph’s Primary School\, 28 Clewley Street\, Corinda\, Qld\, 4075\, Australia
CATEGORIES:Community Event
ATTACH;FMTTYPE=image/png:https://nicolejohnston.com.au/wp-content/uploads/2024/07/2024-St-Josephs-Fete-Flyer.png
GEO:-27.537952;152.9835939
X-APPLE-STRUCTURED-LOCATION;VALUE=URI;X-ADDRESS=St Joseph’s Primary School 28 Clewley Street Corinda Qld 4075 Australia;X-APPLE-RADIUS=500;X-TITLE=28 Clewley Street:geo:152.9835939,-27.537952
END:VEVENT
BEGIN:VEVENT
DTSTART;TZID=Australia/Brisbane:20230730T090000
DTEND;TZID=Australia/Brisbane:20230730T150000
DTSTAMP:20260424T173946
CREATED:20230712T233319Z
LAST-MODIFIED:20230713T031203Z
UID:26653-1690707600-1690729200@nicolejohnston.com.au
SUMMARY:Corinda | St Joey's Fete
DESCRIPTION:A fun-filled day of excitement\, laughter\, and community spirit at the St. Joey’s School Fete on Sunday July 30! We invite all students\, parents\, friends\, and community to join us for a fantastic day of festivities.\n\n Rides and Sideshow alley: Thrill-seekers of all ages will have a blast on our exciting rides and games\n Raffle and Hampers: Don’t miss your chance to win incredible prizes in our raffle and hampers stall. From gift baskets to exciting experiences\, there’s something for everyone.\n Live Performances: Get ready to be entertained by our talented students\, who will showcase their singing\, dancing\, and instrumental skills. Enjoy a variety of performances throughout the day.\n Food and Refreshments: Refuel and recharge at our food stalls\, offering a delicious selection of mouth-watering treats\, snacks\, and refreshing beverages\, including a bar for the parents.
URL:https://nicolejohnston.com.au/event/corinda-st-joeys-fete/
LOCATION:St Joseph’s Primary School\, 28 Clewley Street\, Corinda\, Qld\, 4075\, Australia
CATEGORIES:Community Event
ATTACH;FMTTYPE=image/png:https://nicolejohnston.com.au/wp-content/uploads/2023/07/St-Joeys-Fete.png
GEO:-27.537952;152.9835939
X-APPLE-STRUCTURED-LOCATION;VALUE=URI;X-ADDRESS=St Joseph’s Primary School 28 Clewley Street Corinda Qld 4075 Australia;X-APPLE-RADIUS=500;X-TITLE=28 Clewley Street:geo:152.9835939,-27.537952
END:VEVENT
BEGIN:VEVENT
DTSTART;TZID=Australia/Brisbane:20220731T100000
DTEND;TZID=Australia/Brisbane:20220731T160000
DTSTAMP:20260424T173946
CREATED:20220613T065718Z
LAST-MODIFIED:20220613T065719Z
UID:25578-1659261600-1659283200@nicolejohnston.com.au
SUMMARY:Corinda | St Joey's Corinda Fete
DESCRIPTION:
URL:https://nicolejohnston.com.au/event/corinda-st-joeys-corinda-fete/
LOCATION:St Joseph’s Primary School\, 28 Clewley Street\, Corinda\, Qld\, 4075\, Australia
CATEGORIES:Community Event
ATTACH;FMTTYPE=image/jpeg:https://nicolejohnston.com.au/wp-content/uploads/2022/06/Joeys-Fete.jpg
GEO:-27.537952;152.9835939
X-APPLE-STRUCTURED-LOCATION;VALUE=URI;X-ADDRESS=St Joseph’s Primary School 28 Clewley Street Corinda Qld 4075 Australia;X-APPLE-RADIUS=500;X-TITLE=28 Clewley Street:geo:152.9835939,-27.537952
END:VEVENT
END:VCALENDAR