BEGIN:VCALENDAR
VERSION:2.0
PRODID:-//Nicole Johnston - ECPv6.15.20//NONSGML v1.0//EN
CALSCALE:GREGORIAN
METHOD:PUBLISH
X-WR-CALNAME:Nicole Johnston
X-ORIGINAL-URL:https://nicolejohnston.com.au
X-WR-CALDESC:Events for Nicole Johnston
REFRESH-INTERVAL;VALUE=DURATION:PT1H
X-Robots-Tag:noindex
X-PUBLISHED-TTL:PT1H
BEGIN:VTIMEZONE
TZID:Australia/Brisbane
BEGIN:STANDARD
TZOFFSETFROM:+1000
TZOFFSETTO:+1000
TZNAME:AEST
DTSTART:20230101T000000
END:STANDARD
END:VTIMEZONE
BEGIN:VEVENT
DTSTART;TZID=Australia/Brisbane:20260315T143000
DTEND;TZID=Australia/Brisbane:20260315T160000
DTSTAMP:20260424T083846
CREATED:20260302T034856Z
LAST-MODIFIED:20260302T034858Z
UID:32159-1773585000-1773590400@nicolejohnston.com.au
SUMMARY:Sherwood | Brisbane Festival Male Voice Choir
DESCRIPTION:Free entry. All Welcome.
URL:https://nicolejohnston.com.au/event/sherwood-brisbane-festival-male-voice-choir/
LOCATION:St Matthew’s Anglican Church Sherwood\, 648-650 Sherwood Rd\, Sherwood\, Qld\, 4075\, Australia
CATEGORIES:Community Event
END:VEVENT
BEGIN:VEVENT
DTSTART;TZID=Australia/Brisbane:20241206T163000
DTEND;TZID=Australia/Brisbane:20241206T210000
DTSTAMP:20260424T083846
CREATED:20241028T033636Z
LAST-MODIFIED:20241205T044539Z
UID:28377-1733502600-1733518800@nicolejohnston.com.au
SUMMARY:Sherwood | St Matthew's Christmas Twilight Market
DESCRIPTION:
URL:https://nicolejohnston.com.au/event/sherwood-st-matthews-christmas-twilight-market/
LOCATION:St Matthew’s Anglican Church Sherwood\, 648-650 Sherwood Rd\, Sherwood\, Qld\, 4075\, Australia
CATEGORIES:Community Event
ATTACH;FMTTYPE=image/png:https://nicolejohnston.com.au/wp-content/uploads/2024/10/St-Matthews-Sherwood-Christmas-Market.png
END:VEVENT
BEGIN:VEVENT
DTSTART;TZID=Australia/Brisbane:20240615T080000
DTEND;TZID=Australia/Brisbane:20240615T140000
DTSTAMP:20260424T083846
CREATED:20240527T004845Z
LAST-MODIFIED:20240527T004847Z
UID:27245-1718438400-1718460000@nicolejohnston.com.au
SUMMARY:Sherwood | St Matthew's Fete
DESCRIPTION:
URL:https://nicolejohnston.com.au/event/sherwood-st-matthews-fete/
LOCATION:St Matthew’s Anglican Church Sherwood\, 648-650 Sherwood Rd\, Sherwood\, Qld\, 4075\, Australia
CATEGORIES:Community Event
ATTACH;FMTTYPE=image/jpeg:https://nicolejohnston.com.au/wp-content/uploads/2024/05/St-Matthews-Fete.jpg
END:VEVENT
END:VCALENDAR