BEGIN:VCALENDAR
VERSION:2.0
PRODID:-//Nicole Johnston - ECPv6.15.20//NONSGML v1.0//EN
CALSCALE:GREGORIAN
METHOD:PUBLISH
X-ORIGINAL-URL:https://nicolejohnston.com.au
X-WR-CALDESC:Events for Nicole Johnston
REFRESH-INTERVAL;VALUE=DURATION:PT1H
X-Robots-Tag:noindex
X-PUBLISHED-TTL:PT1H
BEGIN:VTIMEZONE
TZID:Australia/Brisbane
BEGIN:STANDARD
TZOFFSETFROM:+1000
TZOFFSETTO:+1000
TZNAME:AEST
DTSTART:20140101T000000
END:STANDARD
END:VTIMEZONE
BEGIN:VEVENT
DTSTART;TZID=Australia/Brisbane:20250425T070000
DTEND;TZID=Australia/Brisbane:20250425T083000
DTSTAMP:20260424T062101
CREATED:20250408T032805Z
LAST-MODIFIED:20250408T032806Z
UID:29568-1745564400-1745569800@nicolejohnston.com.au
SUMMARY:Yeronga | Stephens RSL Sub Branch 2025 ANZAC Day Service
DESCRIPTION:The Stephens RSL Sub Branch ANZAC Day Parade will step off at 7:00am from outside the Yeronga State School. The Parade will travel along Park Road\, turn right through the Yeronga Memorial Park gates into Honour Avenue and proceed to the WW1 Cenotaph. ANZAC Day Service to follow.
URL:https://nicolejohnston.com.au/event/yeronga-stephens-rsl-sub-branch-2025-anzac-day-service/
LOCATION:Yeronga Memorial Park\, School Road\, Yeronga\, Queensland\, 4104\, Australia
CATEGORIES:Community Event
ATTACH;FMTTYPE=image/jpeg:https://nicolejohnston.com.au/wp-content/uploads/2025/04/ANZAC-Day-2025.jpg
GEO:-27.5212612;153.0201362
X-APPLE-STRUCTURED-LOCATION;VALUE=URI;X-ADDRESS=Yeronga Memorial Park School Road Yeronga Queensland 4104 Australia;X-APPLE-RADIUS=500;X-TITLE=School Road:geo:153.0201362,-27.5212612
END:VEVENT
BEGIN:VEVENT
DTSTART;TZID=Australia/Brisbane:20241111T103000
DTEND;TZID=Australia/Brisbane:20241111T113000
DTSTAMP:20260424T062101
CREATED:20241107T032512Z
LAST-MODIFIED:20241107T032514Z
UID:28399-1731321000-1731324600@nicolejohnston.com.au
SUMMARY:Yeronga | Stephens Sub Branch Inc. Remembrance Day Memorial Service
DESCRIPTION:Service commences at 10:30 am. Yeronga Memorial Park\, Ipswich Road Yeronga. All welcome.
URL:https://nicolejohnston.com.au/event/yeronga-stephens-sub-branch-inc-remembrance-day-memorial-service-2/
LOCATION:Yeronga Memorial Park\, School Road\, Yeronga\, Queensland\, 4104\, Australia
CATEGORIES:Community Event
ATTACH;FMTTYPE=image/png:https://nicolejohnston.com.au/wp-content/uploads/2024/11/Remembrance-Day-2024.png
GEO:-27.5212612;153.0201362
X-APPLE-STRUCTURED-LOCATION;VALUE=URI;X-ADDRESS=Yeronga Memorial Park School Road Yeronga Queensland 4104 Australia;X-APPLE-RADIUS=500;X-TITLE=School Road:geo:153.0201362,-27.5212612
END:VEVENT
BEGIN:VEVENT
DTSTART;TZID=Australia/Brisbane:20240425T073000
DTEND;TZID=Australia/Brisbane:20240425T080000
DTSTAMP:20260424T062101
CREATED:20240415T004517Z
LAST-MODIFIED:20240415T004518Z
UID:27155-1714030200-1714032000@nicolejohnston.com.au
SUMMARY:Yeronga | Stephens RSL ANZAC Day Service
DESCRIPTION:All welcome.
URL:https://nicolejohnston.com.au/event/yeronga-stephens-rsl-anzac-day-service/
LOCATION:Yeronga Memorial Park\, School Road\, Yeronga\, Queensland\, 4104\, Australia
CATEGORIES:Community Event
ATTACH;FMTTYPE=image/png:https://nicolejohnston.com.au/wp-content/uploads/2024/04/ANZAC-Day-2024.png
GEO:-27.5212612;153.0201362
X-APPLE-STRUCTURED-LOCATION;VALUE=URI;X-ADDRESS=Yeronga Memorial Park School Road Yeronga Queensland 4104 Australia;X-APPLE-RADIUS=500;X-TITLE=School Road:geo:153.0201362,-27.5212612
END:VEVENT
BEGIN:VEVENT
DTSTART;TZID=Australia/Brisbane:20231111T103000
DTEND;TZID=Australia/Brisbane:20231111T233000
DTSTAMP:20260424T062101
CREATED:20231030T054958Z
LAST-MODIFIED:20231030T055854Z
UID:27026-1699698600-1699745400@nicolejohnston.com.au
SUMMARY:Yeronga | Stephens Sub Branch Inc. Remembrance Day Memorial Service
DESCRIPTION:Service commences at 10:30 am\, Saturday 11 November 2023. Yeronga Memorial Park\, Ipswich Road Yeronga. All welcome.
URL:https://nicolejohnston.com.au/event/yeronga-stephens-sub-branch-inc-remembrance-day-memorial-service/
LOCATION:Yeronga Memorial Park\, School Road\, Yeronga\, Queensland\, 4104\, Australia
CATEGORIES:Community Event
ATTACH;FMTTYPE=image/png:https://nicolejohnston.com.au/wp-content/uploads/2023/10/Remembrance-Day-2023.png
GEO:-27.5212612;153.0201362
X-APPLE-STRUCTURED-LOCATION;VALUE=URI;X-ADDRESS=Yeronga Memorial Park School Road Yeronga Queensland 4104 Australia;X-APPLE-RADIUS=500;X-TITLE=School Road:geo:153.0201362,-27.5212612
END:VEVENT
BEGIN:VEVENT
DTSTART;TZID=Australia/Brisbane:20151111T103000
DTEND;TZID=Australia/Brisbane:20151111T113000
DTSTAMP:20260424T062101
CREATED:20151110T095052Z
LAST-MODIFIED:20151110T095052Z
UID:5389-1447237800-1447241400@nicolejohnston.com.au
SUMMARY:Remembrance Day - Yeronga
DESCRIPTION:2015 marks the 97th anniversary of the signing of the Armistice that ended World War I. Every year at the 11th hour of the 11th day of the 11th month\, one minutes silence is observed throughout the country in remembrance of those who lost their lives during war \n.
URL:https://nicolejohnston.com.au/event/remembrance-day-yeronga/
LOCATION:Yeronga Memorial Park\, School Road\, Yeronga\, Queensland\, 4104\, Australia
GEO:-27.5212612;153.0201362
X-APPLE-STRUCTURED-LOCATION;VALUE=URI;X-ADDRESS=Yeronga Memorial Park School Road Yeronga Queensland 4104 Australia;X-APPLE-RADIUS=500;X-TITLE=School Road:geo:153.0201362,-27.5212612
END:VEVENT
END:VCALENDAR