BEGIN:VCALENDAR
VERSION:2.0
PRODID:-//Nicole Johnston - ECPv6.15.20//NONSGML v1.0//EN
CALSCALE:GREGORIAN
METHOD:PUBLISH
X-WR-CALNAME:Nicole Johnston
X-ORIGINAL-URL:https://nicolejohnston.com.au
X-WR-CALDESC:Events for Nicole Johnston
REFRESH-INTERVAL;VALUE=DURATION:PT1H
X-Robots-Tag:noindex
X-PUBLISHED-TTL:PT1H
BEGIN:VTIMEZONE
TZID:Australia/Brisbane
BEGIN:STANDARD
TZOFFSETFROM:+1000
TZOFFSETTO:+1000
TZNAME:AEST
DTSTART:20220101T000000
END:STANDARD
END:VTIMEZONE
BEGIN:VEVENT
DTSTART;TZID=Australia/Brisbane:20230827T160000
DTEND;TZID=Australia/Brisbane:20230827T173000
DTSTAMP:20260424T183636
CREATED:20230710T060616Z
LAST-MODIFIED:20230710T060617Z
UID:26626-1693152000-1693157400@nicolejohnston.com.au
SUMMARY:Sherwood | Orienteering - Map Run
DESCRIPTION:A recreational activity and sport for all ages and fitness levels using your navigational skills with a Smart Phone and a specially produced map to discover your local parks and outdoor recreational areas. You can run\, jog or walk – individually or in a group. Full instructions given. $5 each\, $12 Family.
URL:https://nicolejohnston.com.au/event/sherwood-orienteering-map-run/
LOCATION:Sherwood Arboretum\, 57 Dewar Terrace\, Sherwood\, Queensland\, 4075\, Australia
ORGANIZER;CN="Ugly Gully Orienteering":MAILTO:maprunparks@gmail.com
GEO:-27.532253;152.977305
X-APPLE-STRUCTURED-LOCATION;VALUE=URI;X-ADDRESS=Sherwood Arboretum 57 Dewar Terrace Sherwood Queensland 4075 Australia;X-APPLE-RADIUS=500;X-TITLE=57 Dewar Terrace:geo:152.977305,-27.532253
END:VEVENT
END:VCALENDAR