BEGIN:VCALENDAR
VERSION:2.0
PRODID:-//Nicole Johnston - ECPv6.15.20//NONSGML v1.0//EN
CALSCALE:GREGORIAN
METHOD:PUBLISH
X-WR-CALNAME:Nicole Johnston
X-ORIGINAL-URL:https://nicolejohnston.com.au
X-WR-CALDESC:Events for Nicole Johnston
REFRESH-INTERVAL;VALUE=DURATION:PT1H
X-Robots-Tag:noindex
X-PUBLISHED-TTL:PT1H
BEGIN:VTIMEZONE
TZID:Australia/Brisbane
BEGIN:STANDARD
TZOFFSETFROM:+1000
TZOFFSETTO:+1000
TZNAME:AEST
DTSTART:20140101T000000
END:STANDARD
END:VTIMEZONE
BEGIN:VEVENT
DTSTART;TZID=Australia/Brisbane:20150802T100000
DTEND;TZID=Australia/Brisbane:20150802T160000
DTSTAMP:20260424T220423
CREATED:20150724T002947Z
LAST-MODIFIED:20150724T002947Z
UID:3550-1438509600-1438531200@nicolejohnston.com.au
SUMMARY:Wellers Hill State School: Harmonies on the Hill Fete
DESCRIPTION:Rides ~ Jumping Castles ~Animal Farm ~ Sample Bags ~ Fairy Floss ~ Lucky Dips \nHome Made cakes\, sweets\, jams and pickles\, crafts and international foods! \nStalls: 2nd Hand Books\, Trash & Treasure\, Plants\, Raffles & Auctions\, Spin & Pin Wheel \nFeaturing performances by our award winning choirs\, strings and bands!
URL:https://nicolejohnston.com.au/event/wellers-hill-state-school-harmonies-on-the-hill-fete/
LOCATION:Wellers Hill State School\, 190 Toohey Road\, Tarragindi\, Queensland\, 4121\, Australia
GEO:-27.525995;153.046946
X-APPLE-STRUCTURED-LOCATION;VALUE=URI;X-ADDRESS=Wellers Hill State School 190 Toohey Road Tarragindi Queensland 4121 Australia;X-APPLE-RADIUS=500;X-TITLE=190 Toohey Road:geo:153.046946,-27.525995
END:VEVENT
END:VCALENDAR