BEGIN:VCALENDAR
VERSION:2.0
PRODID:-//Nicole Johnston - ECPv6.15.20//NONSGML v1.0//EN
CALSCALE:GREGORIAN
METHOD:PUBLISH
X-WR-CALNAME:Nicole Johnston
X-ORIGINAL-URL:https://nicolejohnston.com.au
X-WR-CALDESC:Events for Nicole Johnston
REFRESH-INTERVAL;VALUE=DURATION:PT1H
X-Robots-Tag:noindex
X-PUBLISHED-TTL:PT1H
BEGIN:VTIMEZONE
TZID:Australia/Brisbane
BEGIN:STANDARD
TZOFFSETFROM:+1000
TZOFFSETTO:+1000
TZNAME:AEST
DTSTART:20210101T000000
END:STANDARD
END:VTIMEZONE
BEGIN:VEVENT
DTSTART;TZID=Australia/Brisbane:20251214T150000
DTEND;TZID=Australia/Brisbane:20251214T173000
DTSTAMP:20260424T140941
CREATED:20250910T014851Z
LAST-MODIFIED:20250910T014851Z
UID:30834-1765724400-1765733400@nicolejohnston.com.au
SUMMARY:Yeronga | Yeronga Bushcare Group Working Bee
DESCRIPTION:The Yeronga Bushcare Group meet on the second Sunday of the month: \n\nautumn/winter months – 3-5pm\nspring/summer months – 3-30-5.30pm.\n\nVenue: Ron Goeldner Park (access via 20 Heritage Close)\, Yeronga. \nFor further information\, contact the volunteer group leaders via email.
URL:https://nicolejohnston.com.au/event/yeronga-yeronga-bushcare-group-working-bee-5/
LOCATION:Ron Goeldner Park\, 50 Esplanade\, Yeronga\, Queensland\, 4104\, Australia
ORGANIZER;CN="Yeronga Bushcare Group":MAILTO:yfbc@googlegroups.com
END:VEVENT
BEGIN:VEVENT
DTSTART;TZID=Australia/Brisbane:20251109T150000
DTEND;TZID=Australia/Brisbane:20251109T173000
DTSTAMP:20260424T140941
CREATED:20250910T013402Z
LAST-MODIFIED:20250910T013402Z
UID:30821-1762700400-1762709400@nicolejohnston.com.au
SUMMARY:Yeronga | Yeronga Bushcare Group Working Bee
DESCRIPTION:The Yeronga Bushcare Group meet on the second Sunday of the month: \n\nautumn/winter months – 3-5pm\nspring/summer months – 3-30-5.30pm.\n\nVenue: Ron Goeldner Park (access via 20 Heritage Close)\, Yeronga. \nFor further information\, contact the volunteer group leaders via email.
URL:https://nicolejohnston.com.au/event/yeronga-yeronga-bushcare-group-working-bee-4/
LOCATION:Ron Goeldner Park\, 50 Esplanade\, Yeronga\, Queensland\, 4104\, Australia
ORGANIZER;CN="Yeronga Bushcare Group":MAILTO:yfbc@googlegroups.com
END:VEVENT
BEGIN:VEVENT
DTSTART;TZID=Australia/Brisbane:20251012T150000
DTEND;TZID=Australia/Brisbane:20251012T173000
DTSTAMP:20260424T140941
CREATED:20250910T012327Z
LAST-MODIFIED:20250910T012327Z
UID:30809-1760281200-1760290200@nicolejohnston.com.au
SUMMARY:Yeronga | Yeronga Bushcare Group Working Bee
DESCRIPTION:The Yeronga Bushcare Group meet on the second Sunday of the month: \n\nautumn/winter months – 3-5pm\nspring/summer months – 3-30-5.30pm.\n\nVenue: Ron Goeldner Park (access via 20 Heritage Close)\, Yeronga. \nFor further information\, contact the volunteer group leaders via email.
URL:https://nicolejohnston.com.au/event/yeronga-yeronga-bushcare-group-working-bee-3/
LOCATION:Ron Goeldner Park\, 50 Esplanade\, Yeronga\, Queensland\, 4104\, Australia
ORGANIZER;CN="Yeronga Bushcare Group":MAILTO:yfbc@googlegroups.com
END:VEVENT
BEGIN:VEVENT
DTSTART;TZID=Australia/Brisbane:20250914T150000
DTEND;TZID=Australia/Brisbane:20250914T173000
DTSTAMP:20260424T140941
CREATED:20250910T003945Z
LAST-MODIFIED:20250910T003945Z
UID:30785-1757862000-1757871000@nicolejohnston.com.au
SUMMARY:Yeronga | Yeronga Bushcare Group Working Bee
DESCRIPTION:The Yeronga Bushcare Group meet on the second Sunday of the month: \n\nautumn/winter months – 3-5pm\nspring/summer months – 3-30-5.30pm.\n\nVenue: Ron Goeldner Park (access via 20 Heritage Close)\, Yeronga. \nFor further information\, contact the volunteer group leaders via email.
URL:https://nicolejohnston.com.au/event/yeronga-yeronga-bushcare-group-working-bee-2/
LOCATION:Ron Goeldner Park\, 50 Esplanade\, Yeronga\, Queensland\, 4104\, Australia
ORGANIZER;CN="Yeronga Bushcare Group":MAILTO:yfbc@googlegroups.com
END:VEVENT
BEGIN:VEVENT
DTSTART;TZID=Australia/Brisbane:20240929T150000
DTEND;TZID=Australia/Brisbane:20240929T170000
DTSTAMP:20260424T140941
CREATED:20240925T052245Z
LAST-MODIFIED:20240925T052247Z
UID:28224-1727622000-1727629200@nicolejohnston.com.au
SUMMARY:Yeronga | Yeronga Bushcare Group Working Bee
DESCRIPTION:Activities which are aimed at preparing the site for summer will include planting\, watering\, mulching and weeding.
URL:https://nicolejohnston.com.au/event/yeronga-yeronga-bushcare-group-working-bee/
LOCATION:Brisbane Corso Park\, 323 Brisbane Corso\, Yeronga\, QLD\, 4104\, Australia
CATEGORIES:Community Event
ATTACH;FMTTYPE=image/jpeg:https://nicolejohnston.com.au/wp-content/uploads/2024/09/Yeronga-Bushcare.jpg
ORGANIZER;CN="Yeronga Bushcare Group":MAILTO:yfbc@googlegroups.com
END:VEVENT
BEGIN:VEVENT
DTSTART;TZID=Australia/Brisbane:20221015T153000
DTEND;TZID=Australia/Brisbane:20221015T173000
DTSTAMP:20260424T140941
CREATED:20221004T032011Z
LAST-MODIFIED:20221004T032012Z
UID:25804-1665847800-1665855000@nicolejohnston.com.au
SUMMARY:Yeronga | Yeronga Bushcare October Working Bee
DESCRIPTION:All welcome. The focus will be on planting\, weeding and general maintenance. Come and marvel how the plants which were inundated by floodwaters earlier this year are recovering. Bring along water\, hat\, sun screen\, insect repellent\, tools\, gloves\, suitable clothes and galoshes. Tools provided. Site is upstream from the corner of Anita St and the Esplanade\, Yeronga \n 
URL:https://nicolejohnston.com.au/event/yeronga-yeronga-bushcare-october-working-bee/
LOCATION:Anita St Park\, 1 Esplanade\, Yeronga\, QLD\, 4104\, Australia
ORGANIZER;CN="Yeronga Bushcare Group":MAILTO:yfbc@googlegroups.com
END:VEVENT
END:VCALENDAR