BEGIN:VCALENDAR
VERSION:2.0
PRODID:-//Nicole Johnston - ECPv6.15.20//NONSGML v1.0//EN
CALSCALE:GREGORIAN
METHOD:PUBLISH
X-WR-CALNAME:Nicole Johnston
X-ORIGINAL-URL:https://nicolejohnston.com.au
X-WR-CALDESC:Events for Nicole Johnston
REFRESH-INTERVAL;VALUE=DURATION:PT1H
X-Robots-Tag:noindex
X-PUBLISHED-TTL:PT1H
BEGIN:VTIMEZONE
TZID:Australia/Brisbane
BEGIN:STANDARD
TZOFFSETFROM:+1000
TZOFFSETTO:+1000
TZNAME:AEST
DTSTART:20210101T000000
END:STANDARD
END:VTIMEZONE
BEGIN:VEVENT
DTSTART;TZID=Australia/Brisbane:20221015T153000
DTEND;TZID=Australia/Brisbane:20221015T173000
DTSTAMP:20260424T154621
CREATED:20221004T032011Z
LAST-MODIFIED:20221004T032012Z
UID:25804-1665847800-1665855000@nicolejohnston.com.au
SUMMARY:Yeronga | Yeronga Bushcare October Working Bee
DESCRIPTION:All welcome. The focus will be on planting\, weeding and general maintenance. Come and marvel how the plants which were inundated by floodwaters earlier this year are recovering. Bring along water\, hat\, sun screen\, insect repellent\, tools\, gloves\, suitable clothes and galoshes. Tools provided. Site is upstream from the corner of Anita St and the Esplanade\, Yeronga \n 
URL:https://nicolejohnston.com.au/event/yeronga-yeronga-bushcare-october-working-bee/
LOCATION:Anita St Park\, 1 Esplanade\, Yeronga\, QLD\, 4104\, Australia
ORGANIZER;CN="Yeronga Bushcare Group":MAILTO:yfbc@googlegroups.com
END:VEVENT
END:VCALENDAR