BEGIN:VCALENDAR
VERSION:2.0
PRODID:-//Nicole Johnston - ECPv6.15.20//NONSGML v1.0//EN
CALSCALE:GREGORIAN
METHOD:PUBLISH
X-ORIGINAL-URL:https://nicolejohnston.com.au
X-WR-CALDESC:Events for Nicole Johnston
REFRESH-INTERVAL;VALUE=DURATION:PT1H
X-Robots-Tag:noindex
X-PUBLISHED-TTL:PT1H
BEGIN:VTIMEZONE
TZID:Australia/Brisbane
BEGIN:STANDARD
TZOFFSETFROM:+1000
TZOFFSETTO:+1000
TZNAME:AEST
DTSTART:20140101T000000
END:STANDARD
END:VTIMEZONE
BEGIN:VEVENT
DTSTART;TZID=Australia/Brisbane:20170322T120000
DTEND;TZID=Australia/Brisbane:20170322T150000
DTSTAMP:20260424T212522
CREATED:20170124T001516Z
LAST-MODIFIED:20170124T001821Z
UID:11433-1490184000-1490194800@nicolejohnston.com.au
SUMMARY:Annerley Community Hub Open Day
DESCRIPTION:
URL:https://nicolejohnston.com.au/event/annerley-community-hub-open-day/
LOCATION:Annerley Community Hub\, 556 Ipswich Road\, Annerley\, Queensland\, 4103\, Australia
GEO:-27.513129;153.031574
X-APPLE-STRUCTURED-LOCATION;VALUE=URI;X-ADDRESS=Annerley Community Hub 556 Ipswich Road Annerley Queensland 4103 Australia;X-APPLE-RADIUS=500;X-TITLE=556 Ipswich Road:geo:153.031574,-27.513129
END:VEVENT
BEGIN:VEVENT
DTSTART;TZID=Australia/Brisbane:20160718T173000
DTEND;TZID=Australia/Brisbane:20160718T190000
DTSTAMP:20260424T212522
CREATED:20160630T013817Z
LAST-MODIFIED:20160630T013840Z
UID:9427-1468863000-1468868400@nicolejohnston.com.au
SUMMARY:Building Better Communities Information Session
DESCRIPTION:Building Better Communities Info \nPlease visit the above link for more information
URL:https://nicolejohnston.com.au/event/building-better-communities-information-session/
LOCATION:Annerley Community Hub\, 556 Ipswich Road\, Annerley\, Queensland\, 4103\, Australia
GEO:-27.513129;153.031574
X-APPLE-STRUCTURED-LOCATION;VALUE=URI;X-ADDRESS=Annerley Community Hub 556 Ipswich Road Annerley Queensland 4103 Australia;X-APPLE-RADIUS=500;X-TITLE=556 Ipswich Road:geo:153.031574,-27.513129
END:VEVENT
BEGIN:VEVENT
DTSTART;TZID=Australia/Brisbane:20160518T120000
DTEND;TZID=Australia/Brisbane:20160518T160000
DTSTAMP:20260424T212522
CREATED:20160422T040309Z
LAST-MODIFIED:20160422T040636Z
UID:8989-1463572800-1463587200@nicolejohnston.com.au
SUMMARY:Community Café Pop-Up #2
DESCRIPTION:
URL:https://nicolejohnston.com.au/event/community-cafe-pop-up-2/
LOCATION:Annerley Community Hub\, 556 Ipswich Road\, Annerley\, Queensland\, 4103\, Australia
GEO:-27.513129;153.031574
X-APPLE-STRUCTURED-LOCATION;VALUE=URI;X-ADDRESS=Annerley Community Hub 556 Ipswich Road Annerley Queensland 4103 Australia;X-APPLE-RADIUS=500;X-TITLE=556 Ipswich Road:geo:153.031574,-27.513129
END:VEVENT
BEGIN:VEVENT
DTSTART;TZID=Australia/Brisbane:20151024T090000
DTEND;TZID=Australia/Brisbane:20151024T120000
DTSTAMP:20260424T212522
CREATED:20150911T100302Z
LAST-MODIFIED:20150911T100302Z
UID:4067-1445677200-1445688000@nicolejohnston.com.au
SUMMARY:Garage Sale Trail Fundraiser
DESCRIPTION:We are raising funds for Community Plus+ and have had a lot of amazing things donated especially for this sale. \nA wide variety of goods are for sale and you’re sure to find an amazing bargain or 10 in the mix!
URL:https://nicolejohnston.com.au/event/garage-sale-trail-fundraiser/
LOCATION:Annerley Community Hub\, 556 Ipswich Road\, Annerley\, Queensland\, 4103\, Australia
GEO:-27.513129;153.031574
X-APPLE-STRUCTURED-LOCATION;VALUE=URI;X-ADDRESS=Annerley Community Hub 556 Ipswich Road Annerley Queensland 4103 Australia;X-APPLE-RADIUS=500;X-TITLE=556 Ipswich Road:geo:153.031574,-27.513129
END:VEVENT
BEGIN:VEVENT
DTSTART;TZID=Australia/Brisbane:20150523T090000
DTEND;TZID=Australia/Brisbane:20150523T130000
DTSTAMP:20260424T212522
CREATED:20150518T065444Z
LAST-MODIFIED:20150518T065444Z
UID:3082-1432371600-1432386000@nicolejohnston.com.au
SUMMARY:Southside Uncovered
DESCRIPTION:All Welcome! \nCelebrate our local area at this free community event. \n\nCommunity Gardening\nFree Workshops\nCommunity Groups\nKids Activities\nBrisLETS Trading Day\nBBQ Lunch\nBake Sale\nLive Music\nSuitcase Swap Shop\nHub Open Day\nGuest Speaker Tim Jenkins @ 12pm.
URL:https://nicolejohnston.com.au/event/southside-uncovered/
LOCATION:Annerley Community Hub\, 556 Ipswich Road\, Annerley\, Queensland\, 4103\, Australia
GEO:-27.513129;153.031574
X-APPLE-STRUCTURED-LOCATION;VALUE=URI;X-ADDRESS=Annerley Community Hub 556 Ipswich Road Annerley Queensland 4103 Australia;X-APPLE-RADIUS=500;X-TITLE=556 Ipswich Road:geo:153.031574,-27.513129
END:VEVENT
END:VCALENDAR