BEGIN:VCALENDAR
VERSION:2.0
PRODID:-//Nicole Johnston - ECPv6.15.20//NONSGML v1.0//EN
CALSCALE:GREGORIAN
METHOD:PUBLISH
X-ORIGINAL-URL:https://nicolejohnston.com.au
X-WR-CALDESC:Events for Nicole Johnston
REFRESH-INTERVAL;VALUE=DURATION:PT1H
X-Robots-Tag:noindex
X-PUBLISHED-TTL:PT1H
BEGIN:VTIMEZONE
TZID:Australia/Brisbane
BEGIN:STANDARD
TZOFFSETFROM:+1000
TZOFFSETTO:+1000
TZNAME:AEST
DTSTART:20180101T000000
END:STANDARD
END:VTIMEZONE
BEGIN:VEVENT
DTSTART;TZID=Australia/Brisbane:20191130T100000
DTEND;TZID=Australia/Brisbane:20191130T123000
DTSTAMP:20260424T195505
CREATED:20191118T021950Z
LAST-MODIFIED:20191118T021950Z
UID:19875-1575108000-1575117000@nicolejohnston.com.au
SUMMARY:Annerley | Creative Sparks Puppet Making Workshop 2/2
DESCRIPTION:Costuming\, attaching rods and puppet manipulation practice. \nFor tickets\, visit www.eventbrite.com.au/e/77080252109
URL:https://nicolejohnston.com.au/event/annerley-creative-sparks-puppet-making-workshop-2-2/
LOCATION:Annerley Hall\, 8 Waldheim Street\, Annerley\, QLD\, 4103\, Australia
END:VEVENT
BEGIN:VEVENT
DTSTART;TZID=Australia/Brisbane:20191123T100000
DTEND;TZID=Australia/Brisbane:20191123T123000
DTSTAMP:20260424T195505
CREATED:20191118T021744Z
LAST-MODIFIED:20191118T022100Z
UID:19872-1574503200-1574512200@nicolejohnston.com.au
SUMMARY:Annerley | Creative Sparks Puppet Making Workshops 1/2
DESCRIPTION:Designing\, building and painting our cardboard creations. \nFor tickets\, visit www.eventbrite.com.au/e/77080252109 \n 
URL:https://nicolejohnston.com.au/event/annerley-creative-sparks-puppet-making-workshops/
LOCATION:Annerley Hall\, 8 Waldheim Street\, Annerley\, QLD\, 4103\, Australia
END:VEVENT
END:VCALENDAR