BEGIN:VCALENDAR
VERSION:2.0
PRODID:-//Nicole Johnston - ECPv6.15.20//NONSGML v1.0//EN
CALSCALE:GREGORIAN
METHOD:PUBLISH
X-WR-CALNAME:Nicole Johnston
X-ORIGINAL-URL:https://nicolejohnston.com.au
X-WR-CALDESC:Events for Nicole Johnston
REFRESH-INTERVAL;VALUE=DURATION:PT1H
X-Robots-Tag:noindex
X-PUBLISHED-TTL:PT1H
BEGIN:VTIMEZONE
TZID:Australia/Brisbane
BEGIN:STANDARD
TZOFFSETFROM:+1000
TZOFFSETTO:+1000
TZNAME:AEST
DTSTART:20230101T000000
END:STANDARD
END:VTIMEZONE
BEGIN:VEVENT
DTSTART;TZID=Australia/Brisbane:20250203T091500
DTEND;TZID=Australia/Brisbane:20250203T094500
DTSTAMP:20260426T005104
CREATED:20250108T003800Z
LAST-MODIFIED:20250108T003800Z
UID:28858-1738574100-1738575900@nicolejohnston.com.au
SUMMARY:Annerley Library | First 5 Forever Toddler Time
DESCRIPTION:Meet other parents and toddlers for a fun session of singing\, clapping and dancing. Learn action rhymes and songs which will help your child’s pre-literacy\, communication\, language and social skills. Ideal for babies and toddlers aged 1-2 years.
URL:https://nicolejohnston.com.au/event/annerley-library-first-5-forever-toddler-time-18/
LOCATION:Annerley Library\, 469 Ipswich Rd\, Annerley\, Queensland\, 4103\, Australia
GEO:-27.5115338;153.0317863
X-APPLE-STRUCTURED-LOCATION;VALUE=URI;X-ADDRESS=Annerley Library 469 Ipswich Rd Annerley Queensland 4103 Australia;X-APPLE-RADIUS=500;X-TITLE=469 Ipswich Rd:geo:153.0317863,-27.5115338
END:VEVENT
BEGIN:VEVENT
DTSTART;TZID=Australia/Brisbane:20250131T091500
DTEND;TZID=Australia/Brisbane:20250131T094500
DTSTAMP:20260426T005104
CREATED:20241113T060021Z
LAST-MODIFIED:20241113T060021Z
UID:28583-1738314900-1738316700@nicolejohnston.com.au
SUMMARY:Annerley Library | First 5 Forever Babies\, Books and Rhymes
DESCRIPTION:Meet other parents and babies for a fun session of singing\, clapping and dancing. Learn songs and action rhymes to nurture your baby’s pre-literacy\, communication\, language and social skills. Ideal for babies aged up to one year.
URL:https://nicolejohnston.com.au/event/annerley-library-first-5-forever-babies-books-and-rhymes-18/
LOCATION:Annerley Library\, 469 Ipswich Rd\, Annerley\, Queensland\, 4103\, Australia
GEO:-27.5115338;153.0317863
X-APPLE-STRUCTURED-LOCATION;VALUE=URI;X-ADDRESS=Annerley Library 469 Ipswich Rd Annerley Queensland 4103 Australia;X-APPLE-RADIUS=500;X-TITLE=469 Ipswich Rd:geo:153.0317863,-27.5115338
END:VEVENT
BEGIN:VEVENT
DTSTART;TZID=Australia/Brisbane:20250124T091500
DTEND;TZID=Australia/Brisbane:20250124T094500
DTSTAMP:20260426T005104
CREATED:20241113T050516Z
LAST-MODIFIED:20241113T050516Z
UID:28559-1737710100-1737711900@nicolejohnston.com.au
SUMMARY:Annerley Library | First 5 Forever Babies\, Books and Rhymes
DESCRIPTION:Meet other parents and babies for a fun session of singing\, clapping and dancing. Learn songs and action rhymes to nurture your baby’s pre-literacy\, communication\, language and social skills. Ideal for babies aged up to one year.
URL:https://nicolejohnston.com.au/event/annerley-library-first-5-forever-babies-books-and-rhymes-17/
LOCATION:Annerley Library\, 469 Ipswich Rd\, Annerley\, Queensland\, 4103\, Australia
GEO:-27.5115338;153.0317863
X-APPLE-STRUCTURED-LOCATION;VALUE=URI;X-ADDRESS=Annerley Library 469 Ipswich Rd Annerley Queensland 4103 Australia;X-APPLE-RADIUS=500;X-TITLE=469 Ipswich Rd:geo:153.0317863,-27.5115338
END:VEVENT
BEGIN:VEVENT
DTSTART;TZID=Australia/Brisbane:20250121T110000
DTEND;TZID=Australia/Brisbane:20250121T130000
DTSTAMP:20260426T005104
CREATED:20241113T045923Z
LAST-MODIFIED:20241113T045923Z
UID:28551-1737457200-1737464400@nicolejohnston.com.au
SUMMARY:Annerley Library | Make and Create for Kids
DESCRIPTION:This school holidays\, drop into the library to get creative with free art and craft activities. Ideal for children aged. Ideal for children aged 3-8 years.
URL:https://nicolejohnston.com.au/event/annerley-library-make-and-create-for-kids-6/
LOCATION:Annerley Library\, 469 Ipswich Rd\, Annerley\, Queensland\, 4103\, Australia
GEO:-27.5115338;153.0317863
X-APPLE-STRUCTURED-LOCATION;VALUE=URI;X-ADDRESS=Annerley Library 469 Ipswich Rd Annerley Queensland 4103 Australia;X-APPLE-RADIUS=500;X-TITLE=469 Ipswich Rd:geo:153.0317863,-27.5115338
END:VEVENT
BEGIN:VEVENT
DTSTART;TZID=Australia/Brisbane:20250121T110000
DTEND;TZID=Australia/Brisbane:20250121T120000
DTSTAMP:20260426T005104
CREATED:20241212T002306Z
LAST-MODIFIED:20241212T002306Z
UID:28698-1737457200-1737460800@nicolejohnston.com.au
SUMMARY:Annerley Library | Summer Reading: Introduction to Illustration and Cartooning
DESCRIPTION:Join illustrator Mark Guthrie for an interactive\, fun and creative step-by-step guide through a series of hands-on exercises to develop confidence in drawing. Ideal for children aged 7-12 years. \n\n\nBookings required. Phone Annerley Library on 07 3403 1735 to reserve your place.
URL:https://nicolejohnston.com.au/event/annerley-library-summer-reading-introduction-to-illustration-and-cartooning/
LOCATION:Annerley Library\, 469 Ipswich Rd\, Annerley\, Queensland\, 4103\, Australia
GEO:-27.5115338;153.0317863
X-APPLE-STRUCTURED-LOCATION;VALUE=URI;X-ADDRESS=Annerley Library 469 Ipswich Rd Annerley Queensland 4103 Australia;X-APPLE-RADIUS=500;X-TITLE=469 Ipswich Rd:geo:153.0317863,-27.5115338
END:VEVENT
BEGIN:VEVENT
DTSTART;TZID=Australia/Brisbane:20250120T110000
DTEND;TZID=Australia/Brisbane:20250120T113000
DTSTAMP:20260426T005104
CREATED:20241113T045616Z
LAST-MODIFIED:20241113T045616Z
UID:28547-1737370800-1737372600@nicolejohnston.com.au
SUMMARY:Annerley Library | First 5 Forever Children's Storytime
DESCRIPTION:Experience the magic of storytime with your child at the library. This interactive session includes stories\, songs and mark making activities for young children. Ideal for children aged 2-5 years.
URL:https://nicolejohnston.com.au/event/annerley-library-first-5-forever-childrens-storytime-13/
LOCATION:Annerley Library\, 469 Ipswich Rd\, Annerley\, Queensland\, 4103\, Australia
GEO:-27.5115338;153.0317863
X-APPLE-STRUCTURED-LOCATION;VALUE=URI;X-ADDRESS=Annerley Library 469 Ipswich Rd Annerley Queensland 4103 Australia;X-APPLE-RADIUS=500;X-TITLE=469 Ipswich Rd:geo:153.0317863,-27.5115338
END:VEVENT
BEGIN:VEVENT
DTSTART;TZID=Australia/Brisbane:20250120T091500
DTEND;TZID=Australia/Brisbane:20250120T094500
DTSTAMP:20260426T005104
CREATED:20241113T030541Z
LAST-MODIFIED:20241113T030541Z
UID:28545-1737364500-1737366300@nicolejohnston.com.au
SUMMARY:Annerley Library |  First 5 Forever Toddler Time
DESCRIPTION:Meet other parents and toddlers for a fun session of singing\, clapping and dancing. Learn action rhymes and songs which will help your child’s pre-literacy\, communication\, language and social skills. Ideal for babies and toddlers aged 1-2 years.
URL:https://nicolejohnston.com.au/event/annerley-library-first-5-forever-toddler-time-17/
LOCATION:Annerley Library\, 469 Ipswich Rd\, Annerley\, Queensland\, 4103\, Australia
GEO:-27.5115338;153.0317863
X-APPLE-STRUCTURED-LOCATION;VALUE=URI;X-ADDRESS=Annerley Library 469 Ipswich Rd Annerley Queensland 4103 Australia;X-APPLE-RADIUS=500;X-TITLE=469 Ipswich Rd:geo:153.0317863,-27.5115338
END:VEVENT
BEGIN:VEVENT
DTSTART;TZID=Australia/Brisbane:20250117T091500
DTEND;TZID=Australia/Brisbane:20250117T094500
DTSTAMP:20260426T005104
CREATED:20241113T030254Z
LAST-MODIFIED:20241113T030254Z
UID:28541-1737105300-1737107100@nicolejohnston.com.au
SUMMARY:Annerley Library | First 5 Forever Babies\, Books and Rhymes
DESCRIPTION:Meet other parents and babies for a fun session of singing\, clapping and dancing. Learn songs and action rhymes to nurture your baby’s pre-literacy\, communication\, language and social skills. Ideal for babies aged up to one year.
URL:https://nicolejohnston.com.au/event/annerley-library-first-5-forever-babies-books-and-rhymes-16/
LOCATION:Annerley Library\, 469 Ipswich Rd\, Annerley\, Queensland\, 4103\, Australia
GEO:-27.5115338;153.0317863
X-APPLE-STRUCTURED-LOCATION;VALUE=URI;X-ADDRESS=Annerley Library 469 Ipswich Rd Annerley Queensland 4103 Australia;X-APPLE-RADIUS=500;X-TITLE=469 Ipswich Rd:geo:153.0317863,-27.5115338
END:VEVENT
BEGIN:VEVENT
DTSTART;TZID=Australia/Brisbane:20250114T110000
DTEND;TZID=Australia/Brisbane:20250114T130000
DTSTAMP:20260426T005104
CREATED:20241113T022856Z
LAST-MODIFIED:20241113T022856Z
UID:28531-1736852400-1736859600@nicolejohnston.com.au
SUMMARY:Annerley Library | Make and Create for Kids
DESCRIPTION:This school holidays\, drop into the library to get creative with free art and craft activities. Ideal for children aged. Ideal for children aged 3-8 years.
URL:https://nicolejohnston.com.au/event/annerley-library-make-and-create-for-kids-5/
LOCATION:Annerley Library\, 469 Ipswich Rd\, Annerley\, Queensland\, 4103\, Australia
GEO:-27.5115338;153.0317863
X-APPLE-STRUCTURED-LOCATION;VALUE=URI;X-ADDRESS=Annerley Library 469 Ipswich Rd Annerley Queensland 4103 Australia;X-APPLE-RADIUS=500;X-TITLE=469 Ipswich Rd:geo:153.0317863,-27.5115338
END:VEVENT
BEGIN:VEVENT
DTSTART;TZID=Australia/Brisbane:20250114T110000
DTEND;TZID=Australia/Brisbane:20250114T120000
DTSTAMP:20260426T005104
CREATED:20241113T022951Z
LAST-MODIFIED:20241113T022951Z
UID:28533-1736852400-1736856000@nicolejohnston.com.au
SUMMARY:Annerley Library | Introducing Osmo
DESCRIPTION:Discover an educational gaming system that merges tactile exploration with innovative iPad technology\, actively engaging children in the learning process. Introducing young minds to coding in a fun and easy way\, Osmo enables children to explore the world of science\, maths\, art and more through creative problem solving. Ideal for children aged 5-12 years.
URL:https://nicolejohnston.com.au/event/annerley-library-introducing-osmo-3/
LOCATION:Annerley Library\, 469 Ipswich Rd\, Annerley\, Queensland\, 4103\, Australia
GEO:-27.5115338;153.0317863
X-APPLE-STRUCTURED-LOCATION;VALUE=URI;X-ADDRESS=Annerley Library 469 Ipswich Rd Annerley Queensland 4103 Australia;X-APPLE-RADIUS=500;X-TITLE=469 Ipswich Rd:geo:153.0317863,-27.5115338
END:VEVENT
BEGIN:VEVENT
DTSTART;TZID=Australia/Brisbane:20250113T110000
DTEND;TZID=Australia/Brisbane:20250113T113000
DTSTAMP:20260426T005104
CREATED:20241113T022755Z
LAST-MODIFIED:20241113T022755Z
UID:28529-1736766000-1736767800@nicolejohnston.com.au
SUMMARY:Annerley Library | First 5 Forever Children's Storytime
DESCRIPTION:Experience the magic of storytime with your child at the library. This interactive session includes stories\, songs and mark making activities for young children. Ideal for children aged 2-5 years.
URL:https://nicolejohnston.com.au/event/annerley-library-first-5-forever-childrens-storytime-12/
LOCATION:Annerley Library\, 469 Ipswich Rd\, Annerley\, Queensland\, 4103\, Australia
GEO:-27.5115338;153.0317863
X-APPLE-STRUCTURED-LOCATION;VALUE=URI;X-ADDRESS=Annerley Library 469 Ipswich Rd Annerley Queensland 4103 Australia;X-APPLE-RADIUS=500;X-TITLE=469 Ipswich Rd:geo:153.0317863,-27.5115338
END:VEVENT
BEGIN:VEVENT
DTSTART;TZID=Australia/Brisbane:20250113T091500
DTEND;TZID=Australia/Brisbane:20250113T094500
DTSTAMP:20260426T005104
CREATED:20241113T022647Z
LAST-MODIFIED:20241113T022647Z
UID:28527-1736759700-1736761500@nicolejohnston.com.au
SUMMARY:Annerley Library | First 5 Forever Toddler Time
DESCRIPTION:Meet other parents and toddlers for a fun session of singing\, clapping and dancing. Learn action rhymes and songs which will help your child’s pre-literacy\, communication\, language and social skills. Ideal for babies and toddlers aged 1-2 years.
URL:https://nicolejohnston.com.au/event/annerley-library-first-5-forever-toddler-time-16/
LOCATION:Annerley Library\, 469 Ipswich Rd\, Annerley\, Queensland\, 4103\, Australia
GEO:-27.5115338;153.0317863
X-APPLE-STRUCTURED-LOCATION;VALUE=URI;X-ADDRESS=Annerley Library 469 Ipswich Rd Annerley Queensland 4103 Australia;X-APPLE-RADIUS=500;X-TITLE=469 Ipswich Rd:geo:153.0317863,-27.5115338
END:VEVENT
BEGIN:VEVENT
DTSTART;TZID=Australia/Brisbane:20250110T130000
DTEND;TZID=Australia/Brisbane:20250110T140000
DTSTAMP:20260426T005104
CREATED:20241212T002116Z
LAST-MODIFIED:20241212T002116Z
UID:28696-1736514000-1736517600@nicolejohnston.com.au
SUMMARY:Annerley Library | Summer Reading: Oceans of Trash Workshop with Kindy Science
DESCRIPTION:Using the book Cranky Frankie and the Oceans of Trash by local Brisbane author Sue Pillans\, participants will be taken on an adventure that educates them about the rubbish in the ocean. They then will be able to use the microscopes and magnifiers to look at shells\, sand and stones from the beach and participate in making a collage out of rubbish to promote putting ‘rubbish’ in the bin. Ideal for children aged 3-7 years. \n\n\nBookings required. Phone Annerley Library on 07 3403 1735 to reserve your place.
URL:https://nicolejohnston.com.au/event/annerley-library-summer-reading-oceans-of-trash-workshop-with-kindy-science/
LOCATION:Annerley Library\, 469 Ipswich Rd\, Annerley\, Queensland\, 4103\, Australia
GEO:-27.5115338;153.0317863
X-APPLE-STRUCTURED-LOCATION;VALUE=URI;X-ADDRESS=Annerley Library 469 Ipswich Rd Annerley Queensland 4103 Australia;X-APPLE-RADIUS=500;X-TITLE=469 Ipswich Rd:geo:153.0317863,-27.5115338
END:VEVENT
BEGIN:VEVENT
DTSTART;TZID=Australia/Brisbane:20250110T091500
DTEND;TZID=Australia/Brisbane:20250110T094500
DTSTAMP:20260426T005104
CREATED:20241113T022419Z
LAST-MODIFIED:20241113T022419Z
UID:28523-1736500500-1736502300@nicolejohnston.com.au
SUMMARY:Annerley Library |  First 5 Forever Babies\, Books and Rhymes
DESCRIPTION:Meet other parents and babies for a fun session of singing\, clapping and dancing. Learn songs and action rhymes to nurture your baby’s pre-literacy\, communication\, language and social skills. Ideal for babies aged up to one year.
URL:https://nicolejohnston.com.au/event/annerley-library-first-5-forever-babies-books-and-rhymes-15/
LOCATION:Annerley Library\, 469 Ipswich Rd\, Annerley\, Queensland\, 4103\, Australia
GEO:-27.5115338;153.0317863
X-APPLE-STRUCTURED-LOCATION;VALUE=URI;X-ADDRESS=Annerley Library 469 Ipswich Rd Annerley Queensland 4103 Australia;X-APPLE-RADIUS=500;X-TITLE=469 Ipswich Rd:geo:153.0317863,-27.5115338
END:VEVENT
BEGIN:VEVENT
DTSTART;TZID=Australia/Brisbane:20250107T110000
DTEND;TZID=Australia/Brisbane:20250107T130000
DTSTAMP:20260426T005104
CREATED:20241113T021730Z
LAST-MODIFIED:20241113T021730Z
UID:28511-1736247600-1736254800@nicolejohnston.com.au
SUMMARY:Annerley Library | Make and Create for Kids
DESCRIPTION:This school holidays\, drop into the library to get creative with free art and craft activities. Ideal for children aged. Ideal for children aged 3-8 years.
URL:https://nicolejohnston.com.au/event/annerley-library-make-and-create-for-kids-4/
LOCATION:Annerley Library\, 469 Ipswich Rd\, Annerley\, Queensland\, 4103\, Australia
GEO:-27.5115338;153.0317863
X-APPLE-STRUCTURED-LOCATION;VALUE=URI;X-ADDRESS=Annerley Library 469 Ipswich Rd Annerley Queensland 4103 Australia;X-APPLE-RADIUS=500;X-TITLE=469 Ipswich Rd:geo:153.0317863,-27.5115338
END:VEVENT
BEGIN:VEVENT
DTSTART;TZID=Australia/Brisbane:20250107T110000
DTEND;TZID=Australia/Brisbane:20250107T120000
DTSTAMP:20260426T005104
CREATED:20241113T021552Z
LAST-MODIFIED:20241113T021613Z
UID:28508-1736247600-1736251200@nicolejohnston.com.au
SUMMARY:Annerley Library | Introducing Osmo
DESCRIPTION:Discover an educational gaming system that merges tactile exploration with innovative iPad technology\, actively engaging children in the learning process. Introducing young minds to coding in a fun and easy way\, Osmo enables children to explore the world of science\, maths\, art and more through creative problem solving. Ideal for children aged 5-12 years. \nBookings required. Phone Annerley Library on 07 3403 1735 to reserve your place.
URL:https://nicolejohnston.com.au/event/annerley-library-introducing-osmo-2/
LOCATION:Annerley Library\, 469 Ipswich Rd\, Annerley\, Queensland\, 4103\, Australia
GEO:-27.5115338;153.0317863
X-APPLE-STRUCTURED-LOCATION;VALUE=URI;X-ADDRESS=Annerley Library 469 Ipswich Rd Annerley Queensland 4103 Australia;X-APPLE-RADIUS=500;X-TITLE=469 Ipswich Rd:geo:153.0317863,-27.5115338
END:VEVENT
BEGIN:VEVENT
DTSTART;TZID=Australia/Brisbane:20250106T110000
DTEND;TZID=Australia/Brisbane:20250106T113000
DTSTAMP:20260426T005104
CREATED:20241113T021330Z
LAST-MODIFIED:20241113T021330Z
UID:28506-1736161200-1736163000@nicolejohnston.com.au
SUMMARY:Annerley Library | First 5 Forever Children's Storytime
DESCRIPTION:Experience the magic of storytime with your child at the library. This interactive session includes stories\, songs and mark making activities for young children. Ideal for children aged 2-5 years.
URL:https://nicolejohnston.com.au/event/annerley-library-first-5-forever-childrens-storytime-11/
LOCATION:Annerley Library\, 469 Ipswich Rd\, Annerley\, Queensland\, 4103\, Australia
GEO:-27.5115338;153.0317863
X-APPLE-STRUCTURED-LOCATION;VALUE=URI;X-ADDRESS=Annerley Library 469 Ipswich Rd Annerley Queensland 4103 Australia;X-APPLE-RADIUS=500;X-TITLE=469 Ipswich Rd:geo:153.0317863,-27.5115338
END:VEVENT
BEGIN:VEVENT
DTSTART;TZID=Australia/Brisbane:20250106T091500
DTEND;TZID=Australia/Brisbane:20250106T094500
DTSTAMP:20260426T005104
CREATED:20241113T021228Z
LAST-MODIFIED:20241113T021228Z
UID:28504-1736154900-1736156700@nicolejohnston.com.au
SUMMARY:Annerley Library | First 5 Forever Toddler Time
DESCRIPTION:Meet other parents and toddlers for a fun session of singing\, clapping and dancing. Learn action rhymes and songs which will help your child’s pre-literacy\, communication\, language and social skills. Ideal for babies and toddlers aged 1-2 years.
URL:https://nicolejohnston.com.au/event/annerley-library-first-5-forever-toddler-time-15/
LOCATION:Annerley Library\, 469 Ipswich Rd\, Annerley\, Queensland\, 4103\, Australia
GEO:-27.5115338;153.0317863
X-APPLE-STRUCTURED-LOCATION;VALUE=URI;X-ADDRESS=Annerley Library 469 Ipswich Rd Annerley Queensland 4103 Australia;X-APPLE-RADIUS=500;X-TITLE=469 Ipswich Rd:geo:153.0317863,-27.5115338
END:VEVENT
BEGIN:VEVENT
DTSTART;TZID=Australia/Brisbane:20250103T091500
DTEND;TZID=Australia/Brisbane:20250103T094500
DTSTAMP:20260426T005104
CREATED:20241113T021120Z
LAST-MODIFIED:20241113T021120Z
UID:28502-1735895700-1735897500@nicolejohnston.com.au
SUMMARY:Annerley Library | First 5 Forever Babies\, Books and Rhymes
DESCRIPTION:Meet other parents and babies for a fun session of singing\, clapping and dancing. Learn songs and action rhymes to nurture your baby’s pre-literacy\, communication\, language and social skills. Ideal for babies aged up to one year.
URL:https://nicolejohnston.com.au/event/annerley-library-first-5-forever-babies-books-and-rhymes-14/
LOCATION:Annerley Library\, 469 Ipswich Rd\, Annerley\, Queensland\, 4103\, Australia
GEO:-27.5115338;153.0317863
X-APPLE-STRUCTURED-LOCATION;VALUE=URI;X-ADDRESS=Annerley Library 469 Ipswich Rd Annerley Queensland 4103 Australia;X-APPLE-RADIUS=500;X-TITLE=469 Ipswich Rd:geo:153.0317863,-27.5115338
END:VEVENT
BEGIN:VEVENT
DTSTART;TZID=Australia/Brisbane:20241230T110000
DTEND;TZID=Australia/Brisbane:20241230T113000
DTSTAMP:20260426T005104
CREATED:20241113T020856Z
LAST-MODIFIED:20241113T020856Z
UID:28498-1735556400-1735558200@nicolejohnston.com.au
SUMMARY:Annerley Library | First 5 Forever Children's Storytime
DESCRIPTION:Experience the magic of storytime with your child at the library. This interactive session includes stories\, songs and mark making activities for young children. Ideal for children aged 2-5 years.
URL:https://nicolejohnston.com.au/event/annerley-library-first-5-forever-childrens-storytime-10/
LOCATION:Annerley Library\, 469 Ipswich Rd\, Annerley\, Queensland\, 4103\, Australia
GEO:-27.5115338;153.0317863
X-APPLE-STRUCTURED-LOCATION;VALUE=URI;X-ADDRESS=Annerley Library 469 Ipswich Rd Annerley Queensland 4103 Australia;X-APPLE-RADIUS=500;X-TITLE=469 Ipswich Rd:geo:153.0317863,-27.5115338
END:VEVENT
BEGIN:VEVENT
DTSTART;TZID=Australia/Brisbane:20241230T091500
DTEND;TZID=Australia/Brisbane:20241230T094500
DTSTAMP:20260426T005104
CREATED:20241113T020753Z
LAST-MODIFIED:20241113T020753Z
UID:28496-1735550100-1735551900@nicolejohnston.com.au
SUMMARY:Annerley Library | First 5 Forever Toddler Time
DESCRIPTION:Meet other parents and toddlers for a fun session of singing\, clapping and dancing. Learn action rhymes and songs which will help your child’s pre-literacy\, communication\, language and social skills. Ideal for babies and toddlers aged 1-2 years.
URL:https://nicolejohnston.com.au/event/annerley-library-first-5-forever-toddler-time-14/
LOCATION:Annerley Library\, 469 Ipswich Rd\, Annerley\, Queensland\, 4103\, Australia
GEO:-27.5115338;153.0317863
X-APPLE-STRUCTURED-LOCATION;VALUE=URI;X-ADDRESS=Annerley Library 469 Ipswich Rd Annerley Queensland 4103 Australia;X-APPLE-RADIUS=500;X-TITLE=469 Ipswich Rd:geo:153.0317863,-27.5115338
END:VEVENT
BEGIN:VEVENT
DTSTART;TZID=Australia/Brisbane:20241223T110000
DTEND;TZID=Australia/Brisbane:20241223T113000
DTSTAMP:20260426T005104
CREATED:20241113T020517Z
LAST-MODIFIED:20241113T020517Z
UID:28494-1734951600-1734953400@nicolejohnston.com.au
SUMMARY:Annerley Library | Christmas in the Library
DESCRIPTION:Experience the magic of storytime with your child at the library. This interactive session includes stories\, songs and mark making activities for young children. Ideal for children aged 2-5 years.
URL:https://nicolejohnston.com.au/event/annerley-library-christmas-in-the-library/
LOCATION:Annerley Library\, 469 Ipswich Rd\, Annerley\, Queensland\, 4103\, Australia
GEO:-27.5115338;153.0317863
X-APPLE-STRUCTURED-LOCATION;VALUE=URI;X-ADDRESS=Annerley Library 469 Ipswich Rd Annerley Queensland 4103 Australia;X-APPLE-RADIUS=500;X-TITLE=469 Ipswich Rd:geo:153.0317863,-27.5115338
END:VEVENT
BEGIN:VEVENT
DTSTART;TZID=Australia/Brisbane:20241223T091500
DTEND;TZID=Australia/Brisbane:20241223T094500
DTSTAMP:20260426T005104
CREATED:20241113T020412Z
LAST-MODIFIED:20241113T020412Z
UID:28492-1734945300-1734947100@nicolejohnston.com.au
SUMMARY:Annerley Library | First 5 Forever Toddler Time
DESCRIPTION:Meet other parents and toddlers for a fun session of singing\, clapping and dancing. Learn action rhymes and songs which will help your child’s pre-literacy\, communication\, language and social skills. Ideal for babies and toddlers aged 1-2 years.
URL:https://nicolejohnston.com.au/event/annerley-library-first-5-forever-toddler-time-13/
LOCATION:Annerley Library\, 469 Ipswich Rd\, Annerley\, Queensland\, 4103\, Australia
GEO:-27.5115338;153.0317863
X-APPLE-STRUCTURED-LOCATION;VALUE=URI;X-ADDRESS=Annerley Library 469 Ipswich Rd Annerley Queensland 4103 Australia;X-APPLE-RADIUS=500;X-TITLE=469 Ipswich Rd:geo:153.0317863,-27.5115338
END:VEVENT
BEGIN:VEVENT
DTSTART;TZID=Australia/Brisbane:20241220T110000
DTEND;TZID=Australia/Brisbane:20241220T120000
DTSTAMP:20260426T005104
CREATED:20241113T020155Z
LAST-MODIFIED:20241113T020155Z
UID:28488-1734692400-1734696000@nicolejohnston.com.au
SUMMARY:Annerley Library | Dash Robots
DESCRIPTION:Discover a new world of learning\, play and adventure with Dash robots. Participants will learn programming concepts and send simple commands to control a robot. No previous programming experience required. Ideal for children aged 5-8 years. \nA BNEtechkids workshop. \nBookings required. Phone Annerley Library on 07 3403 1735 to reserve your place.
URL:https://nicolejohnston.com.au/event/annerley-library-dash-robots-3/
LOCATION:Annerley Library\, 469 Ipswich Rd\, Annerley\, Queensland\, 4103\, Australia
GEO:-27.5115338;153.0317863
X-APPLE-STRUCTURED-LOCATION;VALUE=URI;X-ADDRESS=Annerley Library 469 Ipswich Rd Annerley Queensland 4103 Australia;X-APPLE-RADIUS=500;X-TITLE=469 Ipswich Rd:geo:153.0317863,-27.5115338
END:VEVENT
BEGIN:VEVENT
DTSTART;TZID=Australia/Brisbane:20241220T110000
DTEND;TZID=Australia/Brisbane:20241220T120000
DTSTAMP:20260426T005104
CREATED:20241113T011143Z
LAST-MODIFIED:20241113T011143Z
UID:28422-1734692400-1734696000@nicolejohnston.com.au
SUMMARY:Annerley Library | Dash Robots
DESCRIPTION:Discover a new world of learning\, play and adventure with Dash robots. Participants will learn programming concepts and send simple commands to control a robot. No previous programming experience required. Ideal for children aged 5-8 years. \nA BNEtechkids workshop. \nBookings required. Phone Annerley Library on 07 3403 1735 to reserve your place.
URL:https://nicolejohnston.com.au/event/annerley-library-dash-robots-2/
LOCATION:Annerley Library\, 469 Ipswich Rd\, Annerley\, Queensland\, 4103\, Australia
GEO:-27.5115338;153.0317863
X-APPLE-STRUCTURED-LOCATION;VALUE=URI;X-ADDRESS=Annerley Library 469 Ipswich Rd Annerley Queensland 4103 Australia;X-APPLE-RADIUS=500;X-TITLE=469 Ipswich Rd:geo:153.0317863,-27.5115338
END:VEVENT
BEGIN:VEVENT
DTSTART;TZID=Australia/Brisbane:20241220T091500
DTEND;TZID=Australia/Brisbane:20241220T094500
DTSTAMP:20260426T005104
CREATED:20241113T020033Z
LAST-MODIFIED:20241113T020033Z
UID:28486-1734686100-1734687900@nicolejohnston.com.au
SUMMARY:Annerley Library | First 5 Forever Babies\, Books and Rhymes
DESCRIPTION:Meet other parents and babies for a fun session of singing\, clapping and dancing. Learn songs and action rhymes to nurture your baby’s pre-literacy\, communication\, language and social skills. Ideal for babies aged up to one year.
URL:https://nicolejohnston.com.au/event/annerley-library-first-5-forever-babies-books-and-rhymes-13/
LOCATION:Annerley Library\, 469 Ipswich Rd\, Annerley\, Queensland\, 4103\, Australia
GEO:-27.5115338;153.0317863
X-APPLE-STRUCTURED-LOCATION;VALUE=URI;X-ADDRESS=Annerley Library 469 Ipswich Rd Annerley Queensland 4103 Australia;X-APPLE-RADIUS=500;X-TITLE=469 Ipswich Rd:geo:153.0317863,-27.5115338
END:VEVENT
BEGIN:VEVENT
DTSTART;TZID=Australia/Brisbane:20241220T091500
DTEND;TZID=Australia/Brisbane:20241220T094500
DTSTAMP:20260426T005104
CREATED:20241113T011425Z
LAST-MODIFIED:20241113T011425Z
UID:28426-1734686100-1734687900@nicolejohnston.com.au
SUMMARY:Annerley Library | First 5 Forever Babies\, Books and Rhymes
DESCRIPTION:Meet other parents and babies for a fun session of singing\, clapping and dancing. Learn songs and action rhymes to nurture your baby’s pre-literacy\, communication\, language and social skills. Ideal for babies aged up to one year.
URL:https://nicolejohnston.com.au/event/annerley-library-first-5-forever-babies-books-and-rhymes-10/
LOCATION:Annerley Library\, 469 Ipswich Rd\, Annerley\, Queensland\, 4103\, Australia
GEO:-27.5115338;153.0317863
X-APPLE-STRUCTURED-LOCATION;VALUE=URI;X-ADDRESS=Annerley Library 469 Ipswich Rd Annerley Queensland 4103 Australia;X-APPLE-RADIUS=500;X-TITLE=469 Ipswich Rd:geo:153.0317863,-27.5115338
END:VEVENT
BEGIN:VEVENT
DTSTART;TZID=Australia/Brisbane:20241217T110000
DTEND;TZID=Australia/Brisbane:20241217T130000
DTSTAMP:20260426T005104
CREATED:20241113T015521Z
LAST-MODIFIED:20241113T015521Z
UID:28478-1734433200-1734440400@nicolejohnston.com.au
SUMMARY:Annerley Library | Make and Create for Kids
DESCRIPTION:This school holidays\, drop into the library to get creative with free art and craft activities. Ideal for children aged. Ideal for children aged 3-8 years.
URL:https://nicolejohnston.com.au/event/annerley-library-make-and-create-for-kids-3/
LOCATION:Annerley Library\, 469 Ipswich Rd\, Annerley\, Queensland\, 4103\, Australia
GEO:-27.5115338;153.0317863
X-APPLE-STRUCTURED-LOCATION;VALUE=URI;X-ADDRESS=Annerley Library 469 Ipswich Rd Annerley Queensland 4103 Australia;X-APPLE-RADIUS=500;X-TITLE=469 Ipswich Rd:geo:153.0317863,-27.5115338
END:VEVENT
BEGIN:VEVENT
DTSTART;TZID=Australia/Brisbane:20241217T110000
DTEND;TZID=Australia/Brisbane:20241217T130000
DTSTAMP:20260426T005104
CREATED:20241113T010947Z
LAST-MODIFIED:20241113T010947Z
UID:28420-1734433200-1734440400@nicolejohnston.com.au
SUMMARY:Annerley Library | Make and Create for Kids
DESCRIPTION:This school holidays\, drop into the library to get creative with free art and craft activities. Ideal for children aged. Ideal for children aged 3-8 years.
URL:https://nicolejohnston.com.au/event/annerley-library-make-and-create-for-kids-2/
LOCATION:Annerley Library\, 469 Ipswich Rd\, Annerley\, Queensland\, 4103\, Australia
GEO:-27.5115338;153.0317863
X-APPLE-STRUCTURED-LOCATION;VALUE=URI;X-ADDRESS=Annerley Library 469 Ipswich Rd Annerley Queensland 4103 Australia;X-APPLE-RADIUS=500;X-TITLE=469 Ipswich Rd:geo:153.0317863,-27.5115338
END:VEVENT
BEGIN:VEVENT
DTSTART;TZID=Australia/Brisbane:20241217T110000
DTEND;TZID=Australia/Brisbane:20241217T120000
DTSTAMP:20260426T005104
CREATED:20241212T002020Z
LAST-MODIFIED:20241212T002020Z
UID:28694-1734433200-1734436800@nicolejohnston.com.au
SUMMARY:Annerley Library | Dash Robots
DESCRIPTION:Discover a new world of learning\, play and adventure with Dash robots. Participants will learn programming concepts and send simple commands to control a robot. No previous programming experience required. Ideal for children aged 5-8 years. \nA BNEtechkids workshop. \n\n\nBookings required. Phone Annerley Library on 07 3403 1735 to reserve your place.
URL:https://nicolejohnston.com.au/event/annerley-library-dash-robots-4/
LOCATION:Annerley Library\, 469 Ipswich Rd\, Annerley\, Queensland\, 4103\, Australia
GEO:-27.5115338;153.0317863
X-APPLE-STRUCTURED-LOCATION;VALUE=URI;X-ADDRESS=Annerley Library 469 Ipswich Rd Annerley Queensland 4103 Australia;X-APPLE-RADIUS=500;X-TITLE=469 Ipswich Rd:geo:153.0317863,-27.5115338
END:VEVENT
END:VCALENDAR