BEGIN:VCALENDAR
VERSION:2.0
PRODID:-//Nicole Johnston - ECPv6.15.20//NONSGML v1.0//EN
CALSCALE:GREGORIAN
METHOD:PUBLISH
X-WR-CALNAME:Nicole Johnston
X-ORIGINAL-URL:https://nicolejohnston.com.au
X-WR-CALDESC:Events for Nicole Johnston
REFRESH-INTERVAL;VALUE=DURATION:PT1H
X-Robots-Tag:noindex
X-PUBLISHED-TTL:PT1H
BEGIN:VTIMEZONE
TZID:Australia/Brisbane
BEGIN:STANDARD
TZOFFSETFROM:+1000
TZOFFSETTO:+1000
TZNAME:AEST
DTSTART:20230101T000000
END:STANDARD
END:VTIMEZONE
BEGIN:VEVENT
DTSTART;TZID=Australia/Brisbane:20241202T110000
DTEND;TZID=Australia/Brisbane:20241202T113000
DTSTAMP:20260426T074044
CREATED:20241113T012042Z
LAST-MODIFIED:20241113T012042Z
UID:28436-1733137200-1733139000@nicolejohnston.com.au
SUMMARY:Annerley Library | First 5 Forever Children's Storytime
DESCRIPTION:Experience the magic of storytime with your child at the library. This interactive session includes stories\, songs and mark making activities for young children. Ideal for children aged 2-5 years.
URL:https://nicolejohnston.com.au/event/annerley-library-first-5-forever-childrens-storytime-8/
LOCATION:Annerley Library\, 469 Ipswich Rd\, Annerley\, Queensland\, 4103\, Australia
GEO:-27.5115338;153.0317863
X-APPLE-STRUCTURED-LOCATION;VALUE=URI;X-ADDRESS=Annerley Library 469 Ipswich Rd Annerley Queensland 4103 Australia;X-APPLE-RADIUS=500;X-TITLE=469 Ipswich Rd:geo:153.0317863,-27.5115338
END:VEVENT
BEGIN:VEVENT
DTSTART;TZID=Australia/Brisbane:20241202T091500
DTEND;TZID=Australia/Brisbane:20241202T094500
DTSTAMP:20260426T074044
CREATED:20241113T011936Z
LAST-MODIFIED:20241113T011936Z
UID:28434-1733130900-1733132700@nicolejohnston.com.au
SUMMARY:Annerley Library |  First 5 Forever Toddler Time
DESCRIPTION:Meet other parents and toddlers for a fun session of singing\, clapping and dancing. Learn action rhymes and songs which will help your child’s pre-literacy\, communication\, language and social skills. Ideal for babies and toddlers aged 1-2 years.
URL:https://nicolejohnston.com.au/event/annerley-library-first-5-forever-toddler-time-10/
LOCATION:Annerley Library\, 469 Ipswich Rd\, Annerley\, Queensland\, 4103\, Australia
GEO:-27.5115338;153.0317863
X-APPLE-STRUCTURED-LOCATION;VALUE=URI;X-ADDRESS=Annerley Library 469 Ipswich Rd Annerley Queensland 4103 Australia;X-APPLE-RADIUS=500;X-TITLE=469 Ipswich Rd:geo:153.0317863,-27.5115338
END:VEVENT
BEGIN:VEVENT
DTSTART;TZID=Australia/Brisbane:20241129T091500
DTEND;TZID=Australia/Brisbane:20241129T094500
DTSTAMP:20260426T074044
CREATED:20240909T064437Z
LAST-MODIFIED:20240909T064437Z
UID:28183-1732871700-1732873500@nicolejohnston.com.au
SUMMARY:Annerley Library | First 5 Forever Babies\, Books and Rhymes
DESCRIPTION:Meet other parents and babies for a fun session of singing\, clapping and dancing. Learn songs and action rhymes to nurture your baby’s pre-literacy\, communication\, language and social skills. Ideal for babies aged up to one year.
URL:https://nicolejohnston.com.au/event/annerley-library-first-5-forever-babies-books-and-rhymes-9/
LOCATION:Annerley Library\, 469 Ipswich Rd\, Annerley\, Queensland\, 4103\, Australia
GEO:-27.5115338;153.0317863
X-APPLE-STRUCTURED-LOCATION;VALUE=URI;X-ADDRESS=Annerley Library 469 Ipswich Rd Annerley Queensland 4103 Australia;X-APPLE-RADIUS=500;X-TITLE=469 Ipswich Rd:geo:153.0317863,-27.5115338
END:VEVENT
BEGIN:VEVENT
DTSTART;TZID=Australia/Brisbane:20241125T110000
DTEND;TZID=Australia/Brisbane:20241125T113000
DTSTAMP:20260426T074044
CREATED:20240909T064153Z
LAST-MODIFIED:20240909T064153Z
UID:28179-1732532400-1732534200@nicolejohnston.com.au
SUMMARY:Annerley Library | First 5 Forever Children's Storytime
DESCRIPTION:Experience the magic of storytime with your child at the library. This interactive session includes stories\, songs and mark making activities for young children. Ideal for children aged 2-5 years.
URL:https://nicolejohnston.com.au/event/annerley-library-first-5-forever-childrens-storytime-7/
LOCATION:Annerley Library\, 469 Ipswich Rd\, Annerley\, Queensland\, 4103\, Australia
GEO:-27.5115338;153.0317863
X-APPLE-STRUCTURED-LOCATION;VALUE=URI;X-ADDRESS=Annerley Library 469 Ipswich Rd Annerley Queensland 4103 Australia;X-APPLE-RADIUS=500;X-TITLE=469 Ipswich Rd:geo:153.0317863,-27.5115338
END:VEVENT
BEGIN:VEVENT
DTSTART;TZID=Australia/Brisbane:20241125T091500
DTEND;TZID=Australia/Brisbane:20241125T094500
DTSTAMP:20260426T074044
CREATED:20240909T064014Z
LAST-MODIFIED:20240909T064014Z
UID:28177-1732526100-1732527900@nicolejohnston.com.au
SUMMARY:Annerley Library | First 5 Forever Toddler Time
DESCRIPTION:Meet other parents and toddlers for a fun session of singing\, clapping and dancing. Learn action rhymes and songs which will help your child’s pre-literacy\, communication\, language and social skills. Ideal for babies and toddlers aged 1-2 years.
URL:https://nicolejohnston.com.au/event/annerley-library-first-5-forever-toddler-time-7/
LOCATION:Annerley Library\, 469 Ipswich Rd\, Annerley\, Queensland\, 4103\, Australia
GEO:-27.5115338;153.0317863
X-APPLE-STRUCTURED-LOCATION;VALUE=URI;X-ADDRESS=Annerley Library 469 Ipswich Rd Annerley Queensland 4103 Australia;X-APPLE-RADIUS=500;X-TITLE=469 Ipswich Rd:geo:153.0317863,-27.5115338
END:VEVENT
BEGIN:VEVENT
DTSTART;TZID=Australia/Brisbane:20241122T091500
DTEND;TZID=Australia/Brisbane:20241122T094500
DTSTAMP:20260426T074044
CREATED:20240909T063602Z
LAST-MODIFIED:20240909T063602Z
UID:28173-1732266900-1732268700@nicolejohnston.com.au
SUMMARY:Annerley Library | First 5 Forever Babies\, Books and Rhymes
DESCRIPTION:Meet other parents and babies for a fun session of singing\, clapping and dancing. Learn songs and action rhymes to nurture your baby’s pre-literacy\, communication\, language and social skills. Ideal for babies aged up to one year.
URL:https://nicolejohnston.com.au/event/annerley-library-first-5-forever-babies-books-and-rhymes-8/
LOCATION:Annerley Library\, 469 Ipswich Rd\, Annerley\, Queensland\, 4103\, Australia
GEO:-27.5115338;153.0317863
X-APPLE-STRUCTURED-LOCATION;VALUE=URI;X-ADDRESS=Annerley Library 469 Ipswich Rd Annerley Queensland 4103 Australia;X-APPLE-RADIUS=500;X-TITLE=469 Ipswich Rd:geo:153.0317863,-27.5115338
END:VEVENT
BEGIN:VEVENT
DTSTART;TZID=Australia/Brisbane:20241118T110000
DTEND;TZID=Australia/Brisbane:20241118T113000
DTSTAMP:20260426T074044
CREATED:20240909T062635Z
LAST-MODIFIED:20240909T062635Z
UID:28167-1731927600-1731929400@nicolejohnston.com.au
SUMMARY:Annerley Library | First 5 Forever Children's Storytime
DESCRIPTION:Experience the magic of storytime with your child at the library. This interactive session includes stories\, songs and mark making activities for young children. Ideal for children aged 2-5 years.
URL:https://nicolejohnston.com.au/event/annerley-library-first-5-forever-childrens-storytime-6/
LOCATION:Annerley Library\, 469 Ipswich Rd\, Annerley\, Queensland\, 4103\, Australia
GEO:-27.5115338;153.0317863
X-APPLE-STRUCTURED-LOCATION;VALUE=URI;X-ADDRESS=Annerley Library 469 Ipswich Rd Annerley Queensland 4103 Australia;X-APPLE-RADIUS=500;X-TITLE=469 Ipswich Rd:geo:153.0317863,-27.5115338
END:VEVENT
BEGIN:VEVENT
DTSTART;TZID=Australia/Brisbane:20241118T091500
DTEND;TZID=Australia/Brisbane:20241118T094500
DTSTAMP:20260426T074044
CREATED:20240909T062439Z
LAST-MODIFIED:20240909T062439Z
UID:28165-1731921300-1731923100@nicolejohnston.com.au
SUMMARY:Annerley Library | First 5 Forever Toddler Time
DESCRIPTION:Meet other parents and toddlers for a fun session of singing\, clapping and dancing. Learn action rhymes and songs which will help your child’s pre-literacy\, communication\, language and social skills. Ideal for babies and toddlers aged 1-2 years.
URL:https://nicolejohnston.com.au/event/annerley-library-first-5-forever-toddler-time-6/
LOCATION:Annerley Library\, 469 Ipswich Rd\, Annerley\, Queensland\, 4103\, Australia
GEO:-27.5115338;153.0317863
X-APPLE-STRUCTURED-LOCATION;VALUE=URI;X-ADDRESS=Annerley Library 469 Ipswich Rd Annerley Queensland 4103 Australia;X-APPLE-RADIUS=500;X-TITLE=469 Ipswich Rd:geo:153.0317863,-27.5115338
END:VEVENT
BEGIN:VEVENT
DTSTART;TZID=Australia/Brisbane:20241115T091500
DTEND;TZID=Australia/Brisbane:20241115T094500
DTSTAMP:20260426T074044
CREATED:20240909T062125Z
LAST-MODIFIED:20240909T062125Z
UID:28161-1731662100-1731663900@nicolejohnston.com.au
SUMMARY:Annerley | First 5 Forever Babies\, Books and Rhymes
DESCRIPTION:Meet other parents and babies for a fun session of singing\, clapping and dancing. Learn songs and action rhymes to nurture your baby’s pre-literacy\, communication\, language and social skills. Ideal for babies aged up to one year.
URL:https://nicolejohnston.com.au/event/annerley-first-5-forever-babies-books-and-rhymes-2/
LOCATION:Annerley Library\, 469 Ipswich Rd\, Annerley\, Queensland\, 4103\, Australia
GEO:-27.5115338;153.0317863
X-APPLE-STRUCTURED-LOCATION;VALUE=URI;X-ADDRESS=Annerley Library 469 Ipswich Rd Annerley Queensland 4103 Australia;X-APPLE-RADIUS=500;X-TITLE=469 Ipswich Rd:geo:153.0317863,-27.5115338
END:VEVENT
BEGIN:VEVENT
DTSTART;TZID=Australia/Brisbane:20241111T110000
DTEND;TZID=Australia/Brisbane:20241111T113000
DTSTAMP:20260426T074044
CREATED:20240909T061631Z
LAST-MODIFIED:20240909T061631Z
UID:28153-1731322800-1731324600@nicolejohnston.com.au
SUMMARY:Annerley Library | First 5 Forever Children's Storytime
DESCRIPTION:Experience the magic of storytime with your child at the library. This interactive session includes stories\, songs and mark making activities for young children. Ideal for children aged 2-5 years.
URL:https://nicolejohnston.com.au/event/annerley-library-first-5-forever-childrens-storytime-5/
LOCATION:Annerley Library\, 469 Ipswich Rd\, Annerley\, Queensland\, 4103\, Australia
GEO:-27.5115338;153.0317863
X-APPLE-STRUCTURED-LOCATION;VALUE=URI;X-ADDRESS=Annerley Library 469 Ipswich Rd Annerley Queensland 4103 Australia;X-APPLE-RADIUS=500;X-TITLE=469 Ipswich Rd:geo:153.0317863,-27.5115338
END:VEVENT
BEGIN:VEVENT
DTSTART;TZID=Australia/Brisbane:20241111T091500
DTEND;TZID=Australia/Brisbane:20241111T094500
DTSTAMP:20260426T074044
CREATED:20240909T061530Z
LAST-MODIFIED:20240909T061530Z
UID:28151-1731316500-1731318300@nicolejohnston.com.au
SUMMARY:Annerley Library | First 5 Forever Toddler Time
DESCRIPTION:Meet other parents and toddlers for a fun session of singing\, clapping and dancing. Learn action rhymes and songs which will help your child’s pre-literacy\, communication\, language and social skills. Ideal for babies and toddlers aged 1-2 years.
URL:https://nicolejohnston.com.au/event/annerley-library-first-5-forever-toddler-time-5/
LOCATION:Annerley Library\, 469 Ipswich Rd\, Annerley\, Queensland\, 4103\, Australia
GEO:-27.5115338;153.0317863
X-APPLE-STRUCTURED-LOCATION;VALUE=URI;X-ADDRESS=Annerley Library 469 Ipswich Rd Annerley Queensland 4103 Australia;X-APPLE-RADIUS=500;X-TITLE=469 Ipswich Rd:geo:153.0317863,-27.5115338
END:VEVENT
BEGIN:VEVENT
DTSTART;TZID=Australia/Brisbane:20241108T091500
DTEND;TZID=Australia/Brisbane:20241108T094500
DTSTAMP:20260426T074044
CREATED:20240909T060948Z
LAST-MODIFIED:20240909T060948Z
UID:28149-1731057300-1731059100@nicolejohnston.com.au
SUMMARY:Annerley Library | First 5 Forever Babies\, Books and Rhymes
DESCRIPTION:Meet other parents and babies for a fun session of singing\, clapping and dancing. Learn songs and action rhymes to nurture your baby’s pre-literacy\, communication\, language and social skills. Ideal for babies aged up to one year.
URL:https://nicolejohnston.com.au/event/annerley-library-first-5-forever-babies-books-and-rhymes-7/
LOCATION:Annerley Library\, 469 Ipswich Rd\, Annerley\, Queensland\, 4103\, Australia
GEO:-27.5115338;153.0317863
X-APPLE-STRUCTURED-LOCATION;VALUE=URI;X-ADDRESS=Annerley Library 469 Ipswich Rd Annerley Queensland 4103 Australia;X-APPLE-RADIUS=500;X-TITLE=469 Ipswich Rd:geo:153.0317863,-27.5115338
END:VEVENT
BEGIN:VEVENT
DTSTART;TZID=Australia/Brisbane:20241104T110000
DTEND;TZID=Australia/Brisbane:20241104T113000
DTSTAMP:20260426T074044
CREATED:20240909T060339Z
LAST-MODIFIED:20240909T060339Z
UID:28145-1730718000-1730719800@nicolejohnston.com.au
SUMMARY:Annerley Library | First 5 Forever Children's Storytime
DESCRIPTION:Experience the magic of storytime with your child at the library. This interactive session includes stories\, songs and mark making activities for young children. Ideal for children aged 2-5 years.
URL:https://nicolejohnston.com.au/event/annerley-library-first-5-forever-childrens-storytime-4/
LOCATION:Annerley Library\, 469 Ipswich Rd\, Annerley\, Queensland\, 4103\, Australia
GEO:-27.5115338;153.0317863
X-APPLE-STRUCTURED-LOCATION;VALUE=URI;X-ADDRESS=Annerley Library 469 Ipswich Rd Annerley Queensland 4103 Australia;X-APPLE-RADIUS=500;X-TITLE=469 Ipswich Rd:geo:153.0317863,-27.5115338
END:VEVENT
BEGIN:VEVENT
DTSTART;TZID=Australia/Brisbane:20241104T091500
DTEND;TZID=Australia/Brisbane:20241104T094500
DTSTAMP:20260426T074044
CREATED:20240909T060100Z
LAST-MODIFIED:20240909T060100Z
UID:28143-1730711700-1730713500@nicolejohnston.com.au
SUMMARY:Annerley Library |  First 5 Forever Toddler Time
DESCRIPTION:Meet other parents and toddlers for a fun session of singing\, clapping and dancing. Learn action rhymes and songs which will help your child’s pre-literacy\, communication\, language and social skills. Ideal for babies and toddlers aged 1-2 years.
URL:https://nicolejohnston.com.au/event/annerley-library-first-5-forever-toddler-time-4/
LOCATION:Annerley Library\, 469 Ipswich Rd\, Annerley\, Queensland\, 4103\, Australia
GEO:-27.5115338;153.0317863
X-APPLE-STRUCTURED-LOCATION;VALUE=URI;X-ADDRESS=Annerley Library 469 Ipswich Rd Annerley Queensland 4103 Australia;X-APPLE-RADIUS=500;X-TITLE=469 Ipswich Rd:geo:153.0317863,-27.5115338
END:VEVENT
BEGIN:VEVENT
DTSTART;TZID=Australia/Brisbane:20241102T110000
DTEND;TZID=Australia/Brisbane:20241102T113000
DTSTAMP:20260426T074044
CREATED:20240909T055855Z
LAST-MODIFIED:20240909T055855Z
UID:28141-1730545200-1730547000@nicolejohnston.com.au
SUMMARY:Annerley Library | Family STEAM Morning
DESCRIPTION:Join us for a morning of games and activities exploring science\, technology\, reading and art. Enjoy different activities to challenge your thinking and bring out your creative side in a fun environment. Ideal for all ages.
URL:https://nicolejohnston.com.au/event/annerley-library-family-steam-morning/
LOCATION:Annerley Library\, 469 Ipswich Rd\, Annerley\, Queensland\, 4103\, Australia
GEO:-27.5115338;153.0317863
X-APPLE-STRUCTURED-LOCATION;VALUE=URI;X-ADDRESS=Annerley Library 469 Ipswich Rd Annerley Queensland 4103 Australia;X-APPLE-RADIUS=500;X-TITLE=469 Ipswich Rd:geo:153.0317863,-27.5115338
END:VEVENT
BEGIN:VEVENT
DTSTART;TZID=Australia/Brisbane:20241101T091500
DTEND;TZID=Australia/Brisbane:20241101T094500
DTSTAMP:20260426T074044
CREATED:20240909T053939Z
LAST-MODIFIED:20240909T053939Z
UID:28139-1730452500-1730454300@nicolejohnston.com.au
SUMMARY:Annerley Library | First 5 Forever Babies\, Books and Rhymes
DESCRIPTION:Meet other parents and babies for a fun session of singing\, clapping and dancing. Learn songs and action rhymes to nurture your baby’s pre-literacy\, communication\, language and social skills. Ideal for babies aged up to one year.
URL:https://nicolejohnston.com.au/event/annerley-library-first-5-forever-babies-books-and-rhymes-6/
LOCATION:Annerley Library\, 469 Ipswich Rd\, Annerley\, Queensland\, 4103\, Australia
GEO:-27.5115338;153.0317863
X-APPLE-STRUCTURED-LOCATION;VALUE=URI;X-ADDRESS=Annerley Library 469 Ipswich Rd Annerley Queensland 4103 Australia;X-APPLE-RADIUS=500;X-TITLE=469 Ipswich Rd:geo:153.0317863,-27.5115338
END:VEVENT
BEGIN:VEVENT
DTSTART;TZID=Australia/Brisbane:20241028T110000
DTEND;TZID=Australia/Brisbane:20241028T113000
DTSTAMP:20260426T074044
CREATED:20240909T053138Z
LAST-MODIFIED:20240909T053138Z
UID:28133-1730113200-1730115000@nicolejohnston.com.au
SUMMARY:Annerley Library | First 5 Forever Children's Storytime
DESCRIPTION:Experience the magic of storytime with your child at the library. This interactive session includes stories\, songs and mark making activities for young children. Ideal for children aged 2-5 years.
URL:https://nicolejohnston.com.au/event/annerley-library-first-5-forever-childrens-storytime-3/
LOCATION:Annerley Library\, 469 Ipswich Rd\, Annerley\, Queensland\, 4103\, Australia
GEO:-27.5115338;153.0317863
X-APPLE-STRUCTURED-LOCATION;VALUE=URI;X-ADDRESS=Annerley Library 469 Ipswich Rd Annerley Queensland 4103 Australia;X-APPLE-RADIUS=500;X-TITLE=469 Ipswich Rd:geo:153.0317863,-27.5115338
END:VEVENT
BEGIN:VEVENT
DTSTART;TZID=Australia/Brisbane:20241028T091500
DTEND;TZID=Australia/Brisbane:20241028T094500
DTSTAMP:20260426T074044
CREATED:20240909T052949Z
LAST-MODIFIED:20240909T052949Z
UID:28131-1730106900-1730108700@nicolejohnston.com.au
SUMMARY:Annerley Library | First 5 Forever Toddler Time
DESCRIPTION:Meet other parents and toddlers for a fun session of singing\, clapping and dancing. Learn action rhymes and songs which will help your child’s pre-literacy\, communication\, language and social skills. Ideal for babies and toddlers aged 1-2 years.
URL:https://nicolejohnston.com.au/event/annerley-library-first-5-forever-toddler-time-3/
LOCATION:Annerley Library\, 469 Ipswich Rd\, Annerley\, Queensland\, 4103\, Australia
GEO:-27.5115338;153.0317863
X-APPLE-STRUCTURED-LOCATION;VALUE=URI;X-ADDRESS=Annerley Library 469 Ipswich Rd Annerley Queensland 4103 Australia;X-APPLE-RADIUS=500;X-TITLE=469 Ipswich Rd:geo:153.0317863,-27.5115338
END:VEVENT
BEGIN:VEVENT
DTSTART;TZID=Australia/Brisbane:20241025T091500
DTEND;TZID=Australia/Brisbane:20241025T094500
DTSTAMP:20260426T074044
CREATED:20240909T052818Z
LAST-MODIFIED:20240909T052818Z
UID:28129-1729847700-1729849500@nicolejohnston.com.au
SUMMARY:Annerley Library | First 5 Forever Babies\, Books and Rhymes
DESCRIPTION:Meet other parents and babies for a fun session of singing\, clapping and dancing. Learn songs and action rhymes to nurture your baby’s pre-literacy\, communication\, language and social skills. Ideal for babies aged up to one year.
URL:https://nicolejohnston.com.au/event/annerley-library-first-5-forever-babies-books-and-rhymes-5/
LOCATION:Annerley Library\, 469 Ipswich Rd\, Annerley\, Queensland\, 4103\, Australia
GEO:-27.5115338;153.0317863
X-APPLE-STRUCTURED-LOCATION;VALUE=URI;X-ADDRESS=Annerley Library 469 Ipswich Rd Annerley Queensland 4103 Australia;X-APPLE-RADIUS=500;X-TITLE=469 Ipswich Rd:geo:153.0317863,-27.5115338
END:VEVENT
BEGIN:VEVENT
DTSTART;TZID=Australia/Brisbane:20241021T110000
DTEND;TZID=Australia/Brisbane:20241021T113000
DTSTAMP:20260426T074044
CREATED:20240909T052230Z
LAST-MODIFIED:20240909T052230Z
UID:28123-1729508400-1729510200@nicolejohnston.com.au
SUMMARY:Annerley Library | First 5 Forever Children's Storytime
DESCRIPTION:Experience the magic of storytime with your child at the library. This interactive session includes stories\, songs and mark making activities for young children. Ideal for children aged 2-5 years.
URL:https://nicolejohnston.com.au/event/annerley-library-first-5-forever-childrens-storytime-2/
LOCATION:Annerley Library\, 469 Ipswich Rd\, Annerley\, Queensland\, 4103\, Australia
GEO:-27.5115338;153.0317863
X-APPLE-STRUCTURED-LOCATION;VALUE=URI;X-ADDRESS=Annerley Library 469 Ipswich Rd Annerley Queensland 4103 Australia;X-APPLE-RADIUS=500;X-TITLE=469 Ipswich Rd:geo:153.0317863,-27.5115338
END:VEVENT
BEGIN:VEVENT
DTSTART;TZID=Australia/Brisbane:20241021T091500
DTEND;TZID=Australia/Brisbane:20241021T094500
DTSTAMP:20260426T074044
CREATED:20240909T052127Z
LAST-MODIFIED:20240909T052127Z
UID:28121-1729502100-1729503900@nicolejohnston.com.au
SUMMARY:Annerley Library | First 5 Forever Toddler Time
DESCRIPTION:Meet other parents and toddlers for a fun session of singing\, clapping and dancing. Learn action rhymes and songs which will help your child’s pre-literacy\, communication\, language and social skills. Ideal for babies and toddlers aged 1-2 years.
URL:https://nicolejohnston.com.au/event/annerley-library-first-5-forever-toddler-time-2/
LOCATION:Annerley Library\, 469 Ipswich Rd\, Annerley\, Queensland\, 4103\, Australia
GEO:-27.5115338;153.0317863
X-APPLE-STRUCTURED-LOCATION;VALUE=URI;X-ADDRESS=Annerley Library 469 Ipswich Rd Annerley Queensland 4103 Australia;X-APPLE-RADIUS=500;X-TITLE=469 Ipswich Rd:geo:153.0317863,-27.5115338
END:VEVENT
BEGIN:VEVENT
DTSTART;TZID=Australia/Brisbane:20241018T091500
DTEND;TZID=Australia/Brisbane:20241018T094500
DTSTAMP:20260426T074044
CREATED:20240909T051930Z
LAST-MODIFIED:20240909T051930Z
UID:28119-1729242900-1729244700@nicolejohnston.com.au
SUMMARY:Annerley Library | First 5 Forever Babies\, Books and Rhymes
DESCRIPTION:Meet other parents and babies for a fun session of singing\, clapping and dancing. Learn songs and action rhymes to nurture your baby’s pre-literacy\, communication\, language and social skills. Ideal for babies aged up to one year.
URL:https://nicolejohnston.com.au/event/annerley-library-first-5-forever-babies-books-and-rhymes-4/
LOCATION:Annerley Library\, 469 Ipswich Rd\, Annerley\, Queensland\, 4103\, Australia
GEO:-27.5115338;153.0317863
X-APPLE-STRUCTURED-LOCATION;VALUE=URI;X-ADDRESS=Annerley Library 469 Ipswich Rd Annerley Queensland 4103 Australia;X-APPLE-RADIUS=500;X-TITLE=469 Ipswich Rd:geo:153.0317863,-27.5115338
END:VEVENT
BEGIN:VEVENT
DTSTART;TZID=Australia/Brisbane:20241015T110000
DTEND;TZID=Australia/Brisbane:20241015T120000
DTSTAMP:20260426T074044
CREATED:20240909T045835Z
LAST-MODIFIED:20240909T045835Z
UID:28111-1728990000-1728993600@nicolejohnston.com.au
SUMMARY:Annerley Library | Get Online Week: Library E-books and Downloads
DESCRIPTION:Discover the wonderful range of free online resources available through Brisbane libraries. This session includes tips on how to read\, listen to or watch your favourite online library content including e-books\, magazines\, newspaper\, and music. Bring your own device\, library card and email account details. Ideal for adults. \nBookings required. Phone Annerley Library on 07 3403 1735 to reserve your place.
URL:https://nicolejohnston.com.au/event/annerley-library-get-online-week-library-e-books-and-downloads/
LOCATION:Annerley Library\, 469 Ipswich Rd\, Annerley\, Queensland\, 4103\, Australia
GEO:-27.5115338;153.0317863
X-APPLE-STRUCTURED-LOCATION;VALUE=URI;X-ADDRESS=Annerley Library 469 Ipswich Rd Annerley Queensland 4103 Australia;X-APPLE-RADIUS=500;X-TITLE=469 Ipswich Rd:geo:153.0317863,-27.5115338
END:VEVENT
BEGIN:VEVENT
DTSTART;TZID=Australia/Brisbane:20241014T110000
DTEND;TZID=Australia/Brisbane:20241014T113000
DTSTAMP:20260426T074044
CREATED:20240909T045218Z
LAST-MODIFIED:20240909T045218Z
UID:28109-1728903600-1728905400@nicolejohnston.com.au
SUMMARY:Annerley Library | Nature Book Week: First 5 Forever Children’s Storytime
DESCRIPTION:Celebrate Nature Book Week by creating your own collage using natural materials such as leaves\, bark\, flowers and foliage inspired by a nature-based story and picture books. Ideal for children aged 2-5 years.
URL:https://nicolejohnston.com.au/event/annerley-library-nature-book-week-first-5-forever-childrens-storytime/
LOCATION:Annerley Library\, 469 Ipswich Rd\, Annerley\, Queensland\, 4103\, Australia
GEO:-27.5115338;153.0317863
X-APPLE-STRUCTURED-LOCATION;VALUE=URI;X-ADDRESS=Annerley Library 469 Ipswich Rd Annerley Queensland 4103 Australia;X-APPLE-RADIUS=500;X-TITLE=469 Ipswich Rd:geo:153.0317863,-27.5115338
END:VEVENT
BEGIN:VEVENT
DTSTART;TZID=Australia/Brisbane:20241014T091500
DTEND;TZID=Australia/Brisbane:20241014T094500
DTSTAMP:20260426T074044
CREATED:20240910T021737Z
LAST-MODIFIED:20240910T021737Z
UID:28193-1728897300-1728899100@nicolejohnston.com.au
SUMMARY:Annerley Library | First 5 Forever Toddler Time
DESCRIPTION:Meet other parents and toddlers for a fun session of singing\, clapping and dancing. Learn action rhymes and songs which will help your child’s pre-literacy\, communication\, language and social skills. Ideal for babies and toddlers aged 1-2 years.
URL:https://nicolejohnston.com.au/event/annerley-library-first-5-forever-toddler-time-8/
LOCATION:Annerley Library\, 469 Ipswich Rd\, Annerley\, Queensland\, 4103\, Australia
GEO:-27.5115338;153.0317863
X-APPLE-STRUCTURED-LOCATION;VALUE=URI;X-ADDRESS=Annerley Library 469 Ipswich Rd Annerley Queensland 4103 Australia;X-APPLE-RADIUS=500;X-TITLE=469 Ipswich Rd:geo:153.0317863,-27.5115338
END:VEVENT
BEGIN:VEVENT
DTSTART;TZID=Australia/Brisbane:20241011T091500
DTEND;TZID=Australia/Brisbane:20241011T094500
DTSTAMP:20260426T074044
CREATED:20240909T044345Z
LAST-MODIFIED:20240909T044345Z
UID:28105-1728638100-1728639900@nicolejohnston.com.au
SUMMARY:Annerley Library |  First 5 Forever Babies\, Books and Rhymes
DESCRIPTION:Meet other parents and babies for a fun session of singing\, clapping and dancing. Learn songs and action rhymes to nurture your baby’s pre-literacy\, communication\, language and social skills. Ideal for babies aged up to one year. First 5 Forever is an initiative of the Queensland Government\, coordinated by State Library of Queensland and delivered in partnership with local government
URL:https://nicolejohnston.com.au/event/annerley-library-first-5-forever-babies-books-and-rhymes-3/
LOCATION:Annerley Library\, 469 Ipswich Rd\, Annerley\, Queensland\, 4103\, Australia
GEO:-27.5115338;153.0317863
X-APPLE-STRUCTURED-LOCATION;VALUE=URI;X-ADDRESS=Annerley Library 469 Ipswich Rd Annerley Queensland 4103 Australia;X-APPLE-RADIUS=500;X-TITLE=469 Ipswich Rd:geo:153.0317863,-27.5115338
END:VEVENT
BEGIN:VEVENT
DTSTART;TZID=Australia/Brisbane:20241008T110000
DTEND;TZID=Australia/Brisbane:20241008T120000
DTSTAMP:20260426T074044
CREATED:20240909T043351Z
LAST-MODIFIED:20240909T044151Z
UID:28092-1728385200-1728388800@nicolejohnston.com.au
SUMMARY:Annerley Library | Mental Health Week: Mindfulness Colouring for Adults
DESCRIPTION:Setting aside time to do mindful colouring can unveil a whole new way for adults to relax and focus while boosting wellbeing and reducing stress and anxiety. Come and join us for a relaxing morning of colouring. Ideal for adults. \nBookings required. Phone Annerley Library on 07 3403 1735 to reserve your place.
URL:https://nicolejohnston.com.au/event/annerley-mental-health-week-mindfulness-colouring-for-adults/
LOCATION:Annerley Library\, 469 Ipswich Rd\, Annerley\, Queensland\, 4103\, Australia
GEO:-27.5115338;153.0317863
X-APPLE-STRUCTURED-LOCATION;VALUE=URI;X-ADDRESS=Annerley Library 469 Ipswich Rd Annerley Queensland 4103 Australia;X-APPLE-RADIUS=500;X-TITLE=469 Ipswich Rd:geo:153.0317863,-27.5115338
END:VEVENT
BEGIN:VEVENT
DTSTART;TZID=Australia/Brisbane:20241005T110000
DTEND;TZID=Australia/Brisbane:20241005T113000
DTSTAMP:20260426T074044
CREATED:20240909T042421Z
LAST-MODIFIED:20240909T042421Z
UID:28090-1728126000-1728127800@nicolejohnston.com.au
SUMMARY:Annerley | Family STEAM Morning
DESCRIPTION:Join us for a morning of games and activities exploring science\, technology\, reading and art. Enjoy different activities to challenge your thinking and bring out your creative side in a fun environment. Ideal for all ages. \nBookings required. Phone Annerley Library on 07 3403 1735 to reserve your place.
URL:https://nicolejohnston.com.au/event/annerley-family-steam-morning-2/
LOCATION:Annerley Library\, 469 Ipswich Rd\, Annerley\, Queensland\, 4103\, Australia
GEO:-27.5115338;153.0317863
X-APPLE-STRUCTURED-LOCATION;VALUE=URI;X-ADDRESS=Annerley Library 469 Ipswich Rd Annerley Queensland 4103 Australia;X-APPLE-RADIUS=500;X-TITLE=469 Ipswich Rd:geo:153.0317863,-27.5115338
END:VEVENT
BEGIN:VEVENT
DTSTART;TZID=Australia/Brisbane:20241004T091500
DTEND;TZID=Australia/Brisbane:20241004T094500
DTSTAMP:20260426T074044
CREATED:20240909T042107Z
LAST-MODIFIED:20240909T044038Z
UID:28088-1728033300-1728035100@nicolejohnston.com.au
SUMMARY:Annerley Library | Babies\, Books and Rhymes
DESCRIPTION:Meet other parents and babies for a fun session of singing\, clapping and dancing. Learn songs and action rhymes to nurture your baby’s pre-literacy\, communication\, language and social skills. Ideal for babies aged up to one year.
URL:https://nicolejohnston.com.au/event/annerley-babies-books-and-rhymes-2/
LOCATION:Annerley Library\, 469 Ipswich Rd\, Annerley\, Queensland\, 4103\, Australia
GEO:-27.5115338;153.0317863
X-APPLE-STRUCTURED-LOCATION;VALUE=URI;X-ADDRESS=Annerley Library 469 Ipswich Rd Annerley Queensland 4103 Australia;X-APPLE-RADIUS=500;X-TITLE=469 Ipswich Rd:geo:153.0317863,-27.5115338
END:VEVENT
BEGIN:VEVENT
DTSTART;TZID=Australia/Brisbane:20240930T110000
DTEND;TZID=Australia/Brisbane:20240930T113000
DTSTAMP:20260426T074044
CREATED:20240807T042436Z
LAST-MODIFIED:20240807T060903Z
UID:27656-1727694000-1727695800@nicolejohnston.com.au
SUMMARY:Annerley Library | First 5 Forever Children's Storytime
DESCRIPTION:Experience the magic of storytime with your child at the library. This interactive session includes stories\, songs and mark making activities for young children. Ideal for children aged 2-5 years. \nThe First 5 Forever initiative is funded by the Queensland Government.
URL:https://nicolejohnston.com.au/event/annerley-library-first-5-forever-childrens-storytime/2024-09-30/
LOCATION:Annerley Library\, 469 Ipswich Rd\, Annerley\, Queensland\, 4103\, Australia
GEO:-27.5115338;153.0317863
X-APPLE-STRUCTURED-LOCATION;VALUE=URI;X-ADDRESS=Annerley Library 469 Ipswich Rd Annerley Queensland 4103 Australia;X-APPLE-RADIUS=500;X-TITLE=469 Ipswich Rd:geo:153.0317863,-27.5115338
END:VEVENT
END:VCALENDAR