BEGIN:VCALENDAR
VERSION:2.0
PRODID:-//Nicole Johnston - ECPv6.15.20//NONSGML v1.0//EN
CALSCALE:GREGORIAN
METHOD:PUBLISH
X-ORIGINAL-URL:https://nicolejohnston.com.au
X-WR-CALDESC:Events for Nicole Johnston
REFRESH-INTERVAL;VALUE=DURATION:PT1H
X-Robots-Tag:noindex
X-PUBLISHED-TTL:PT1H
BEGIN:VTIMEZONE
TZID:Australia/Brisbane
BEGIN:STANDARD
TZOFFSETFROM:+1000
TZOFFSETTO:+1000
TZNAME:AEST
DTSTART:20140101T000000
END:STANDARD
END:VTIMEZONE
BEGIN:VEVENT
DTSTART;TZID=Australia/Brisbane:20250920T140000
DTEND;TZID=Australia/Brisbane:20250920T200000
DTSTAMP:20260424T144735
CREATED:20250909T064004Z
LAST-MODIFIED:20250909T064004Z
UID:30782-1758376800-1758398400@nicolejohnston.com.au
SUMMARY:Graceville | Benarrawa 40th Birthday Celebration
DESCRIPTION:Please join our 40th Birthday Celebrations! Delicious food\, fun games and activities\, cultural demonstrations and workshops\, yarning and live music and entertainment. Family-friendly and inclusive from 2pm\, with music on the deck from 6pm. Everyone is welcome!
URL:https://nicolejohnston.com.au/event/graceville-benarrawa-40th-birthday-celebration/
LOCATION:Benarrawa Community Development Assn.\, 79 Waratah Avenue\, Graceville\, Queensland\, 4075\, Australia
CATEGORIES:Community Event
ATTACH;FMTTYPE=image/png:https://nicolejohnston.com.au/wp-content/uploads/2025/09/Benarrawa-40th-Birthday-Celebration.png
ORGANIZER;CN="Benarrawa Community Development Assn.":MAILTO:benarrawa@westnet.com.au
GEO:-27.518651;152.985055
X-APPLE-STRUCTURED-LOCATION;VALUE=URI;X-ADDRESS=Benarrawa Community Development Assn. 79 Waratah Avenue Graceville Queensland 4075 Australia;X-APPLE-RADIUS=500;X-TITLE=79 Waratah Avenue:geo:152.985055,-27.518651
END:VEVENT
BEGIN:VEVENT
DTSTART;TZID=Australia/Brisbane:20190915T100000
DTEND;TZID=Australia/Brisbane:20190915T160000
DTSTAMP:20260424T144735
CREATED:20190828T232752Z
LAST-MODIFIED:20190828T232753Z
UID:19397-1568541600-1568563200@nicolejohnston.com.au
SUMMARY:Graceville | Sustainable House Day
DESCRIPTION:
URL:https://nicolejohnston.com.au/event/graceville-sustainable-house-day/
LOCATION:Benarrawa Community Development Assn.\, 79 Waratah Avenue\, Graceville\, Queensland\, 4075\, Australia
GEO:-27.518651;152.985055
X-APPLE-STRUCTURED-LOCATION;VALUE=URI;X-ADDRESS=Benarrawa Community Development Assn. 79 Waratah Avenue Graceville Queensland 4075 Australia;X-APPLE-RADIUS=500;X-TITLE=79 Waratah Avenue:geo:152.985055,-27.518651
END:VEVENT
BEGIN:VEVENT
DTSTART;TZID=Australia/Brisbane:20180605T120000
DTEND;TZID=Australia/Brisbane:20180605T140000
DTSTAMP:20260424T144735
CREATED:20180531T004513Z
LAST-MODIFIED:20180531T004514Z
UID:17333-1528200000-1528207200@nicolejohnston.com.au
SUMMARY:Graceville | Mabo Day Community Lunch
DESCRIPTION:At this Autumn community lunch we will be celebrating Mabo Day. We invite you to come along and join the conversation on Eddie Mabo and the significance of his contribution in the area of Native Title. Aunty Celia Watego and her family will be bringing along traditional TI food. Bring a friend! Invite your neighbour!! And please also bring a plate or drink to share. \nPlease let us know if you are able to come by calling John or Paula on 3379 9925 or by emailing benarrawaprojects@westnet.com.au. \nEddie Mabo of Mer island in the Torres Strait spent a decade seeking official recognition of his people’s ownership of Mer and on 3 June 1992\, the High Court of Australia agreed\, rejecting the doctrine that Australia was terra nullius (land belonging to no-one) at the time of European settlement.
URL:https://nicolejohnston.com.au/event/graceville-mabo-day-community-lunch/
LOCATION:Benarrawa Community Development Assn.\, 79 Waratah Avenue\, Graceville\, Queensland\, 4075\, Australia
GEO:-27.518651;152.985055
X-APPLE-STRUCTURED-LOCATION;VALUE=URI;X-ADDRESS=Benarrawa Community Development Assn. 79 Waratah Avenue Graceville Queensland 4075 Australia;X-APPLE-RADIUS=500;X-TITLE=79 Waratah Avenue:geo:152.985055,-27.518651
END:VEVENT
BEGIN:VEVENT
DTSTART;TZID=Australia/Brisbane:20160705T120000
DTEND;TZID=Australia/Brisbane:20160705T140000
DTSTAMP:20260424T144735
CREATED:20160628T055919Z
LAST-MODIFIED:20160628T055919Z
UID:9412-1467720000-1467727200@nicolejohnston.com.au
SUMMARY:Benarrawa Community Lunch
DESCRIPTION:
URL:https://nicolejohnston.com.au/event/benarrawa-community-lunch-2/
LOCATION:Benarrawa Community Development Assn.\, 79 Waratah Avenue\, Graceville\, Queensland\, 4075\, Australia
ORGANIZER;CN="Benarrawa Community Development Assn.":MAILTO:benarrawa@westnet.com.au
GEO:-27.518651;152.985055
X-APPLE-STRUCTURED-LOCATION;VALUE=URI;X-ADDRESS=Benarrawa Community Development Assn. 79 Waratah Avenue Graceville Queensland 4075 Australia;X-APPLE-RADIUS=500;X-TITLE=79 Waratah Avenue:geo:152.985055,-27.518651
END:VEVENT
BEGIN:VEVENT
DTSTART;TZID=Australia/Brisbane:20160621T093000
DTEND;TZID=Australia/Brisbane:20160621T123000
DTSTAMP:20260424T144735
CREATED:20160613T042602Z
LAST-MODIFIED:20160613T042602Z
UID:9325-1466501400-1466512200@nicolejohnston.com.au
SUMMARY:Welcome to Country and Bush Tucker Garden Tour
DESCRIPTION:A guided journey through the bush tucker garden. Newly-arrived refugee students will develop an understanding of the cultures who have lived on this land and made Brisbane their home for thousands of years.
URL:https://nicolejohnston.com.au/event/welcome-to-country-and-bush-tucker-garden-tour/
LOCATION:Benarrawa Community Development Assn.\, 79 Waratah Avenue\, Graceville\, Queensland\, 4075\, Australia
GEO:-27.518651;152.985055
X-APPLE-STRUCTURED-LOCATION;VALUE=URI;X-ADDRESS=Benarrawa Community Development Assn. 79 Waratah Avenue Graceville Queensland 4075 Australia;X-APPLE-RADIUS=500;X-TITLE=79 Waratah Avenue:geo:152.985055,-27.518651
END:VEVENT
BEGIN:VEVENT
DTSTART;TZID=Australia/Brisbane:20160607T120000
DTEND;TZID=Australia/Brisbane:20160607T140000
DTSTAMP:20260424T144735
CREATED:20160603T034051Z
LAST-MODIFIED:20160603T034051Z
UID:9260-1465300800-1465308000@nicolejohnston.com.au
SUMMARY:Benarrawa Community Lunch
DESCRIPTION:
URL:https://nicolejohnston.com.au/event/benarrawa-community-lunch/
LOCATION:Benarrawa Community Development Assn.\, 79 Waratah Avenue\, Graceville\, Queensland\, 4075\, Australia
ORGANIZER;CN="Benarrawa Community Development Assn.":MAILTO:benarrawa@westnet.com.au
GEO:-27.518651;152.985055
X-APPLE-STRUCTURED-LOCATION;VALUE=URI;X-ADDRESS=Benarrawa Community Development Assn. 79 Waratah Avenue Graceville Queensland 4075 Australia;X-APPLE-RADIUS=500;X-TITLE=79 Waratah Avenue:geo:152.985055,-27.518651
END:VEVENT
BEGIN:VEVENT
DTSTART;TZID=Australia/Brisbane:20160515T080000
DTEND;TZID=Australia/Brisbane:20160515T110000
DTSTAMP:20260424T144735
CREATED:20160428T050816Z
LAST-MODIFIED:20160428T050816Z
UID:9070-1463299200-1463310000@nicolejohnston.com.au
SUMMARY:Graceville Community Garden Working Bee and Sausage Sizzle
DESCRIPTION:
URL:https://nicolejohnston.com.au/event/graceville-community-garden-working-bee-and-sausage-sizzle/
LOCATION:Benarrawa Community Development Assn.\, 79 Waratah Avenue\, Graceville\, Queensland\, 4075\, Australia
ORGANIZER;CN="Benarrawa Community Development Assn.":MAILTO:benarrawa@westnet.com.au
GEO:-27.518651;152.985055
X-APPLE-STRUCTURED-LOCATION;VALUE=URI;X-ADDRESS=Benarrawa Community Development Assn. 79 Waratah Avenue Graceville Queensland 4075 Australia;X-APPLE-RADIUS=500;X-TITLE=79 Waratah Avenue:geo:152.985055,-27.518651
END:VEVENT
BEGIN:VEVENT
DTSTART;TZID=Australia/Brisbane:20160503T120000
DTEND;TZID=Australia/Brisbane:20160503T140000
DTSTAMP:20260424T144735
CREATED:20160428T051624Z
LAST-MODIFIED:20160428T052004Z
UID:9072-1462276800-1462284000@nicolejohnston.com.au
SUMMARY:Community Lunch
DESCRIPTION:
URL:https://nicolejohnston.com.au/event/community-lunch-2/
LOCATION:Benarrawa Community Development Assn.\, 79 Waratah Avenue\, Graceville\, Queensland\, 4075\, Australia
ORGANIZER;CN="Benarrawa Community Development Assn.":MAILTO:benarrawa@westnet.com.au
GEO:-27.518651;152.985055
X-APPLE-STRUCTURED-LOCATION;VALUE=URI;X-ADDRESS=Benarrawa Community Development Assn. 79 Waratah Avenue Graceville Queensland 4075 Australia;X-APPLE-RADIUS=500;X-TITLE=79 Waratah Avenue:geo:152.985055,-27.518651
END:VEVENT
BEGIN:VEVENT
DTSTART;TZID=Australia/Brisbane:20160503T120000
DTEND;TZID=Australia/Brisbane:20160503T140000
DTSTAMP:20260424T144735
CREATED:20160428T041309Z
LAST-MODIFIED:20160428T041309Z
UID:9062-1462276800-1462284000@nicolejohnston.com.au
SUMMARY:Community Lunch
DESCRIPTION:
URL:https://nicolejohnston.com.au/event/community-lunch/
LOCATION:Benarrawa Community Development Assn.\, 79 Waratah Avenue\, Graceville\, Queensland\, 4075\, Australia
ORGANIZER;CN="Benarrawa Community Development Assn.":MAILTO:benarrawa@westnet.com.au
GEO:-27.518651;152.985055
X-APPLE-STRUCTURED-LOCATION;VALUE=URI;X-ADDRESS=Benarrawa Community Development Assn. 79 Waratah Avenue Graceville Queensland 4075 Australia;X-APPLE-RADIUS=500;X-TITLE=79 Waratah Avenue:geo:152.985055,-27.518651
END:VEVENT
BEGIN:VEVENT
DTSTART;TZID=Australia/Brisbane:20150524T070000
DTEND;TZID=Australia/Brisbane:20150524T080000
DTSTAMP:20260424T144735
CREATED:20150518T060144Z
LAST-MODIFIED:20150518T060144Z
UID:2974-1432450800-1432454400@nicolejohnston.com.au
SUMMARY:Graceville Community Garden
DESCRIPTION:A shared space in which people gather to strengthen community and grow food.
URL:https://nicolejohnston.com.au/event/graceville_community_garden/2015-05-24/
LOCATION:Benarrawa Community Development Assn.\, 79 Waratah Avenue\, Graceville\, Queensland\, 4075\, Australia
ORGANIZER;CN="Benarrawa Community Development Assn.":MAILTO:benarrawa@westnet.com.au
GEO:-27.518651;152.985055
X-APPLE-STRUCTURED-LOCATION;VALUE=URI;X-ADDRESS=Benarrawa Community Development Assn. 79 Waratah Avenue Graceville Queensland 4075 Australia;X-APPLE-RADIUS=500;X-TITLE=79 Waratah Avenue:geo:152.985055,-27.518651
END:VEVENT
BEGIN:VEVENT
DTSTART;TZID=Australia/Brisbane:20150520T093000
DTEND;TZID=Australia/Brisbane:20150520T233000
DTSTAMP:20260424T144735
CREATED:20150518T055824Z
LAST-MODIFIED:20150518T055845Z
UID:2763-1432114200-1432164600@nicolejohnston.com.au
SUMMARY:Nature Babes at Benarrawa
DESCRIPTION:Outdoor\, nature based playgroup for children aged 0 – 5 years and their parents/carers.
URL:https://nicolejohnston.com.au/event/nature-babes-at-benarrawa/2015-05-20/
LOCATION:Benarrawa Community Development Assn.\, 79 Waratah Avenue\, Graceville\, Queensland\, 4075\, Australia
ORGANIZER;CN="Benarrawa Community Development Assn.":MAILTO:benarrawa@westnet.com.au
GEO:-27.518651;152.985055
X-APPLE-STRUCTURED-LOCATION;VALUE=URI;X-ADDRESS=Benarrawa Community Development Assn. 79 Waratah Avenue Graceville Queensland 4075 Australia;X-APPLE-RADIUS=500;X-TITLE=79 Waratah Avenue:geo:152.985055,-27.518651
END:VEVENT
END:VCALENDAR