BEGIN:VCALENDAR
VERSION:2.0
PRODID:-//Nicole Johnston - ECPv6.15.20//NONSGML v1.0//EN
CALSCALE:GREGORIAN
METHOD:PUBLISH
X-ORIGINAL-URL:https://nicolejohnston.com.au
X-WR-CALDESC:Events for Nicole Johnston
REFRESH-INTERVAL;VALUE=DURATION:PT1H
X-Robots-Tag:noindex
X-PUBLISHED-TTL:PT1H
BEGIN:VTIMEZONE
TZID:Australia/Brisbane
BEGIN:STANDARD
TZOFFSETFROM:+1000
TZOFFSETTO:+1000
TZNAME:AEST
DTSTART:20240101T000000
END:STANDARD
END:VTIMEZONE
BEGIN:VEVENT
DTSTART;TZID=Australia/Brisbane:20260409T070000
DTEND;TZID=Australia/Brisbane:20260409T090000
DTSTAMP:20260424T080113
CREATED:20260119T014309Z
LAST-MODIFIED:20260119T020149Z
UID:31771-1775718000-1775725200@nicolejohnston.com.au
SUMMARY:Corinda | Creekcare: Benarrawa Reserve
DESCRIPTION:OCCA’s CreekCare Team is a roving group of volunteers that assists both OCCA Bushcare and Habitat Brisbane groups in Oxley Creek Catchment. The group meets at different regeneration sites each Thursday morning from 7 am to 9 am. \nCome along and enjoy the company of this hard working group of volunteers\, contribute to the maintenance of some significant sites in the catchment and share in morning tea. \nIf you are interested in being involved\, please contact the coordinator: Trevor Armstrong on 0414 691 264 or trevor.r.armstrong@gmail.com to confirm details of the next group.
URL:https://nicolejohnston.com.au/event/corinda-creekcare-benarrawa-reserve/2026-04-09/
LOCATION:Benarrawa Reserve\, 68 Gray Ave\, Corinda\, Queensland\, 4075\, Australia
ORGANIZER;CN="OCCA Creekcare Team":MAILTO:trevor.r.armstrong@gmail.com
END:VEVENT
BEGIN:VEVENT
DTSTART;TZID=Australia/Brisbane:20251129T080000
DTEND;TZID=Australia/Brisbane:20251129T100000
DTSTAMP:20260424T080113
CREATED:20250910T014246Z
LAST-MODIFIED:20250910T014246Z
UID:30830-1764403200-1764410400@nicolejohnston.com.au
SUMMARY:Corinda | Benarrawa Bushcare Group Working Bee
DESCRIPTION:The Benarrawa Bushcare Group meet the last Saturday of the month 8-10am. \nBookings required. For more information\, or to join a volunteer working bee\, contact Volunteer Group Leader Michael on 0422 131 256 or send an email.
URL:https://nicolejohnston.com.au/event/corinda-benarrawa-bushcare-group-working-bee-3/
LOCATION:Benarrawa Reserve\, 68 Gray Ave\, Corinda\, Queensland\, 4075\, Australia
ORGANIZER;CN="Benarrawa Bushcare Group":MAILTO:michaelthomaslawlor62@gmail.com
END:VEVENT
BEGIN:VEVENT
DTSTART;TZID=Australia/Brisbane:20251025T080000
DTEND;TZID=Australia/Brisbane:20251025T100000
DTSTAMP:20260424T080113
CREATED:20250910T013057Z
LAST-MODIFIED:20250910T013057Z
UID:30817-1761379200-1761386400@nicolejohnston.com.au
SUMMARY:Corinda | Benarrawa Bushcare Group Working Bee
DESCRIPTION:The Benarrawa Bushcare Group meet the last Saturday of the month 8-10am. \nBookings required. For more information\, or to join a volunteer working bee\, contact Volunteer Group Leader Michael on 0422 131 256 or send an email.
URL:https://nicolejohnston.com.au/event/corinda-benarrawa-bushcare-group-working-bee-2/
LOCATION:Benarrawa Reserve\, 68 Gray Ave\, Corinda\, Queensland\, 4075\, Australia
ORGANIZER;CN="Benarrawa Bushcare Group":MAILTO:michaelthomaslawlor62@gmail.com
END:VEVENT
BEGIN:VEVENT
DTSTART;TZID=Australia/Brisbane:20250927T080000
DTEND;TZID=Australia/Brisbane:20250927T100000
DTSTAMP:20260424T080113
CREATED:20250910T005928Z
LAST-MODIFIED:20250910T005928Z
UID:30798-1758960000-1758967200@nicolejohnston.com.au
SUMMARY:Corinda | Benarrawa Bushcare Group Working Bee
DESCRIPTION:The Benarrawa Bushcare Group meet the last Saturday of the month 8-10am. \nBookings required. For more information\, or to join a volunteer working bee\, contact Volunteer Group Leader Michael on 0422 131 256 or send an email.
URL:https://nicolejohnston.com.au/event/corinda-benarrawa-bushcare-group-working-bee/
LOCATION:Benarrawa Reserve\, 68 Gray Ave\, Corinda\, Queensland\, 4075\, Australia
ORGANIZER;CN="Benarrawa Bushcare Group":MAILTO:michaelthomaslawlor62@gmail.com
END:VEVENT
END:VCALENDAR