BEGIN:VCALENDAR
VERSION:2.0
PRODID:-//Nicole Johnston - ECPv6.15.20//NONSGML v1.0//EN
CALSCALE:GREGORIAN
METHOD:PUBLISH
X-WR-CALNAME:Nicole Johnston
X-ORIGINAL-URL:https://nicolejohnston.com.au
X-WR-CALDESC:Events for Nicole Johnston
REFRESH-INTERVAL;VALUE=DURATION:PT1H
X-Robots-Tag:noindex
X-PUBLISHED-TTL:PT1H
BEGIN:VTIMEZONE
TZID:Australia/Brisbane
BEGIN:STANDARD
TZOFFSETFROM:+1000
TZOFFSETTO:+1000
TZNAME:AEST
DTSTART:20140101T000000
END:STANDARD
END:VTIMEZONE
BEGIN:VEVENT
DTSTART;TZID=Australia/Brisbane:20151108T080000
DTEND;TZID=Australia/Brisbane:20151108T110000
DTSTAMP:20260424T215124
CREATED:20151102T200657Z
LAST-MODIFIED:20151102T200657Z
UID:4721-1446969600-1446980400@nicolejohnston.com.au
SUMMARY:Information Kiosk - Dutton Park Fairfield Neighbourhood Plan
DESCRIPTION:Council is holding information kiosks where you can speak one-on-one with a Council officer about the draft Dutton Park – Fairfield Neighbourhood Plan.
URL:https://nicolejohnston.com.au/event/information-kiosk-dutton-park-fairfield-neighbourhood-plan/
LOCATION:Boggo Rd Markets\, Boggo Rd\, Dutton Park\, Qld\, 4101\, Australia
GEO:-27.4944352;153.0289953
X-APPLE-STRUCTURED-LOCATION;VALUE=URI;X-ADDRESS=Boggo Rd Markets Boggo Rd Dutton Park Qld 4101 Australia;X-APPLE-RADIUS=500;X-TITLE=Boggo Rd:geo:153.0289953,-27.4944352
END:VEVENT
END:VCALENDAR