BEGIN:VCALENDAR
VERSION:2.0
PRODID:-//Nicole Johnston - ECPv6.15.20//NONSGML v1.0//EN
CALSCALE:GREGORIAN
METHOD:PUBLISH
X-ORIGINAL-URL:https://nicolejohnston.com.au
X-WR-CALDESC:Events for Nicole Johnston
REFRESH-INTERVAL;VALUE=DURATION:PT1H
X-Robots-Tag:noindex
X-PUBLISHED-TTL:PT1H
BEGIN:VTIMEZONE
TZID:Australia/Brisbane
BEGIN:STANDARD
TZOFFSETFROM:+1000
TZOFFSETTO:+1000
TZNAME:AEST
DTSTART:20140101T000000
END:STANDARD
END:VTIMEZONE
BEGIN:VEVENT
DTSTART;TZID=Australia/Brisbane:20220618T090000
DTEND;TZID=Australia/Brisbane:20220618T180000
DTSTAMP:20260424T145056
CREATED:20220613T070112Z
LAST-MODIFIED:20220613T070113Z
UID:25582-1655542800-1655575200@nicolejohnston.com.au
SUMMARY:Half Dozen Group of Artists 81st Annual Exhibition
DESCRIPTION:
URL:https://nicolejohnston.com.au/event/half-dozen-group-of-artists-81st-annual-exhibition/2022-06-18/
LOCATION:Brisbane Botanic Gardens\, Mt Coot-tha\, 157 Mt Coot-tha Rd\, Mt Coot-tha\, Qld\, Australia
CATEGORIES:Community Event
ATTACH;FMTTYPE=image/png:https://nicolejohnston.com.au/wp-content/uploads/2022/06/HDG-Artists-Exhibition.png
GEO:-27.4732557;152.972692
X-APPLE-STRUCTURED-LOCATION;VALUE=URI;X-ADDRESS=Brisbane Botanic Gardens Mt Coot-tha 157 Mt Coot-tha Rd Mt Coot-tha Qld Australia;X-APPLE-RADIUS=500;X-TITLE=157 Mt Coot-tha Rd:geo:152.972692,-27.4732557
END:VEVENT
BEGIN:VEVENT
DTSTART;TZID=Australia/Brisbane:20160922T100000
DTEND;TZID=Australia/Brisbane:20160922T140000
DTSTAMP:20260424T145056
CREATED:20160913T044012Z
LAST-MODIFIED:20160913T051109Z
UID:10064-1474538400-1474552800@nicolejohnston.com.au
SUMMARY:School Holidays | Poke-tanical Hunt
DESCRIPTION:Come play Poke-tanical the plant and animal hunting game in the Botanic Gardens. Safely hunt through the gardens to find our special specimens and “battle” to win badges.\nBrisbane Botanic Gardens\, Mt Coot-tha \n 
URL:https://nicolejohnston.com.au/event/mt-cooth-tha-poke-tanical-hunt/
LOCATION:Brisbane Botanic Gardens\, Mt Coot-tha\, 157 Mt Coot-tha Rd\, Mt Coot-tha\, Qld\, Australia
GEO:-27.4732557;152.972692
X-APPLE-STRUCTURED-LOCATION;VALUE=URI;X-ADDRESS=Brisbane Botanic Gardens Mt Coot-tha 157 Mt Coot-tha Rd Mt Coot-tha Qld Australia;X-APPLE-RADIUS=500;X-TITLE=157 Mt Coot-tha Rd:geo:152.972692,-27.4732557
END:VEVENT
BEGIN:VEVENT
DTSTART;TZID=Australia/Brisbane:20151025T100000
DTEND;TZID=Australia/Brisbane:20151025T140000
DTSTAMP:20260424T145056
CREATED:20151015T081308Z
LAST-MODIFIED:20151015T081308Z
UID:4499-1445767200-1445781600@nicolejohnston.com.au
SUMMARY:Children's Week Concert
DESCRIPTION:Smartie Pants the Clown will form a conga line as Sunnybank Brass 2 presents a bright and bouncy interactive children’s concert. \nLive music\, dance\, singing\, clowns\, encounters with nature and much more! \nBookings not required.
URL:https://nicolejohnston.com.au/event/childrens-week-concert/
LOCATION:Brisbane Botanic Gardens\, Mt Coot-tha\, 157 Mt Coot-tha Rd\, Mt Coot-tha\, Qld\, Australia
GEO:-27.4732557;152.972692
X-APPLE-STRUCTURED-LOCATION;VALUE=URI;X-ADDRESS=Brisbane Botanic Gardens Mt Coot-tha 157 Mt Coot-tha Rd Mt Coot-tha Qld Australia;X-APPLE-RADIUS=500;X-TITLE=157 Mt Coot-tha Rd:geo:152.972692,-27.4732557
END:VEVENT
END:VCALENDAR