BEGIN:VCALENDAR
VERSION:2.0
PRODID:-//Nicole Johnston - ECPv6.15.20//NONSGML v1.0//EN
CALSCALE:GREGORIAN
METHOD:PUBLISH
X-ORIGINAL-URL:https://nicolejohnston.com.au
X-WR-CALDESC:Events for Nicole Johnston
REFRESH-INTERVAL;VALUE=DURATION:PT1H
X-Robots-Tag:noindex
X-PUBLISHED-TTL:PT1H
BEGIN:VTIMEZONE
TZID:Australia/Brisbane
BEGIN:STANDARD
TZOFFSETFROM:+1000
TZOFFSETTO:+1000
TZNAME:AEST
DTSTART:20140101T000000
END:STANDARD
END:VTIMEZONE
BEGIN:VEVENT
DTSTART;TZID=Australia/Brisbane:20160919T113000
DTEND;TZID=Australia/Brisbane:20160919T123000
DTSTAMP:20260424T220539
CREATED:20160913T042534Z
LAST-MODIFIED:20160913T050439Z
UID:10051-1474284600-1474288200@nicolejohnston.com.au
SUMMARY:School Holidays | Comic Workshop with Cartoon Dave
DESCRIPTION:Cartooning workshop. Bookings essential.
URL:https://nicolejohnston.com.au/event/comic-workshop-with-cartoon-dave/
LOCATION:Brisbane Square Library\, 266 George Street\, Brisbane\, Queensland\, 4001\, Australia
GEO:-27.4706355;153.0222997
X-APPLE-STRUCTURED-LOCATION;VALUE=URI;X-ADDRESS=Brisbane Square Library 266 George Street Brisbane Queensland 4001 Australia;X-APPLE-RADIUS=500;X-TITLE=266 George Street:geo:153.0222997,-27.4706355
END:VEVENT
BEGIN:VEVENT
DTSTART;TZID=Australia/Brisbane:20160109T103000
DTEND;TZID=Australia/Brisbane:20160109T120000
DTSTAMP:20260424T220539
CREATED:20151015T093434Z
LAST-MODIFIED:20151015T093434Z
UID:4514-1452335400-1452340800@nicolejohnston.com.au
SUMMARY:Create and Edible Planter for Children
DESCRIPTION:Bookings required. \nChildren will learn how to create their very own pot of edible plants. We will look at how to pot up\, decorate your pot\, how to water\, fertilise and care for your plants and what are the benefits of growing your own. Presented by horticulturalist\, Claire Bickle. \nIdeal for children aged 5-12 years.
URL:https://nicolejohnston.com.au/event/create-and-edible-planter-for-children/
LOCATION:Brisbane Square Library\, 266 George Street\, Brisbane\, Queensland\, 4001\, Australia
GEO:-27.4706355;153.0222997
X-APPLE-STRUCTURED-LOCATION;VALUE=URI;X-ADDRESS=Brisbane Square Library 266 George Street Brisbane Queensland 4001 Australia;X-APPLE-RADIUS=500;X-TITLE=266 George Street:geo:153.0222997,-27.4706355
END:VEVENT
BEGIN:VEVENT
DTSTART;TZID=Australia/Brisbane:20151011T103000
DTEND;TZID=Australia/Brisbane:20151011T113000
DTSTAMP:20260424T220539
CREATED:20150915T094652Z
LAST-MODIFIED:20150915T094652Z
UID:4257-1444559400-1444563000@nicolejohnston.com.au
SUMMARY:Anti-Poverty Week Launch & Photojournalism Exhibition
DESCRIPTION:Hardship and poverty affect more than one million Australians and more than a billion people around the world are desperately poor.  This Anti-Poverty Week\, join us as we raise awareness of this vital issue. \nThe Brisbane launch of Anti-Poverty Week will unveil a moving Photojournalism Exhibition featuring images and stories captured by Griffith University students that bring to the forefront the issues of hardship and poverty in our own backyard. \nFor more information\, click here. \nRSVP is essential.
URL:https://nicolejohnston.com.au/event/anti-poverty-week-launch-photojournalism-exhibition/2015-10-11/
LOCATION:Brisbane Square Library\, 266 George Street\, Brisbane\, Queensland\, 4001\, Australia
ORGANIZER;CN="Wesley Mission Brisbane":MAILTO:events@wmb.org.au
GEO:-27.4706355;153.0222997
X-APPLE-STRUCTURED-LOCATION;VALUE=URI;X-ADDRESS=Brisbane Square Library 266 George Street Brisbane Queensland 4001 Australia;X-APPLE-RADIUS=500;X-TITLE=266 George Street:geo:153.0222997,-27.4706355
END:VEVENT
BEGIN:VEVENT
DTSTART;TZID=Australia/Brisbane:20150708T100000
DTEND;TZID=Australia/Brisbane:20150708T120000
DTSTAMP:20260424T220539
CREATED:20150602T060652Z
LAST-MODIFIED:20150602T060652Z
UID:3265-1436349600-1436356800@nicolejohnston.com.au
SUMMARY:NAIDOC Week Storytime - Brisbane
DESCRIPTION:We all stand on sacred ground: Learn\, Respect and Celebrate. \nEnjoy a special storytime celebrating Aboriginal and Torres Strait Islander cultures. \nIdeal for children aged 2 – 5 years. \n*Places are limited.  Bookings are essential.
URL:https://nicolejohnston.com.au/event/naidoc-week-storytime-brisbane/
LOCATION:Brisbane Square Library\, 266 George Street\, Brisbane\, Queensland\, 4001\, Australia
GEO:-27.4706355;153.0222997
X-APPLE-STRUCTURED-LOCATION;VALUE=URI;X-ADDRESS=Brisbane Square Library 266 George Street Brisbane Queensland 4001 Australia;X-APPLE-RADIUS=500;X-TITLE=266 George Street:geo:153.0222997,-27.4706355
END:VEVENT
END:VCALENDAR