BEGIN:VCALENDAR
VERSION:2.0
PRODID:-//Nicole Johnston - ECPv6.15.20//NONSGML v1.0//EN
CALSCALE:GREGORIAN
METHOD:PUBLISH
X-ORIGINAL-URL:https://nicolejohnston.com.au
X-WR-CALDESC:Events for Nicole Johnston
REFRESH-INTERVAL;VALUE=DURATION:PT1H
X-Robots-Tag:noindex
X-PUBLISHED-TTL:PT1H
BEGIN:VTIMEZONE
TZID:Australia/Brisbane
BEGIN:STANDARD
TZOFFSETFROM:+1000
TZOFFSETTO:+1000
TZNAME:AEST
DTSTART:20140101T000000
END:STANDARD
END:VTIMEZONE
BEGIN:VEVENT
DTSTART;TZID=Australia/Brisbane:20150913T080000
DTEND;TZID=Australia/Brisbane:20150913T140000
DTSTAMP:20260424T220724
CREATED:20150911T101616Z
LAST-MODIFIED:20150911T101616Z
UID:4071-1442131200-1442152800@nicolejohnston.com.au
SUMMARY:Green Heart Fair
DESCRIPTION:Council offers a range of events and activities to help you learn to live more sustainably.  Come along to a Green Up in your neighbourhood and have a great family fun day while getting the latest information about sustainability and the environment. \nPeppa & George Pig – Live Performance ~ Chukale ~ CC The Cat ~ MKR’s Bob and Dave Cooking Demonstration ~ Cheese Making Demonstrations ~ Keeping Bees ~ Happy Healthy Hens ~ Growing Great Herbs \nFace Painting ~ Rock Climbing w/ Bungee Jumps ~ Inflatable Obstacle Course ~ Under 5’s Jumping Castle ~ Vegie Seed Planting ~ Reverse Garbage Queensland ~ Hand on Art!
URL:https://nicolejohnston.com.au/event/green-heart-fair-2/
LOCATION:Carindale Recreation Reserve\, Cadogan Street\, Carindale\, Qld\, 4152\, Australia
GEO:-27.4961401;153.1135415
X-APPLE-STRUCTURED-LOCATION;VALUE=URI;X-ADDRESS=Carindale Recreation Reserve Cadogan Street Carindale Qld 4152 Australia;X-APPLE-RADIUS=500;X-TITLE=Cadogan Street:geo:153.1135415,-27.4961401
END:VEVENT
END:VCALENDAR