BEGIN:VCALENDAR
VERSION:2.0
PRODID:-//Nicole Johnston - ECPv6.15.20//NONSGML v1.0//EN
CALSCALE:GREGORIAN
METHOD:PUBLISH
X-WR-CALNAME:Nicole Johnston
X-ORIGINAL-URL:https://nicolejohnston.com.au
X-WR-CALDESC:Events for Nicole Johnston
REFRESH-INTERVAL;VALUE=DURATION:PT1H
X-Robots-Tag:noindex
X-PUBLISHED-TTL:PT1H
BEGIN:VTIMEZONE
TZID:Australia/Brisbane
BEGIN:STANDARD
TZOFFSETFROM:+1000
TZOFFSETTO:+1000
TZNAME:AEST
DTSTART:20140101T000000
END:STANDARD
END:VTIMEZONE
BEGIN:VEVENT
DTSTART;TZID=Australia/Brisbane:20160625T133000
DTEND;TZID=Australia/Brisbane:20160625T170000
DTSTAMP:20260424T234028
CREATED:20160613T035821Z
LAST-MODIFIED:20160613T035821Z
UID:9321-1466861400-1466874000@nicolejohnston.com.au
SUMMARY:The Mayne Inheritance - A Play Auditions - Centenary Theatre Group
DESCRIPTION:Centenary Theatre Group at the Chelmer Community Centre on Saturday 25 June at 1:30pm. The production requires four men and two women\, A list of parts can be found here. For more infortmation\, please contact Director Rod Felsch on 0416 164 064 or via email.
URL:https://nicolejohnston.com.au/event/the-mayne-inheritance-a-play-auditions-centenary-theatre-group/
LOCATION:Chelmer Community Centre\, Cnr Queenscroft & Halsbury St\, Chelmer\, Qld\, 4068\, Australia
ORGANIZER;CN="Centenary Theatre Group":MAILTO:enquiry@centenarytheatre.com.au	
GEO:-27.510819;152.9732006
X-APPLE-STRUCTURED-LOCATION;VALUE=URI;X-ADDRESS=Chelmer Community Centre Cnr Queenscroft & Halsbury St Chelmer Qld 4068 Australia;X-APPLE-RADIUS=500;X-TITLE=Cnr Queenscroft & Halsbury St:geo:152.9732006,-27.510819
END:VEVENT
BEGIN:VEVENT
DTSTART;TZID=Australia/Brisbane:20151102T093000
DTEND;TZID=Australia/Brisbane:20151102T103000
DTSTAMP:20260424T234028
CREATED:20151027T120755Z
LAST-MODIFIED:20151027T120755Z
UID:4609-1446456600-1446460200@nicolejohnston.com.au
SUMMARY:GOLD: Swiss Ball & Pilates
DESCRIPTION:Bookings required. \nA low intensity\, easy workout that includes a mixture of strength\, balance and Pilates exercises. \nPlease bring your own water bottle and swiss ball and small dumb bells if you have them.
URL:https://nicolejohnston.com.au/event/gold-swiss-ball-pilates/2015-11-02/
LOCATION:Chelmer Community Centre\, Cnr Queenscroft & Halsbury St\, Chelmer\, Qld\, 4068\, Australia
GEO:-27.510819;152.9732006
X-APPLE-STRUCTURED-LOCATION;VALUE=URI;X-ADDRESS=Chelmer Community Centre Cnr Queenscroft & Halsbury St Chelmer Qld 4068 Australia;X-APPLE-RADIUS=500;X-TITLE=Cnr Queenscroft & Halsbury St:geo:152.9732006,-27.510819
END:VEVENT
END:VCALENDAR